Workbook

Sheet 固定资产汇总
A1: 固定资产评估汇总表
A2: 评估基准日：2021年6月28日
A4: 被评估单位（或者产权持有单位）：江苏方舟数据网络管理有限公司 | G4: 金额单位：人民币元
A5: 编号 | B5: 科目名称 | C5: 账面价值 | E5: 评估价值 | G5: 增值额 | I5: 增值率%
C6: 原值 | D6: 净值 | E6: 原值 | F6: 净值 | G6: 原值 | H6: 净值 | I6: 原值 | J6: 净值
A7: 4-6-5 | B7: 固定资产-家具 | C7: ='[1]4-6-5家具'!H80 -> 0 | E7: =家具!J90 -> 158755 | F7: =家具!L90 -> 47677 | G7: =IF(OR(C7=0,C7=""),"",ROUND(E7-C7,2)) | H7: =IF(OR(D7=0,D7=""),"",ROUND(F7-D7,2)) | I7: =IF(OR(C7=0,C7=""),"",ROUND(G7/C7*100,2)) | J7: =IF(OR(D7=0,D7=""),"",ROUND(H7/D7*100,2))
A8: 4-6-6 | B8: 固定资产-电子设备 | C8: ='[1]4-6-6电子设备'!H43 -> 0 | D8: ='[1]4-6-6电子设备'!I43 -> 0 | E8: =电子设备!J49 -> 1807193 | F8: =电子设备!L49 -> 692917.7 | G8: =IF(OR(C8=0,C8=""),"",ROUND(E8-C8,2)) | H8: =IF(OR(D8=0,D8=""),"",ROUND(F8-D8,2)) | I8: =IF(OR(C8=0,C8=""),"",ROUND(G8/C8*100,2)) | J8: =IF(OR(D8=0,D8=""),"",ROUND(H8/D8*100,2))
G17: =IF(OR(C17=0,C17=""),"",ROUND(E17-C17,2)) | H17: =IF(OR(D17=0,D17=""),"",ROUND(F17-D17,2)) | I17: =IF(OR(C17=0,C17=""),"",ROUND(G17/C17*100,2)) | J17: =IF(OR(D17=0,D17=""),"",ROUND(H17/D17*100,2))
D18: ='[1]4-6-7土地'!L28 -> 0 | F18: ='[1]4-6-7土地'!M28 -> 0 | G18: =IF(OR(C18=0,C18=""),"",ROUND(E18-C18,2)) | H18: =IF(OR(D18=0,D18=""),"",ROUND(F18-D18,2)) | I18: =IF(OR(C18=0,C18=""),"",ROUND(G18/C18*100,2)) | J18: =IF(OR(D18=0,D18=""),"",ROUND(H18/D18*100,2))
G19: =IF(OR(C19=0,C19=""),"",ROUND(E19-C19,2)) | H19: =IF(OR(D19=0,D19=""),"",ROUND(F19-D19,2)) | I19: =IF(OR(C19=0,C19=""),"",ROUND(G19/C19*100,2)) | J19: =IF(OR(D19=0,D19=""),"",ROUND(H19/D19*100,2))
A20: 固定资产合计 | C20: =C7+C13+C18 -> 0 | D20: =D7+D13+D18 -> 0 | E20: =E7+E8 -> 1965948 | F20: =F7+F8 -> 740594.7 | G20: =IF(OR(C20=0,C20=""),"",ROUND(E20-C20,2)) | H20: =IF(OR(D20=0,D20=""),"",ROUND(F20-D20,2)) | I20: =IF(OR(C20=0,C20=""),"",ROUND(G20/C20*100,2)) | J20: =IF(OR(D20=0,D20=""),"",ROUND(H20/D20*100,2))
A21: 减：固定资产减值准备 | C21: ='[1]4-6-1房屋建筑物'!I26+'[1]4-6-2构筑物'!I26+'[1]4-6-3管道沟槽'!I26+'[1]4-6-4机器设备'!J107+'[1]4-6-5家具'!I67+'[1]4-6-6电子设备'!H52 -> 0 | G21: =IF(OR(C21=0,C21=""),"",ROUND(E21-C21,2)) | H21: =IF(OR(D21=0,D21=""),"",ROUND(F21-D21,2)) | I21: =IF(OR(C21=0,C21=""),"",ROUND(G21/C21*100,2)) | J21: =IF(OR(D21=0,D21=""),"",ROUND(H21/D21*100,2))
A22: 固定资产合计 | C22: =C20-C21 -> 0 | D22: =D20-D21 -> 0 | E22: =E20-E21 -> 1965948 | F22: =F20-F21 -> 740594.7 | G22: =IF(OR(C22=0,C22=""),"",ROUND(E22-C22,2)) | H22: =IF(OR(D22=0,D22=""),"",ROUND(F22-D22,2)) | I22: =IF(OR(C22=0,C22=""),"",ROUND(G22/C22*100,2)) | J22: =IF(OR(D22=0,D22=""),"",ROUND(H22/D22*100,2))
E23: =[1]基础信息!A3 -> 评估人员：朱新为 孙媛媛

Sheet 家具
A1: 固定资产—家具评估明细表
A2: =固定资产汇总!A2 -> 评估基准日：2021年6月28日
N3: 表4-6-5
A4: =固定资产汇总!A4 -> 被评估单位（或者产权持有单位）：江苏方舟数据网络管理有限公司 | N4: 金额单位：人民币元
A5: 序号 | B5: 设备名称 | C5: 规格型号 | D5: 计量单位 | E5: 数量 | F5: 启用日期 | G5: 购置日期 | H5: 账面价值 | J5: 评估价值 | M5: 增值率% | N5: 备注
H6: 原值 | I6: 净值 | J6: 原值 | K6: 成新率% | L6: 净值
A7: 1 | B7: 办公桌 | C7: 1.4*0.6*0.75 | D7: 组 | E7: 4 | F7: 41791 | J7: 1540 | K7: 40 | L7: 616 | M7: =IF(OR(I7=0,I7=""),"",ROUND((L7-I7)/I7*100,2)) | N7: 含0.8*0.4*0.63配套小桌
A8: 2 | B8: 墙边柜 | C8: 4.7*0.6*0.8 | D8: 个 | E8: 1 | F8: 41791 | J8: 2115 | K8: 20 | L8: 423 | M8: =IF(OR(I8=0,I8=""),"",ROUND((L8-I8)/I8*100,2)) | N8: 白色大理石台面
A9: 3 | B9: 文件柜 | C9: 0.86*0.38*1.8 | D9: 个 | E9: 2 | F9: 41791 | J9: 520 | K9: 40 | L9: 208 | M9: =IF(OR(I9=0,I9=""),"",ROUND((L9-I9)/I9*100,2)) | N9: 铁皮柜
A10: 4 | B10: 储物柜 | C10: 1.2*0.46*1.6 | D10: 个 | E10: 2 | F10: 41791 | J10: 570 | K10: 40 | L10: 228 | M10: =IF(OR(I10=0,I10=""),"",ROUND((L10-I10)/I10*100,2)) | N10: 铁皮柜
A11: 5 | B11: 皮质椅 | D11: 张 | E11: 3 | F11: 41791 | J11: 390 | K11: 25 | L11: 97.5 | M11: =IF(OR(I11=0,I11=""),"",ROUND((L11-I11)/I11*100,2)) | N11: 有点破损
A12: 6 | B12: 办公桌 | C12: 1.4*0.6*0.75 | D12: 组 | E12: 4 | F12: 41791 | J12: 1540 | K12: 40 | L12: 616 | N12: 含0.8*0.4*0.63配套小桌
A13: 7 | B13: 墙边柜 | C13: 4.7*0.6*0.8 | D13: 个 | E13: 1 | F13: 41791 | J13: 2115 | K13: 20 | L13: 423 | N13: 白色大理石台面
A14: 8 | B14: 文件柜 | C14: 0.86*0.38*1.8 | D14: 个 | E14: 3 | F14: 41791 | J14: 780 | K14: 40 | L14: 312 | N14: 铁皮柜
A15: 9 | B15: 保险箱 | C15: 0.4*0.4*0.6 | D15: 台 | E15: 1 | F15: 41791 | J15: 410 | K15: 20 | L15: 82 | N15: 开锁有破坏
A16: 10 | B16: 木躺椅 | D16: 张 | E16: 1 | F16: 41791 | J16: 110 | K16: 30 | L16: 33
A17: 11 | B17: 皮质椅 | D17: 张 | E17: 4 | F17: 41791 | J17: 520 | K17: 25 | L17: 130 | N17: 有点破损
A18: 12 | B18: 机柜 | C18: 1*0.6*1.8 | D18: 台 | E18: 1 | F18: 41791 | J18: 4850 | K18: 30 | L18: 1455 | N18: 含5台配套设备
A19: 13 | B19: 木柜 | C19: 0.85*0.6*0.5 | D19: 个 | E19: 1 | F19: 41791 | J19: 100 | K19: 30 | L19: 30 | N19: 放置打印机
A20: 14 | B20: 木桌 | C20: 1.4*0.7*0.75 | D20: 张 | E20: 1 | F20: 41791 | J20: 265 | K20: 30 | L20: 79.5
A21: 15 | B21: 墙边柜 | C21: 4.7*0.6*0.8 | D21: 个 | E21: 1 | F21: 41791 | J21: 2115 | K21: 20 | L21: 423 | N21: 白色大理石台面
A22: 16 | B22: 会议桌 | C22: 2.4*1.2*0.75 | D22: 张 | E22: 1 | F22: 41791 | J22: 2100 | K22: 40 | L22: 840
A23: 17 | B23: 皮质椅 | D23: 张 | E23: 8 | F23: 41791 | J23: 1040 | K23: 25 | L23: 260 | N23: 有点破损
A24: 18 | B24: 办公柜 | C24: 3*0.4*2.1 | D24: 组 | E24: 1 | F24: 41791 | J24: 26500 | K24: 30 | L24: 7950 | N24: 含主办公桌2.8*1.1*0.75+副桌1.6*0.7*0.55+办公椅
A25: 19 | B25: 衣架 | D25: 个 | E25: 1 | F25: 41791 | J25: 120 | K25: 20 | L25: 24
A26: 20 | B26: 保险柜 | C26: 1*0.5*0.47 | D26: 个 | E26: 1 | F26: 41791 | J26: 580 | K26: 20 | L26: 116 | N26: 开锁有破坏
A27: 21 | B27: 茶几 | C27: 0.6*0.6*0.5 | D27: 张 | E27: 1 | F27: 41791 | J27: 140 | K27: 40 | L27: 56 | N27: 木质
A28: 22 | B28: 沙发 | D28: 张 | E28: 2 | F28: 41791 | J28: 820 | K28: 40 | L28: 328 | N28: 木质皮沙发
A29: 23 | B29: 皮质椅 | D29: 张 | E29: 2 | F29: 41791 | J29: 420 | K29: 25 | L29: 105 | N29: 有点破损
A30: 24 | B30: 墙边柜 | C30: 4.7*0.6*0.8 | D30: 个 | E30: 1 | F30: 41791 | J30: 2115 | K30: 20 | L30: 423 | N30: 白色大理石台面
A31: 25 | B31: 沙发 | D31: 张 | E31: 6 | F31: 41791 | J31: 2460 | K31: 40 | L31: 984 | N31: 木质皮沙发
A32: 26 | B32: 茶几 | C32: 0.6*0.6*0.5 | D32: 张 | E32: 4 | F32: 41791 | J32: 560 | K32: 40 | L32: 224 | N32: 木质
A33: 27 | B33: 大茶几 | C33: 1.2*0.6*0.5 | D33: 张 | E33: 1 | F33: 41791 | J33: 185 | K33: 40 | L33: 74 | N33: 木质
A34: 28 | B34: 会议桌 | C34: 9*2*0.8 | D34: 张 | E34: 1 | F34: 41791 | J34: 7850 | K34: 40 | L34: 3140
A35: 29 | B35: 椅子 | D35: 张 | E35: 17 | F35: 41791 | J35: 2125 | K35: 40 | L35: 850 | N35: 现场17张
A36: 30 | B36: 桌子 | C36: 1.2*0.42*0.75 | D36: 张 | E36: 1 | F36: 41791 | J36: 380 | K36: 30 | L36: 114 | N36: 茶水桌子
A37: 31 | B37: 办公柜 | C37: 2.4*0.4*2.1 | D37: 组 | E37: 1 | F37: 41791 | J37: 16500 | K37: 30 | L37: 4950 | N37: 含主办公桌2.4*1.1*0.75+副桌1.2*0.65*0.4+办公椅
A38: 32 | B38: 衣架 | D38: 个 | E38: 1 | F38: 41791 | J38: 120 | K38: 20 | L38: 24
A39: 33 | B39: 皮质椅 | D39: 张 | E39: 2 | F39: 41791 | J39: 260 | K39: 25 | L39: 65 | N39: 有点破损
A40: 34 | B40: 墙边柜 | C40: 4.7*0.6*0.8 | D40: 个 | E40: 1 | F40: 41791 | J40: 2115 | K40: 20 | L40: 423 | N40: 白色大理石台面
A41: 35 | B41: 办公桌 | C41: 1.4*0.6*0.75 | D41: 组 | E41: 4 | F41: 41791 | J41: 1540 | K41: 40 | L41: 616 | N41: 含0.8*0.4*0.63配套小桌
A42: 36 | B42: 墙边柜 | C42: 3.7*0.6*0.8 | D42: 个 | E42: 1 | F42: 41791 | J42: 1665 | K42: 20 | L42: 333 | N42: 白色大理石台面
A43: 37 | B43: 办公柜 | C43: 2.4*0.4*2.1 | D43: 组 | E43: 1 | F43: 41791 | J43: 16500 | K43: 30 | L43: 4950 | N43: 含主办公桌2.4*1.1*0.75+副桌1.2*0.65*0.4
A44: 38 | B44: 皮质椅 | D44: 张 | E44: 3 | F44: 41791 | J44: 390 | K44: 25 | L44: 97.5 | N44: 有点破损
A45: 39 | B45: 墙边柜 | C45: 4.7*0.6*0.8 | D45: 个 | E45: 1 | F45: 41791 | J45: 2115 | K45: 20 | L45: 423 | N45: 白色大理石台面
A46: 40 | B46: 储物柜 | C46: 1.2*0.46*1.6 | D46: 个 | E46: 3 | F46: 41791 | J46: 855 | K46: 40 | L46: 342 | N46: 铁皮柜
A47: 41 | B47: 皮质椅 | D47: 张 | E47: 3 | F47: 41791 | J47: 390 | K47: 25 | L47: 97.5 | N47: 有点破损
A48: 42 | B48: 椅子 | C48: 网格椅 | D48: 张 | E48: 1 | F48: 41791 | J48: 115 | K48: 40 | L48: 46
A49: 43 | B49: 保险箱 | C49: 0.4*0.37*0.65 | D49: 台 | E49: 1 | F49: 41791 | J49: 460 | K49: 20 | L49: 92 | N49: 开锁有破坏
A50: 44 | B50: 墙边柜 | C50: 4*0.6*0.8 | D50: 个 | E50: 1 | F50: 41791 | J50: 1800 | K50: 20 | L50: 360 | N50: 白色大理石台面
A51: 45 | B51: 保险柜 | C51: 0.56*0.47*1.2 | D51: 个 | E51: 1 | F51: 41791 | J51: 680 | K51: 20 | L51: 136 | N51: 开锁有破坏
A52: 46 | B52: 办公桌 | C52: 1.4*0.6*0.75 | D52: 组 | E52: 4 | F52: 41791 | J52: 1540 | K52: 40 | L52: 616 | M52: =IF(OR(I52=0,I52=""),"",ROUND((L52-I52)/I52*100,2)) | N52: 含0.8*0.4*0.63配套小桌
A53: 47 | B53: 木床 | C53: 1.5*2*0.45 | D53: 张 | E53: 2 | F53: 41791 | J53: 720 | K53: 30 | L53: 216 | M53: =IF(OR(I53=0,I53=""),"",ROUND((L53-I53)/I53*100,2)) | N53: 含床头柜
A54: 48 | B54: 衣柜 | C54: 1*0.5*1.75 | D54: 个 | E54: 1 | F54: 41791 | J54: 300 | K54: 30 | L54: 90 | M54: =IF(OR(I54=0,I54=""),"",ROUND((L54-I54)/I54*100,2))
A55: 49 | B55: 木床 | C55: 1.5*2*0.45 | D55: 张 | E55: 1 | F55: 41791 | J55: 360 | K55: 30 | L55: 108 | M55: =IF(OR(I55=0,I55=""),"",ROUND((L55-I55)/I55*100,2)) | N55: 含床头柜
A56: 50 | B56: 木桌 | C56: 2.4*1*0.75 | D56: 张 | E56: 1 | F56: 41791 | J56: 1850 | K56: 25 | L56: 462.5 | M56: =IF(OR(I56=0,I56=""),"",ROUND((L56-I56)/I56*100,2)) | N56: 含1.1*0.6*0.4配套桌子
A57: 51 | B57: 条桌 | C57: 1.8*0.6*0.8 | D57: 张 | E57: 1 | F57: 41791 | J57: 550 | K57: 20 | L57: 110 | M57: =IF(OR(I57=0,I57=""),"",ROUND((L57-I57)/I57*100,2))
A58: 52 | B58: 木质文件柜 | C58: 1.9*0.4*2 | D58: 组 | E58: 1 | F58: 41791 | J58: 1400 | K58: 30 | L58: 420 | M58: =IF(OR(I58=0,I58=""),"",ROUND((L58-I58)/I58*100,2)) | N58: 1组2个
A59: 53 | B59: 木床 | C59: 1.5*2*0.45 | D59: 张 | E59: 1 | F59: 41791 | J59: 360 | K59: 30 | L59: 108 | M59: =IF(OR(I59=0,I59=""),"",ROUND((L59-I59)/I59*100,2))
A60: 54 | B60: 条桌 | C60: 1.8*0.6*0.8 | D60: 张 | E60: 1 | F60: 41791 | J60: 550 | K60: 20 | L60: 110 | M60: =IF(OR(I60=0,I60=""),"",ROUND((L60-I60)/I60*100,2))
A61: 55 | B61: 衣柜 | C61: 1*0.5*1.75 | D61: 个 | E61: 1 | F61: 41791 | J61: 300 | K61: 30 | L61: 90 | M61: =IF(OR(I61=0,I61=""),"",ROUND((L61-I61)/I61*100,2))
A62: 56 | B62: 文件柜 | C62: 0.86*0.38*1.8 | D62: 个 | E62: 1 | F62: 41791 | J62: 260 | K62: 40 | L62: 104 | M62: =IF(OR(I62=0,I62=""),"",ROUND((L62-I62)/I62*100,2))
A63: 57 | B63: 木床 | C63: 1.5*2*0.45 | D63: 张 | E63: 2 | F63: 41791 | J63: 720 | K63: 30 | L63: 216 | M63: =IF(OR(I63=0,I63=""),"",ROUND((L63-I63)/I63*100,2)) | N63: 含床头柜
A64: 58 | B64: 条桌 | C64: 1.8*0.6*0.8 | D64: 张 | E64: 1 | F64: 41791 | J64: 550 | K64: 20 | L64: 110 | M64: =IF(OR(I64=0,I64=""),"",ROUND((L64-I64)/I64*100,2))
A65: 59 | B65: 文件柜 | C65: 0.86*0.38*1.8 | D65: 个 | E65: 3 | F65: 41791 | J65: 780 | K65: 40 | L65: 312 | M65: =IF(OR(I65=0,I65=""),"",ROUND((L65-I65)/I65*100,2)) | N65: 铁皮柜
A66: 60 | B66: 大圆桌 | C66: Φ2.75*0.75 | D66: 组 | E66: 1 | F66: 41791 | J66: 26500 | K66: 30 | L66: 7950 | M66: =IF(OR(I66=0,I66=""),"",ROUND((L66-I66)/I66*100,2)) | N66: 含1个转盘+16张配套椅子
A67: 61 | B67: 茶几 | C67: 1.2*0.6*0.45 | D67: 张 | E67: 1 | F67: 41791 | J67: 230 | K67: 20 | L67: 46 | M67: =IF(OR(I67=0,I67=""),"",ROUND((L67-I67)/I67*100,2))
A68: 62 | B68: 沙发 | D68: 张 | E68: 2 | F68: 41791 | J68: 820 | K68: 30 | L68: 246 | M68: =IF(OR(I68=0,I68=""),"",ROUND((L68-I68)/I68*100,2)) | N68: 木质皮沙发
A69: 63 | B69: 茶几 | C69: 0.6*0.6*0.45 | D69: 张 | E69: 1 | F69: 41791 | J69: 140 | K69: 20 | L69: 28 | M69: =IF(OR(I69=0,I69=""),"",ROUND((L69-I69)/I69*100,2))
A70: 64 | B70: 手动麻将桌 | C70: 0.9*0.9*0.8 | D70: 张 | E70: 1 | F70: 41791 | J70: 350 | K70: 20 | L70: 70 | M70: =IF(OR(I70=0,I70=""),"",ROUND((L70-I70)/I70*100,2))
A71: 65 | B71: 小茶柜 | C71: 0.8*0.77*0.4 | D71: 个 | E71: 1 | F71: 41791 | J71: 185 | K71: 30 | L71: 55.5 | M71: =IF(OR(I71=0,I71=""),"",ROUND((L71-I71)/I71*100,2)) | N71: 双门
A72: 66 | B72: 文件柜 | C72: 0.86*0.38*1.8 | D72: 个 | E72: 1 | F72: 41791 | J72: 260 | K72: 40 | L72: 104 | N72: 铁皮柜
A73: 67 | B73: 小方桌 | C73: 1.2*0.7*0.75 | D73: 张 | E73: 2 | F73: 41791 | J73: 300 | K73: 20 | L73: 60
A74: 68 | B74: 双槽水池 | C74: 1.2*0.7*0.8 | D74: 个 | E74: 1 | F74: 41791 | J74: 480 | K74: 10 | L74: 48 | N74: 不锈钢双槽水池+铁支架
A75: 69 | B75: 4层铁质置物架 | C75: 2*0.6*2 | D75: 个 | E75: 1 | F75: 41791 | J75: 650 | K75: 30 | L75: 195
A76: 70 | B76: 4层铁质置物架 | C76: 2*0.6*2 | D76: 个 | E76: 2 | F76: 41791 | J76: 1300 | K76: 30 | L76: 390
A77: 71 | B77: 铁皮柜 | C77: 0.86*0.38*1.8 | D77: 个 | E77: 3 | F77: 41791 | J77: 630 | K77: 40 | L77: 252
A78: 72 | B78: 衣柜 | C78: 1*0.5*1.75 | D78: 个 | E78: 1 | F78: 41791 | J78: 300 | K78: 30 | L78: 90
A79: 73 | B79: 木桌 | C79: 普通 | D79: 张 | E79: 7 | F79: 41791 | J79: 490 | K79: 20 | L79: 98
A80: 74 | B80: 木椅 | C80: 普通 | D80: 张 | E80: 11 | F80: 41791 | J80: 550 | K80: 20 | L80: 110
A81: 75 | B81: 条桌 | D81: 张 | E81: 4 | F81: 41791 | J81: 840 | K81: 20 | L81: 168
A82: 76 | B82: 会议桌 | C82: 4*1.5*0.77 | D82: 张 | E82: 1 | F82: 41791 | J82: 2800 | K82: 30 | L82: 840 | N82: 有些损坏
A83: 77 | B83: 双人沙发 | D83: 张 | E83: 1 | F83: 41791 | J83: 850 | K83: 30 | L83: 255 | N83: 有些破损
M84: =IF(OR(I84=0,I84=""),"",ROUND((L84-I84)/I84*100,2))
M85: =IF(OR(I85=0,I85=""),"",ROUND((L85-I85)/I85*100,2))
M86: =IF(OR(I86=0,I86=""),"",ROUND((L86-I86)/I86*100,2))
M87: =IF(OR(I87=0,I87=""),"",ROUND((L87-I87)/I87*100,2))
A88: 合 计 | H88: =SUM(H7:H87) -> 0 | I88: =SUM(I7:I87) -> 0 | J88: =SUM(J7:J87) -> 158755 | L88: =SUM(L7:L87) -> 47677 | M88: =IF(OR(I88=0,I88=""),"",ROUND((L88-I88)/I88*100,2))
A89: 减：电子设备减值准备 | M89: =IF(OR(I89=0,I89=""),"",ROUND((L89-I89)/I89*100,2))
A90: 合 计 | H90: =H88-H89 -> 0 | I90: =I88-I89 -> 0 | J90: =J88-J89 -> 158755 | L90: =L88-L89 -> 47677 | M90: =IF(OR(I90=0,I90=""),"",ROUND((L90-I90)/I90*100,2))
A91: =[1]基础信息!A4 -> 被评估单位（或者产权持有单位）填表人： | H91: =[1]基础信息!A3 -> 评估人员：朱新为 孙媛媛
A92: 填表日期：2021年10月10日

Sheet 电子设备
A1: 固定资产—电子设备评估明细表
A2: =固定资产汇总!A2 -> 评估基准日：2021年6月28日
N3: 表4-6-6
A4: =固定资产汇总!A4 -> 被评估单位（或者产权持有单位）：江苏方舟数据网络管理有限公司 | N4: 金额单位：人民币元
A5: 序号 | B5: 设备名称 | C5: 规格型号 | D5: 计量单位 | E5: 数量 | F5: 启用日期 | G5: 购置日期 | H5: 账面价值 | J5: 评估价值 | M5: 增值率% | N5: 备注
H6: 原值 | I6: 净值 | J6: 原值 | K6: 成新率% | L6: 净值
A7: 1 | B7: 电话机 | C7: 达尔讯 | D7: 台 | E7: 1 | F7: 41791 | J7: 105 | K7: 20 | L7: 21 | M7: =IF(OR(I7=0,I7=""),"",ROUND((L7-I7)/I7*100,2))
A8: 2 | B8: 电话机 | C8: TCL | D8: 台 | E8: 1 | F8: 41791 | J8: 110 | K8: 20 | L8: 22 | M8: =IF(OR(I8=0,I8=""),"",ROUND((L8-I8)/I8*100,2))
A9: 3 | B9: 电脑显示屏 | C9: 190V4L | D9: 台 | E9: 1 | F9: 41883 | J9: 659 | K9: 25 | L9: 164.75 | M9: =IF(OR(I9=0,I9=""),"",ROUND((L9-I9)/I9*100,2))
A10: 4 | B10: 挂式空调 | C10: XKFR-35G/ER01N3 | D10: 台 | E10: 1 | F10: 41688 | J10: 2899 | K10: 20 | L10: 579.8 | M10: =IF(OR(I10=0,I10=""),"",ROUND((L10-I10)/I10*100,2))
A11: 5 | B11: 电话机 | C11: GIgaset802 | D11: 台 | E11: 1 | F11: 40787 | J11: 109 | K11: 10 | L11: 10.9 | M11: =IF(OR(I11=0,I11=""),"",ROUND((L11-I11)/I11*100,2))
A12: 6 | B12: 电脑显示屏 | C12: 598mm | D12: 台 | E12: 1 | F12: 41791 | J12: 1050 | K12: 25 | L12: 262.5 | M12: =IF(OR(I12=0,I12=""),"",ROUND((L12-I12)/I12*100,2))
A13: 7 | B13: 挂式空调 | C13: XKFR-35G/ER01N3 | D13: 台 | E13: 1 | F13: 42599 | J13: 2899 | K13: 25 | L13: 724.75 | M13: =IF(OR(I13=0,I13=""),"",ROUND((L13-I13)/I13*100,2))
A14: 8 | B14: 打印机 | C14: STUDIO2051C | D14: 台 | E14: 1 | F14: 41791 | J14: 9900 | K14: 30 | L14: 2970 | M14: =IF(OR(I14=0,I14=""),"",ROUND((L14-I14)/I14*100,2))
A15: 9 | B15: 考勤机 | C15: ZKT | D15: 台 | E15: 1 | F15: 41791 | J15: 560 | K15: 20 | L15: 112 | M15: =IF(OR(I15=0,I15=""),"",ROUND((L15-I15)/I15*100,2))
A16: 10 | B16: 挂式空调 | C16: XKFR-35G/ER01N3 | D16: 台 | E16: 1 | F16: 41688 | J16: 2899 | K16: 20 | L16: 579.8 | M16: =IF(OR(I16=0,I16=""),"",ROUND((L16-I16)/I16*100,2))
A17: 11 | B17: 挂式空调 | C17: XKFR-35G/ER01N3 | D17: 台 | E17: 1 | F17: 42597 | J17: 2899 | K17: 25 | L17: 724.75 | M17: =IF(OR(I17=0,I17=""),"",ROUND((L17-I17)/I17*100,2))
A18: 12 | B18: 挂式空调 | C18: XKFR-35G/ER01N3 | D18: 台 | E18: 1 | F18: 42597 | J18: 2899 | K18: 25 | L18: 724.75 | M18: =IF(OR(I18=0,I18=""),"",ROUND((L18-I18)/I18*100,2))
A19: 13 | B19: 投影布 | D19: 幅 | E19: 1 | F19: 41791 | J19: 240 | K19: 30 | L19: 72 | M19: =IF(OR(I19=0,I19=""),"",ROUND((L19-I19)/I19*100,2))
A20: 14 | B20: 投影仪 | C20: MX515E1 | D20: 台 | E20: 1 | F20: 42370 | J20: 6918 | K20: 30 | L20: 2075.4 | M20: =IF(OR(I20=0,I20=""),"",ROUND((L20-I20)/I20*100,2))
A21: 15 | B21: 柜式空调 | C21: KFR-72LW/Q1F-N2 | D21: 台 | E21: 1 | F21: 41594 | J21: 5299 | K21: 30 | L21: 1589.7 | M21: =IF(OR(I21=0,I21=""),"",ROUND((L21-I21)/I21*100,2))
A22: 16 | B22: 挂式空调 | C22: XKFR-35G/ER01N3 | D22: 台 | E22: 1 | F22: 42597 | J22: 2899 | K22: 25 | L22: 724.75 | M22: =IF(OR(I22=0,I22=""),"",ROUND((L22-I22)/I22*100,2))
A23: 17 | B23: 挂式空调 | C23: XKFR-35G/ER01N3 | D23: 台 | E23: 1 | F23: 42597 | J23: 2899 | K23: 25 | L23: 724.75 | M23: =IF(OR(I23=0,I23=""),"",ROUND((L23-I23)/I23*100,2))
A24: 18 | B24: 挂式空调 | C24: XKFR-35G/ER01N3 | D24: 台 | E24: 1 | F24: 42597 | J24: 2899 | K24: 25 | L24: 724.75 | M24: =IF(OR(I24=0,I24=""),"",ROUND((L24-I24)/I24*100,2))
A25: 19 | B25: 柜式空调 | C25: NS-50LW/D1FN3 | D25: 台 | E25: 1 | F25: 41764 | J25: 4850 | K25: 30 | L25: 1455 | M25: =IF(OR(I25=0,I25=""),"",ROUND((L25-I25)/I25*100,2))
A26: 20 | B26: 电话机 | C26: GIgaset802 | D26: 台 | E26: 1 | F26: 40787 | J26: 109 | K26: 10 | L26: 10.9 | M26: =IF(OR(I26=0,I26=""),"",ROUND((L26-I26)/I26*100,2))
A27: 21 | B27: 机箱一体化电脑 | C27: 215P5831 | D27: 套 | E27: 1 | F27: 42461 | J27: 2900 | K27: 30 | L27: 870 | M27: =IF(OR(I27=0,I27=""),"",ROUND((L27-I27)/I27*100,2))
A28: 22 | B28: 柜式空调 | C28: NS-50LW/D1FN3 | D28: 台 | E28: 1 | F28: 41807 | J28: 4850 | K28: 20 | L28: 970 | M28: =IF(OR(I28=0,I28=""),"",ROUND((L28-I28)/I28*100,2))
A29: 23 | B29: 挂式空调 | C29: XKFR-35G/ER01N3 | D29: 台 | E29: 1 | F29: 41730 | J29: 2899 | K29: 20 | L29: 579.8 | M29: =IF(OR(I29=0,I29=""),"",ROUND((L29-I29)/I29*100,2))
A30: 24 | B30: 挂式空调 | C30: XKFR-35G/ER01N3 | D30: 台 | E30: 1 | F30: 41733 | J30: 2899 | K30: 20 | L30: 579.8 | M30: =IF(OR(I30=0,I30=""),"",ROUND((L30-I30)/I30*100,2))
A31: 25 | B31: 挂式空调 | C31: XKFR-35G/ER01N3 | D31: 台 | E31: 1 | F31: 41719 | J31: 2899 | K31: 20 | L31: 579.8
A32: 26 | B32: 柜式空调 | C32: KFR-72LW/Q1F-N2 | D32: 台 | E32: 1 | F32: 41656 | J32: 5299 | K32: 20 | L32: 1059.8
A33: 27 | B33: 挂式空调 | C33: XKFR-35G/ER01N3 | D33: 台 | E33: 1 | F33: 41728 | J33: 2899 | K33: 20 | L33: 579.8
A34: 28 | B34: 冷藏柜 | C34: 3门 | D34: 台 | E34: 1 | F34: 41791 | J34: 2100 | K34: 15 | L34: 315
A35: 29 | B35: 冷柜 | C35: BC/BD-228AT | D35: 台 | E35: 1 | F35: 41791 | J35: 1199 | K35: 15 | L35: 179.85
A36: 30 | B36: 环保灶 | C36: 节而猛 | D36: 台 | E36: 1 | F36: 41974 | J36: 950 | K36: 10 | L36: 95
A37: 31 | B37: 环保灶排风系统 | C37: 3*1*0.55 | D37: 套 | E37: 1 | F37: 41791 | J37: 3200 | K37: 15 | L37: 480 | N37: 含不锈钢排风系统+1台轴流排气扇
A38: 32 | B38: 挂式空调 | C38: HA35GW/C(H57)+N3 | D38: 台 | E38: 1 | F38: 41791 | J38: 2099 | K38: 20 | L38: 419.8
A39: 33 | B39: 电子秤 | C39: HF | D39: 台 | E39: 1 | F39: 41791 | J39: 200 | K39: 20 | L39: 40
A40: 34 | B40: 挂式空调 | D40: 台 | E40: 1 | F40: 41791 | J40: 2150 | K40: 20 | L40: 430
A41: 35 | B41: 双槽水池 | C41: 1.2*0.6*0.8 | D41: 个 | E41: 1 | F41: 41791 | J41: 450 | K41: 10 | L41: 45 | N41: 不锈钢双槽水池+铁支架
A42: 36 | B42: 挂式空调 | C42: HA35GW/C(H57)+N3 | D42: 台 | E42: 1 | F42: 41818 | J42: 2099 | K42: 20 | L42: 419.8
A43: 37 | B43: 机房空调 | C43: U075D2P2E7 | D43: 台 | E43: 4 | F43: 42614 | J43: 746000 | K43: 25 | L43: 186500
A44: 38 | B44: 变压器 | C44: S11-M-400/10 | D44: 台 | E44: 1 | F44: 42095 | J44: 26000 | K44: 50 | L44: 13000 | N44: 400KVA、含专变采集终端1台
A45: 39 | B45: 电缆分线柜 | C45: HWX 380V | D45: 台 | E45: 1 | F45: 42430 | J45: 8600 | K45: 50 | L45: 4300
A46: 40 | B46: 服务器机柜 | C46: 600*1000*2000 | D46: 台 | E46: 292 | F46: 41791 | J46: 934400 | K46: 50 | L46: 467200 | M46: =IF(OR(I46=0,I46=""),"",ROUND((L46-I46)/I46*100,2)) | N46: 不含PDU设备等
A47: 合 计 | H47: =SUM(H7:H46) -> 0 | I47: =SUM(I7:I46) -> 0 | J47: =SUM(J7:J46) -> 1807193 | L47: =SUM(L7:L46) -> 692917.7 | M47: =IF(OR(I47=0,I47=""),"",ROUND((L47-I47)/I47*100,2))
A48: 减：电子设备减值准备 | M48: =IF(OR(I48=0,I48=""),"",ROUND((L48-I48)/I48*100,2))
A49: 合 计 | I49: =I47-I48 -> 0 | J49: =J47-J48 -> 1807193 | L49: =L47-L48 -> 692917.7 | M49: =IF(OR(I49=0,I49=""),"",ROUND((L49-I49)/I49*100,2))
A50: =[1]基础信息!A4 -> 被评估单位（或者产权持有单位）填表人： | H50: =[1]基础信息!A3 -> 评估人员：朱新为 孙媛媛
A51: =家具!A92 -> 填表日期：2021年10月10日
