Workbook

Sheet 住宅
A1: 材料编号 | B1: 姓名 | C1: 身份证号 | E1: 电话 | F1: 地址 | G1: 楼栋 | H1: 单元 | I1: 楼层 | J1: 新房号 | K1: 新面积 | L1: 备案价 | M1: 预估单价 | N1: 预估总价 | O1: 折后单价 | P1: 折后总价 | Q1: 付款方式 | R1: 已交款 | S1: 需退 | T1: 按揭款 | U1: 欠款 | V1: 按揭回款 | W1: 维修基金 | X1: 产权登记费 | Y1: 网签 | Z1: 签约 情况 | AA1: 预约 保留金 | AB1: 入会费、活动费等 | AC1: 申报利息或违约金 | AD1: 其他 | AE1: 收款方式 | AF1: 收款账户 | AG1: 债权发生时间 | AH1: 房地产收据 金额 | AI1: 申报金额 | AJ1: 核定金额 | AK1: 差异 | AL1: 备注 | AM1: 登记人 | AN1: 登记日期 | AP1: 申报金额合计 | AQ1: =SUM(AI:AI) -> 5.3601788e+08 | AR1: 核定金额合计 | AS1: =SUM(AJ:AJ) -> 5.2414296e+08 | AT1: 累计登记数量 | AU1: =COUNTA(A:A)-1 -> 712
A2: A0002 | B2: 史耀 | C2: 410104198102103013 | D2: =B2&C2 -> 史耀410104198102103013 | E2: 136837187781 5603903667 | G2: 6 | H2: 1 | I2: 5 | J2: 506 | K2: 86.33 | L2: 17900 | O2: 15000 | P2: =ROUND(O2*K2,0) -> 1294950 | Q2: 公积金 | R2: 894950 | T2: / | V2: 400000 | W2: 5611 | X2: 80 | Y2: 签 | AG2: 43167 | AI2: =R2+V2+W2+X2+AA2+AB2+AC2+AD2 -> 1300641 | AJ2: =R2+W2+V2+X2+AA2 -> 1300641 | AK2: =AI2-AJ2 -> 0 | AN2: 44841
A3: A0004 | B3: 李文文 | C3: 412321198402143921 | D3: =B3&C3 -> 李文文412321198402143921 | E3: 13526699667 15136287215 | G3: 9 | H3: 3 | I3: 22 | J3: 2201 | K3: 93.4 | L3: 8806 | O3: 8705.6 | P3: 813103 | Q3: 公积金 | R3: 543103 | T3: / | V3: 270000 | W3: 6071 | X3: 80 | Z3: 签 | AG3: 44017 | AI3: =R3+V3+W3+X3+AA3+AB3+AC3+AD3 -> 819254 | AJ3: =R3+W3+V3+X3+AA3 -> 819254 | AK3: =AI3-AJ3 -> 0 | AN3: 44841
A4: A0005 | B4: 李文中 | C4: 410105195709293311 | D4: =B4&C4 -> 李文中410105195709293311 | E4: 13700856263 | G4: 11 | H4: 3 | I4: 26 | J4: 2601 | K4: 149.28 | L4: 8300 | O4: 8200 | P4: =ROUND(K4*O4,0) -> 1224096 | Q4: 一次性 | R4: 1224096 | S4: / | W4: 9703 | X4: 80 | Y4: 签 | AG4: 42073 | AH4: 1219586 | AI4: =R4+V4+W4+X4+AA4+AB4+AC4+AD4 -> 1233879 | AJ4: =R4+W4+V4+X4+AA4 -> 1233879 | AK4: =AI4-AJ4 -> 0 | AL4: 2015年交房款定金1219586，收据为房地产出具 | AN4: 44841
A5: A0006 | B5: 肖婴 | C5: 140511198701201248 | D5: =B5&C5 -> 肖婴140511198701201248 | E5: 15136200024 15136200034 | G5: 3 | I5: 14 | J5: 1403 | K5: 52.4 | L5: 20000 | O5: 9513.53 | P5: =ROUND(O5*K5,0) -> 498509 | Q5: 一次性 | R5: 498509 | T5: / | W5: 3406 | X5: 550 | Y5: 签 | AG5: 43077 | AH5: =R5-240000+W5+X5 -> 262465 | AI5: =R5+V5+W5+X5+AA5+AB5+AC5+AD5 -> 502465 | AJ5: =R5+W5+V5+X5+AA5 -> 502465 | AK5: =AI5-AJ5 -> 0 | AL5: 其中24万为恒祥实业收据，其余均为房地产收据 | AN5: 44841
A6: A0009 | B6: 孙雪玲 | C6: 410504197603171521 | D6: =B6&C6 -> 孙雪玲410504197603171521 | E6: 18339928565 | G6: 10 | H6: 2 | I6: 19 | J6: 1908 | K6: 94.61 | L6: 19970 | O6: 19376.87 | P6: =ROUND(O6*K6,0) -> 1833246 | Q6: 按揭 | R6: 833246 | T6: 999999.67 | U6: 999999.67 | W6: 6149 | X6: 80 | AB6: 5000 | AG6: 43285 | AH6: =AI6-5000 -> 839475 | AI6: =R6+V6+W6+X6+AA6+AB6+AC6+AD6 -> 844475 | AJ6: =R6+W6+V6+X6+AA6 -> 839475 | AK6: =AI6-AJ6 -> 5000 | AN6: 44841
A7: A0012 | B7: 曾亚赛 | C7: 410425198911271023 | D7: =B7&C7 -> 曾亚赛410425198911271023 | E7: 18703830082 | G7: 3 | I7: 14 | J7: 1431 | K7: 56.44 | L7: 20000 | O7: 8736.07 | P7: =ROUND(O7*K7,0) -> 493064 | Q7: 按揭 | R7: 343064 | S7: / | V7: 150000 | W7: 3668 | X7: 550 | Y7: 签 | AB7: =1516+3000+10 -> 4526 | AG7: 43048 | AI7: =R7+V7+W7+X7+AA7+AB7+AC7+AD7 -> 501808 | AJ7: =R7+W7+V7+X7+AA7 -> 497282 | AK7: =AI7-AJ7 -> 4526 | AN7: 44841
A8: A0013 | B8: 邓玮 | C8: 410103198102193729 | D8: =B8&C8 -> 邓玮410103198102193729 | E8: 13663868877 | G8: 3 | I8: 10 | J8: 1026 | K8: 56.59 | L8: 20000 | O8: 9582.82 | P8: =ROUND(O8*K8,0) -> 542292 | Q8: 按揭 | R8: 272292 | T8: 270000 | U8: =P8-R8 -> 270000 | W8: 3678 | X8: 550 | AG8: 43067 | AH8: =AI8 -> 276520 | AI8: =R8+V8+W8+X8+AA8+AB8+AC8+AD8 -> 276520 | AJ8: =R8+W8+V8+X8+AA8 -> 276520 | AK8: =AI8-AJ8 -> 0 | AN8: 44841
A9: A0014 | B9: 刘平平 | C9: 410105197907146143 | D9: =B9&C9 -> 刘平平410105197907146143 | E9: 13603869675 | G9: 3 | I9: 21 | J9: 2105 | K9: 59.91 | L9: 20000 | O9: 10000 | P9: =ROUND(O9*K9,0) -> 599100 | Q9: 一次性 | R9: 599100 | S9: / | W9: 3894 | X9: 550 | Y9: 签 | AG9: 42848 | AH9: =AI9 -> 603544 | AI9: =R9+V9+W9+X9+AA9+AB9+AC9+AD9 -> 603544 | AJ9: =R9+W9+V9+X9+AA9 -> 603544 | AK9: =AI9-AJ9 -> 0 | AN9: 44841
A10: A0015 | B10: 樊国娜 | C10: 412926197210062545 | D10: =B10&C10 -> 樊国娜412926197210062545 | E10: 15903621377 13838582267 18538253063 | F10: 郑州市金水区黄河路93号院6号楼16号 | G10: 3 | I10: 17 | J10: 1735 | K10: 55.18 | L10: 30000 | O10: 15000 | P10: =ROUND(O10*K10,0) -> 827700 | Q10: 一次性 | R10: 827700 | T10: =P10-R10 -> 0 | AG10: 43526 | AI10: =R10+V10+W10+X10+AA10+AB10+AC10+AD10 -> 827700 | AJ10: =R10+W10+V10+X10+AA10 -> 827700 | AK10: =AI10-AJ10 -> 0 | AL10: 无合同、其中39万为抵工程款 | AN10: 44841
A11: A0016 | B11: 李晓晨 | C11: 410105198503130123 | D11: =B11&C11 -> 李晓晨410105198503130123 | E11: 13939042195 | G11: 3 | I11: 7 | J11: 728 | K11: 64.13 | L11: 20000 | O11: 9183.3 | P11: =ROUND(O11*K11,0) -> 588925 | Q11: 一次性 | R11: 588925 | S11: / | W11: 4168 | X11: 550 | Y11: 签 | AG11: 43167 | AI11: =R11+V11+W11+X11+AA11+AB11+AC11+AD11 -> 593643 | AJ11: =R11+W11+V11+X11+AA11 -> 593643 | AK11: =AI11-AJ11 -> 0 | AN11: 44841
A12: A0017 | B12: 王金钰 | C12: 41010419910409002X | D12: =B12&C12 -> 王金钰41010419910409002X | E12: 15515500527 | G12: 3 | I12: 14 | J12: 1428 | K12: 64.13 | L12: 20000 | O12: 9477.03 | P12: =ROUND(O12*K12,0) -> 607762 | Q12: 按揭 | R12: 307762 | S12: / | V12: 300000 | W12: 4168 | X12: 550 | Y12: 签 | AB12: =3000+1580+230 -> 4810 | AG12: 43069 | AH12: =AI12-AB12 -> 612480 | AI12: =R12+V12+W12+X12+AA12+AB12+AC12+AD12 -> 617290 | AJ12: =R12+W12+V12+X12+AA12 -> 612480 | AK12: =AI12-AJ12 -> 4810 | AN12: 44841
A13: A0018 | B13: 陈峰 | C13: 410105197312231074 | D13: =B13&C13 -> 陈峰410105197312231074 | E13: 18638666569 | G13: 6 | H13: 1 | I13: 17 | J13: 1708 | K13: 109.13 | L13: 19780 | O13: 16000 | P13: =ROUND(O13*K13,0) -> 1746080 | Q13: 按揭 | R13: 876080 | T13: / | V13: 870000 | W13: 7093 | X13: 80 | Y13: 签 | AG13: 43119 | AI13: =R13+V13+W13+X13+AA13+AB13+AC13+AD13 -> 1753253 | AJ13: =R13+W13+V13+X13+AA13 -> 1753253 | AK13: =AI13-AJ13 -> 0 | AN13: 44841
A14: A0019 | B14: 马佳 | C14: 41010319790329244X | D14: =B14&C14 -> 马佳41010319790329244X | E14: 13938239075 | G14: 3 | I14: 12 | J14: 1230 | K14: 57.33 | L14: 20000 | O14: 10052.36 | P14: =ROUND(O14*J14,0) -> 12364403 | Q14: 一次性 | R14: 576302 | S14: / | W14: 3726 | X14: 550 | Y14: 签 | AB14: 3000 | AG14: 43092 | AH14: =AI14-AB14 -> 580578 | AI14: =R14+V14+W14+X14+AA14+AB14+AC14+AD14 -> 583578 | AJ14: =R14+W14+V14+X14+AA14 -> 580578 | AK14: =AI14-AJ14 -> 3000 | AL14: 收据房地产，但款打入实业 | AN14: 44841
A15: A0020 | B15: 刘琳捷 刘大维 | C15: 412702199702017449 | D15: =B15&C15 -> 刘琳捷 刘大维412702199702017449 | E15: 15903640378 | G15: 6 | H15: 1 | I15: 9 | J15: 906 | K15: 86.33 | L15: 17900 | O15: 16000 | P15: =ROUND(O15*K15,0) -> 1381280 | Q15: 按揭 | R15: 713600 | T15: 667680 | U15: =T15 -> 667680 | AG15: 42913 | AH15: =AI15 -> 713600 | AI15: =R15+V15+W15+X15+AA15+AB15+AC15+AD15 -> 713600 | AJ15: =R15+W15+V15+X15+AA15 -> 713600 | AK15: =AI15-AJ15 -> 0 | AN15: 44841
A16: A0021 | B16: 高艳红 | C16: 411081197312111269 | D16: =B16&C16 -> 高艳红411081197312111269 | E16: 17739793883 | G16: 3 | I16: 8 | J16: 806 | K16: 61.66 | L16: 20000 | O16: 9013.99 | P16: =ROUND(O16*K16,0) -> 555803 | Q16: 一次性 | R16: 555803 | S16: / | W16: 4007 | X16: 550 | Y16: 签 | AG16: 43067 | AH16: =AI16 -> 560360 | AI16: =R16+V16+W16+X16+AA16+AB16+AC16+AD16 -> 560360 | AJ16: =R16+W16+V16+X16+AA16 -> 560360 | AK16: =AI16-AJ16 -> 0 | AN16: 44841
A17: A0023 | B17: 艾莉 | C17: 419004196810131289 | D17: =B17&C17 -> 艾莉419004196810131289 | E17: 13839567500 | G17: 3 | I17: 8 | J17: 829 | K17: 57.45 | L17: 20000 | O17: 9823.53 | P17: =ROUND(O17*K17,0) -> 564362 | Q17: 一次性 | R17: 564362 | S17: / | W17: 3734 | X17: 550 | Y17: 签 | AG17: 43067 | AH17: =AI17 -> 568646 | AI17: =R17+V17+W17+X17+AA17+AB17+AC17+AD17 -> 568646 | AJ17: =R17+W17+V17+X17+AA17 -> 568646 | AK17: =AI17-AJ17 -> 0 | AN17: 44841
A18: A0024 | B18: 艾明磊 | C18: 411081197312111293 | D18: =B18&C18 -> 艾明磊411081197312111293 | E18: 18839778619 | G18: 3 | I18: 8 | J18: 807 | K18: 61.94 | L18: 20000 | O18: 9013.53 | P18: =ROUND(O18*K18,0) -> 558298 | Q18: 一次性 | R18: 558298 | S18: / | W18: 4026 | X18: 550 | Y18: 签 | AG18: 43067 | AH18: =AI18 -> 562874 | AI18: =R18+V18+W18+X18+AA18+AB18+AC18+AD18 -> 562874 | AJ18: =R18+W18+V18+X18+AA18 -> 562874 | AK18: =AI18-AJ18 -> 0 | AN18: 44841
A19: A0025 | B19: 艾艳秋 | C19: 410103196309083720 | D19: =B19&C19 -> 艾艳秋410103196309083720 | E19: 13607690334 | G19: 3 | I19: 8 | J19: 830 | K19: 57.33 | L19: 20000 | O19: 9599.65 | P19: =ROUND(O19*K19,0) -> 550348 | Q19: 一次性 | R19: 550348 | S19: / | W19: 3726 | X19: 550 | Y19: 签 | AG19: 43241 | AH19: =AI19 -> 554624 | AI19: =R19+V19+W19+X19+AA19+AB19+AC19+AD19 -> 554624 | AJ19: =R19+W19+V19+X19+AA19 -> 554624 | AK19: =AI19-AJ19 -> 0 | AN19: 44841
A20: A0028 | B20: 李菲 | C20: 410105198406030091 | D20: =B20&C20 -> 李菲410105198406030091 | E20: 15093099119 | G20: 10 | H20: 2 | I20: 19 | J20: 1905 | K20: 93.84 | L20: 9100 | O20: 9000 | P20: =ROUND(O20*K20,0) -> 844560 | Q20: 公积金 | R20: 444560 | T20: / | V20: 400000 | W20: 6099 | X20: 80 | Y20: 签 | AG20: 43091 | AH20: =AJ20 -> 850739 | AI20: =R20+V20+W20+X20+AA20+AB20+AC20+AD20 -> 850739 | AJ20: =R20+W20+V20+X20+AA20 -> 850739 | AK20: =AI20-AJ20 -> 0 | AN20: 44841
A21: A0029 | B21: 李晶晶 | C21: 411282198304052627 | D21: =B21&C21 -> 李晶晶411282198304052627 | E21: 13403711098 15738300204 | G21: 3 | I21: 11 | J21: 1106 | K21: 61.66 | L21: 20000 | O21: 14666.22 | P21: =ROUND(O21*K21,0) -> 904319 | Q21: 按揭 | R21: 454319 | T21: 450000 | W21: 4007 | X21: 550 | Y21: 签 | AB21: =1265 -> 1265 | AG21: 2018/620 | AH21: =X21+W21+R21-135000 -> 323876 | AI21: =R21+V21+W21+X21+AA21+AB21+AC21+AD21 -> 460141 | AJ21: =R21+W21+V21+X21+AA21 -> 458876 | AK21: =AI21-AJ21 -> 1265 | AN21: 44841
A22: A0032 | B22: 李宁 | C22: 410621196310100049 | D22: =B22&C22 -> 李宁410621196310100049 | E22: 13323926092 | G22: 9 | H22: 3 | I22: 19 | J22: 1902 | K22: 99.56 | L22: 19570 | O22: 19570 | P22: =ROUND(O22*K22,0) -> 1948389 | Q22: 一次性 | R22: 1948389 | T22: / | W22: 6471 | X22: 80 | Y22: 签 | AE22: POS | AF22: 恒祥实业兴业1290 | AG22: 43979 | AI22: =R22+V22+W22+X22+AA22+AB22+AC22+AD22 -> 1954940 | AJ22: =R22+W22+V22+X22+AA22 -> 1954940 | AK22: =AI22-AJ22 -> 0 | AN22: 44841
A23: A0034 | B23: 宋秀丽 | C23: 412724197710122942 | D23: =B23&C23 -> 宋秀丽412724197710122942 | E23: 13849091662 | G23: 9 | H23: 3 | I23: 21 | J23: 2103 | K23: 99.56 | L23: 8227 | O23: 8116.5 | P23: =ROUND(O23*K23,0) -> 808079 | Q23: 公积金 | R23: 333763 | T23: / | U23: 154316 | V23: 320000 | W23: 6471 | X23: 80 | Z23: 签 | AC23: 1160070.9 | AD23: =-5000+154316 -> 149316 | AG23: 43096 | AH23: =R23+W23+X23 -> 340314 | AI23: =R23+V23+W23+X23+AA23+AB23+AC23+AD23 -> 1969700.9 | AJ23: =R23+W23+V23+X23+AA23 -> 660314 | AK23: =AI23-AJ23 -> 1309386.9 | AL23: 收据房地产，发票808079元；维修基金少申报5千， | AN23: 44841
A24: A0036 | B24: 张国彬 | C24: 410105197001106110 | D24: =B24&C24 -> 张国彬410105197001106110 | E24: 13213222299 | F24: 郑州市管城回族区烟厂西街30号院1号楼3单元44号 | G24: 3 | I24: 15 | J24: 1523 | K24: 59.07 | L24: 20000 | O24: 11441.27 | P24: =ROUND(O24*K24,0) -> 675836 | Q24: 按揭 | R24: 345836 | T24: / | V24: 330000 | W24: 3839 | X24: 550 | Y24: 签 | AB24: 1253 | AG24: 43805 | AI24: =R24+V24+W24+X24+AA24+AB24+AC24+AD24 -> 681478 | AJ24: =R24+W24+V24+X24+AA24 -> 680225 | AK24: =AI24-AJ24 -> 1253 | AN24: 44841
A25: A0037 | B25: 李永喜 | C25: 410402198112151012 | D25: =B25&C25 -> 李永喜410402198112151012 | E25: 17737716683 | G25: 9 | H25: 3 | I25: 11 | J25: 1101 | K25: 93.4 | L25: 8718 | O25: 8617.61 | P25: =ROUND(O25*K25,0) -> 804885 | Q25: 公积金 | R25: 243885 | T25: 561000 | W25: 6071 | X25: 80 | Y25: 签 | AG25: 43971 | AI25: =R25+V25+W25+X25+AA25+AB25+AC25+AD25 -> 250036 | AJ25: =R25+W25+V25+X25+AA25 -> 250036 | AK25: =AI25-AJ25 -> 0 | AN25: 44841
A26: A0038 | B26: 张茹 | C26: 410103197012052426 | D26: =B26&C26 -> 张茹410103197012052426 | E26: 15981881534 | G26: 3 | I26: 17 | J26: 1732 | K26: 55.78 | L26: 20000 | O26: 13696.526 | P26: =ROUND(O26*K26,0) -> 763992 | Q26: 一次性 | R26: 763992 | T26: / | W26: 3625 | X26: 550 | Y26: 签 | AG26: 43975 | AI26: =R26+V26+W26+X26+AA26+AB26+AC26+AD26 -> 768167 | AJ26: =R26+W26+V26+X26+AA26 -> 768167 | AK26: =AI26-AJ26 -> 0 | AN26: 44841
A27: A0041 | B27: 郑肖雷 | C27: 410203198209160017 | D27: =B27&C27 -> 郑肖雷410203198209160017 | E27: 18530818660 | G27: 10 | H27: 2 | I27: 21 | J27: 2105 | K27: 93.84 | L27: 9100 | O27: 9000 | P27: =ROUND(O27*K27,0) -> 844560 | Q27: 公积金 | R27: 444560 | T27: / | V27: 400000 | W27: 6099 | X27: 80 | Y27: 签 | AC27: 279.63 | AG27: 44027 | AH27: =W27+X27 -> 6179 | AI27: =R27+V27+W27+X27+AA27+AB27+AC27+AD27 -> 851018.63 | AJ27: =R27+W27+V27+X27+AA27 -> 850739 | AK27: =AI27-AJ27 -> 279.63 | AL27: 申报利息：2021.1.1-2022.9.21 444560*629*0.01/10000=279.63 | AN27: 44841
A28: A0042 | B28: 李智瑞 | C28: 410522197810253741 | D28: =B28&C28 -> 李智瑞410522197810253741 | E28: 18537281111 | G28: 3 | I28: 16 | J28: 1602 | K28: 47.59 | L28: 20000 | O28: 12300 | P28: 585357 | Q28: 按揭 | R28: 295357 | T28: / | V28: 290000 | W28: 3093 | X28: 550 | Y28: 签 | AA28: 615 | AB28: =1579+460 -> 2039 | AG28: 43073 | AH28: =R28+W28+X28 -> 299000 | AI28: =R28+V28+W28+X28+AA28+AB28+AC28+AD28 -> 591654 | AJ28: =R28+W28+V28+X28+AA28 -> 589615 | AK28: =AI28-AJ28 -> 2039 | AL28: 多交预约保留金615元，未申报 | AN28: 44841
A29: A0043 | B29: 房书斌 | C29: 410503198012131518 | D29: =B29&C29 -> 房书斌410503198012131518 | E29: 13938691111 | G29: 3 | I29: 17 | J29: 1730 | K29: 57.33 | L29: 20000 | O29: 12300 | P29: 705159 | Q29: 按揭 | R29: 355159 | T29: / | V29: 350000 | W29: 3726 | X29: 550 | Y29: 签 | AA29: 1230 | AB29: =1585 -> 1585 | AG29: 43073 | AH29: =R29+W29+X29 -> 359435 | AI29: =R29+V29+W29+X29+AA29+AB29+AC29+AD29 -> 712250 | AJ29: =R29+W29+V29+X29+AA29 -> 710665 | AK29: =AI29-AJ29 -> 1585 | AL29: 多交预约保留金1230元，未申报 | AN29: 44841
A30: A0044 | B30: 王志勇 | C30: 410105196109231015 | D30: =B30&C30 -> 王志勇410105196109231015 | E30: 15137132351 | G30: 9 | H30: 3 | I30: 30 | J30: 3004 | K30: 94.65 | L30: 8830 | O30: 8729.61 | P30: 826257.73 | Q30: 一次性 | R30: 826258 | T30: 0 | W30: 6152 | X30: 80 | Z30: 签 | AG30: 42255 | AH30: =W30+X30 -> 6232 | AI30: =R30+V30+W30+X30+AA30+AB30+AC30+AD30 -> 832490 | AJ30: =R30+W30+V30+X30+AA30 -> 832490 | AK30: =AI30-AJ30 -> 0 | AN30: 44841
A31: A0047 | B31: 朱箫洁 | C31: 411121198005162027 | D31: =B31&C31 -> 朱箫洁411121198005162027 | E31: 13633812957 | G31: 3 | I31: 22 | J31: 2234 | K31: 55.51 | L31: 30000 | O31: 12500 | P31: =ROUND(O31*K31,0) -> 693875 | Q31: 一次性 | R31: 693875 | T31: / | W31: 3608 | X31: 550 | Y31: 签 | AF31: 恒祥实业 | AG31: 43075 | AI31: =R31+V31+W31+X31+AA31+AB31+AC31+AD31 -> 698033 | AJ31: =R31+W31+V31+X31+AA31 -> 698033 | AK31: =AI31-AJ31 -> 0 | AN31: 44841
A32: A0048 | B32: 付艳艳 | C32: 411081198407311567 | D32: =B32&C32 -> 付艳艳411081198407311567 | E32: 13598081312 | G32: 2 | I32: 11 | J32: 1111 | K32: 49.89 | L32: 30000 | O32: 14632.19 | P32: =ROUND(O32*K32,0) -> 730000 | Q32: 按揭 | R32: 370000 | T32: 360000 | W32: 3242 | X32: 550 | AF32: 恒祥实业兴业银行 | AG32: 43308 | AH32: =R32+W32+X32 -> 373792 | AI32: =R32+V32+W32+X32+AA32+AB32+AC32+AD32 -> 373792 | AJ32: =R32+W32+V32+X32+AA32 -> 373792 | AK32: =AI32-AJ32 -> 0 | AN32: 44841
A33: A0049 | B33: 刘艳 | C33: 412726198509225429 | D33: =B33&C33 -> 刘艳412726198509225429 | E33: 18339985252 | G33: 9 | H33: 3 | I33: 9 | J33: 901 | K33: 93.4 | L33: 8702 | O33: 8601.6 | P33: 803389 | Q33: 公积金 | R33: 483389 | T33: / | V33: 320000 | W33: 6071 | X33: 80 | Z33: 签 | AB33: 1140 | AG33: 43099 | AH33: =W33+X33 -> 6151 | AI33: =R33+V33+W33+X33+AA33+AB33+AC33+AD33 -> 810680 | AJ33: =R33+W33+V33+X33+AA33 -> 809540 | AK33: =AI33-AJ33 -> 1140 | AL33: 维修基金和登记费为房地产收据，房款为实业发票，无流水 | AN33: 44841
A34: A0053 | B34: 孔德丽 | C34: 41010519640414052x | D34: =B34&C34 -> 孔德丽41010519640414052x | E34: 15890610896 | G34: 10 | H34: 2 | I34: 12 | J34: 1206 | K34: 99.52 | L34: 8600 | O34: 8500 | P34: 845920 | Q34: 一次性 | R34: 876602 | S34: -30682 | T34: / | W34: 6468 | X34: 80 | Y34: 签 | AG34: 43976 | AH34: =W34+X34 -> 6548 | AI34: =R34+V34+W34+X34+AA34+AB34+AC34+AD34 -> 883150 | AJ34: =R34+W34+V34+X34+AA34 -> 883150 | AK34: =AI34-AJ34 -> 0 | AN34: 44841
A35: A0054 | B35: 奚合忠 | C35: 410504196411052013 | D35: =B35&C35 -> 奚合忠410504196411052013 | E35: 13643838108 | F35: 郑州市金水区经三路北99号 | G35: 6 | H35: 2 | I35: 6 | J35: 602 | K35: 86.33 | L35: 17900 | O35: 13400 | P35: 1156822 | Q35: 一次性 | R35: =1156822+32767 -> 1189589 | S35: -32767 | T35: / | W35: 5611 | X35: 80 | Y35: 签 | AG35: 44002 | AI35: =R35+V35+W35+X35+AA35+AB35+AC35+AD35 -> 1195280 | AJ35: =R35+W35+V35+X35+AA35 -> 1195280 | AK35: =AI35-AJ35 -> 0 | AL35: 无发票和流水 | AN35: 44841
A36: A0058 | B36: 孟云 | D36: =B36&C36 -> 孟云 | E36: 13903710159 | G36: 9 | H36: 3 | I36: 21 | J36: 2101 | K36: 93.4 | L36: 8998 | O36: 8697.61 | P36: =ROUND(O36*K36,0) -> 812357 | Q36: 按揭 | R36: 300000 | T36: 512356.67 | AG36: 42237 | AH36: =AJ36 -> 300000 | AI36: =R36+V36+W36+X36+AA36+AB36+AC36+AD36 -> 300000 | AJ36: =R36+W36+V36+X36+AA36 -> 300000 | AK36: =AI36-AJ36 -> 0 | AL36: 无发票和流水 | AN36: 44841
A37: A0059 | B37: 李薇 | C37: 410102197503311027 | D37: =B37&C37 -> 李薇410102197503311027 | E37: 13603990388 | G37: 3 | I37: 7 | J37: 701 | K37: 68.05 | L37: 20000 | O37: 8835.9742 | P37: =ROUND(O37*K37,0) -> 601288 | Q37: 按揭 | R37: 302260 | T37: 299028 | U37: =P37-R37 -> 299028 | AG37: 42747 | AI37: =R37+V37+W37+X37+AA37+AB37+AC37+AD37 -> 302260 | AJ37: =R37+W37+V37+X37+AA37 -> 302260 | AK37: =AI37-AJ37 -> 0 | AL37: 无发票和流水 | AN37: 44841
A38: A0061-1 | B38: 郭新战 | C38: 410202197409021010 | D38: =B38&C38 -> 郭新战410202197409021010 | E38: 13298365861 | G38: 3 | I38: 17 | J38: 1727 | K38: 58.41 | L38: 20000 | O38: 13654.61 | P38: 797566 | Q38: 一次性 | R38: 797566 | T38: / | W38: 3796 | X38: 550 | Y38: 签 | AB38: 3000 | AF38: 恒祥实业 | AG38: 42695 | AH38: =R38+W38+X38 -> 801912 | AI38: =R38+V38+W38+X38+AA38+AB38+AC38+AD38 -> 804912 | AJ38: =R38+W38+V38+X38+AA38 -> 801912 | AK38: =AI38-AJ38 -> 3000 | AN38: 44841
A39: A0061-2 | B39: 郭新战 | C39: 410202197409021010 | D39: =B39&C39 -> 郭新战410202197409021010 | E39: 13298365861 | G39: 3 | I39: 17 | J39: 1712 | K39: 65.94 | L39: 20000 | O39: 13013.35 | P39: 858100 | Q39: 一次性 | R39: 858100 | T39: / | W39: 4286 | X39: 550 | Y39: 签 | AB39: 3000 | AF39: 恒祥实业 | AG39: 42695 | AI39: =R39+V39+W39+X39+AA39+AB39+AC39+AD39 -> 865936 | AJ39: =R39+W39+V39+X39+AA39 -> 862936 | AK39: =AI39-AJ39 -> 3000 | AN39: 44841
A40: A0068 | B40: 李海鹏 | C40: 410103198610010079 | D40: =B40&C40 -> 李海鹏410103198610010079 | E40: 18638579566 | G40: 6 | H40: 1 | I40: 19 | J40: 1906 | K40: 86.33 | L40: 17900 | O40: 15000 | P40: 1294950 | Q40: 公积金 | R40: 894950 | T40: / | V40: 400000 | W40: 5611 | X40: 80 | Y40: 签 | AF40: 恒祥实业 | AG40: 43317 | AH40: =R40+W40+X40 -> 900641 | AI40: =R40+V40+W40+X40+AA40+AB40+AC40+AD40 -> 1300641 | AJ40: =R40+W40+V40+X40+AA40 -> 1300641 | AK40: =AI40-AJ40 -> 0 | AL40: 按揭款40万无收据和发票 | AN40: 44841
...

Sheet 车位
A1: 材料编号 | B1: 姓名 | C1: 电话 | D1: 身份证 | E1: 层次 | F1: 车位号 | G1: 新编号 | H1: 已交款 | I1: 利息/违约金 | J1: 债权发生时间 | K1: 房地产收据金额 | L1: 申报金额 | M1: 核定金额 | N1: 差异 | O1: 备注 | P1: 登记人 | Q1: 登记日期 | T1: 申报金额合计 | U1: =SUM(L:L) -> 16667358 | V1: 核定金额合计 | W1: =SUM(M:M) -> 16667358 | X1: 累计登记数量 | Y1: =COUNTA(A:A)-1 -> 69
A2: A0004 | B2: 孙晓佳 | C2: 13526699667 | E2: -4 | F2: 1573 | G2: 111 | H2: 160000 | J2: 42748 | L2: =H2+I2 -> 160000 | M2: =L2 -> 160000 | N2: =L2-M2 -> 0 | Q2: 44841 | R2: =H2-L2 -> 0
A3: A0005 | B3: 李甲 | C3: 18530021611 | E3: -4 | F3: 1519 | G3: 226 | H3: 160000 | J3: 42748 | L3: =H3+I3 -> 160000 | M3: =L3 -> 160000 | N3: =L3-M3 -> 0 | Q3: 44841 | R3: =H3-L3 -> 0
A4: A0034 | B4: 宋秀丽 | C4: 13849091662 | E4: -4 | F4: 1587 | G4: 125 | H4: 100000 | J4: 43033 | L4: =H4+I4 -> 100000 | M4: =L4 -> 100000 | N4: =L4-M4 -> 0 | Q4: 44841 | R4: =H4-L4 -> 0
A5: A0054 | B5: 奚迅 | C5: 13643838108 | E5: -4 | F5: 1482 | G5: 104 | H5: 160000 | J5: 42738 | L5: =H5+I5 -> 160000 | M5: =L5 -> 160000 | N5: =L5-M5 -> 0 | Q5: 44841 | R5: =H5-L5 -> 0
A6: A0068 | B6: 李海鹏 | C6: 18638579566 | D6: 410103198610010079 | E6: -4 | F6: 1657 | G6: 86 | H6: 170000 | J6: 43211 | K6: =M6 -> 170000 | L6: =H6+I6 -> 170000 | M6: =L6 -> 170000 | N6: =L6-M6 -> 0 | Q6: 44841 | R6: =H6-L6 -> 0
A7: A0087 | B7: 张璐 | C7: 18137708561 | D7: 410105198505230259 | E7: -4 | F7: 1488 | G7: 101 | H7: 160000 | J7: 43093 | L7: =H7+I7 -> 160000 | M7: =L7 -> 160000 | N7: =L7-M7 -> 0 | Q7: 44841 | R7: =H7-L7 -> 0
A8: A0117 | B8: 胡冬梅 | C8: 13901891583 | E8: -4 | F8: 1395 | G8: 278 | H8: 160000 | J8: 42755 | L8: =H8+I8 -> 160000 | M8: =L8 -> 160000 | N8: =L8-M8 -> 0 | Q8: 44841 | R8: =H8-L8 -> 0
A9: A0130-1 | B9: 邓继锋 | C9: 13653796669 | E9: -4 | F9: 1590 | G9: 128 | H9: 160000 | J9: 42748 | L9: =H9+I9 -> 160000 | M9: 160000 | N9: =L9-M9 -> 0 | Q9: 44841 | R9: =H9-L9 -> 0
A10: A0211 | B10: 邢华锋 | C10: 13949015016 | D10: 410105197411306174 | E10: -3 | F10: B262-294 | H10: 5610000 | J10: 43272 | L10: =H10+I10 -> 5610000 | M10: =L10 -> 5610000 | N10: =L10-M10 -> 0 | O10: 需要再补充资料，仅有车位，无住宅 | Q10: 44841 | R10: =H10-L10 -> 0
A11: A0223 | B11: 王晨 | C11: 13838692716 | D11: 412721199802140021 | E11: -4 | F11: 1578 | G11: 116 | H11: 160000 | J11: 42997 | L11: =H11+I11 -> 160000 | M11: 160000 | N11: =L11-M11 -> 0 | Q11: 44841 | R11: =H11-L11 -> 0
A12: A0287 | B12: 晏淑珍 | C12: 13733197018 | D12: 210403196312111824 | F12: 3FD036 | H12: 160000 | J12: 43675 | K12: 160000 | L12: =H12+I12 -> 160000 | M12: 160000 | N12: =L12-M12 -> 0 | Q12: 44841 | R12: =H12-L12 -> 0
A13: A0309 | B13: 朱文静 | C13: 13838290722 | E13: -4 | F13: 1464 | G13: 266 | H13: 160000 | J13: 42748 | L13: =H13+I13 -> 160000 | M13: =L13 -> 160000 | N13: =L13-M13 -> 0 | Q13: 44841 | R13: =H13-L13 -> 0
A14: A0448 | B14: 张茜 | C14: 15290436059 | D14: 410603199005190026 | E14: -4 | F14: 1468 | H14: 160000 | J14: 42749 | K14: 160000 | L14: =H14+I14 -> 160000 | M14: 160000 | N14: =L14-M14 -> 0 | Q14: 44841 | R14: =H14-L14 -> 0
A15: A0461 | B15: 刘洪英 | C15: 15515190999 | D15: 410511196607110688 | E15: -4 | F15: 1399 | H15: 160000 | J15: 42748 | K15: 160000 | L15: =H15+I15 -> 160000 | M15: 160000 | N15: =L15-M15 -> 0 | Q15: 44841 | R15: =H15-L15 -> 0
A16: A0461 | B16: 刘洪英 | C16: 15515190999 | D16: 410511196607110688 | E16: -4 | F16: 1401 | H16: 160000 | J16: 42748 | K16: 160000 | L16: =H16+I16 -> 160000 | M16: 160000 | N16: =L16-M16 -> 0 | Q16: 44841 | R16: =H16-L16 -> 0
A17: A0539 | B17: 王品 | C17: 18739948799 | D17: 412326198706232140 | E17: -4 | F17: 1635 | G17: 173 | H17: 190000 | J17: 43112 | K17: 190000 | L17: =H17+I17 -> 190000 | M17: 190000 | N17: =L17-M17 -> 0 | Q17: 44841 | R17: =H17-L17 -> 0
A18: A0567 | B18: 刘孝刚 | C18: 13607610265 | D18: 413026196811146952 | E18: -4 | F18: 1462 | G18: 268 | H18: 160000 | J18: 42748 | L18: =H18+I18 -> 160000 | M18: 160000 | N18: =L18-M18 -> 0 | O18: 未签协议 | Q18: 44841 | R18: =H18-L18 -> 0
A19: A0571 | B19: 高晨瀚 | C19: 13839421861 | E19: -4 | F19: 1516 | G19: 217 | H19: 185000 | J19: 43128 | K19: =M19 -> 185000 | L19: =H19+I19 -> 185000 | M19: =L19 -> 185000 | N19: =L19-M19 -> 0 | Q19: 44841 | R19: =H19-L19 -> 0
A20: A0572 | B20: 田晓礼 | C20: 15617830016 | D20: 412725198209160321 | E20: -4 | F20: 1518 | G20: 216 | H20: 185000 | J20: 43128 | K20: 1850000 | L20: =H20+I20 -> 185000 | M20: =L20 -> 185000 | N20: =L20-M20 -> 0 | Q20: 44841 | R20: =H20-L20 -> 0
A21: A0579 | B21: 张丹 | C21: 15837191888 | D21: 41010319780525372X | E21: -4 | F21: 1398 | G21: 275 | H21: 180000 | J21: 42959 | L21: =H21+I21 -> 180000 | M21: 180000 | N21: =L21-M21 -> 0 | Q21: 44841 | R21: =H21-L21 -> 0
A22: A0598 | B22: 李琳 | C22: 17737177879 | D22: 412301197906014541 | E22: -4 | F22: 1571 | G22: 109 | H22: 160000 | J22: 42758 | L22: =H22+I22 -> 160000 | M22: 160000 | N22: =L22-M22 -> 0 | Q22: 44841 | R22: =H22-L22 -> 0
A23: A0622 | B23: 付亚杰 | C23: 13526435083 | D23: 412825198807064984 | E23: -4 | F23: 1467 | G23: 261 | H23: 160000 | I23: 5394.4 | J23: 43948 | L23: =H23+I23 -> 165394.4 | M23: 165394.4 | N23: =L23-M23 -> 0 | O23: 付亚杰代恒祥支付，附原业主出具的收据 | Q23: 44841 | R23: =H23-L23 -> -5394.4
A24: A0622 | B24: 付亚杰 | C24: 13526435083 | D24: 412825198807064984 | E24: -4 | F24: 1577 | G24: 115 | H24: 160000 | I24: 6963.4 | J24: 43945 | L24: =H24+I24 -> 166963.4 | M24: 166963.4 | N24: =L24-M24 -> 0 | O24: 付亚杰代恒祥支付，附原业主出具的收据 | Q24: 44841 | R24: =H24-L24 -> -6963.4
A25: A0676 | B25: 董世 | C25: 15981991266 | D25: 410422197502112212 | E25: -4 | F25: 1517 | G25: 225 | H25: 160000 | J25: 42838 | K25: =M25 -> 160000 | L25: =H25+I25 -> 160000 | M25: 160000 | N25: =L25-M25 -> 0 | O25: 王朝杰申报 | P25: GS | Q25: 44842 | R25: =H25-L25 -> 0
A26: A0691 | B26: 赵建武 | C26: 18638566949 | E26: -4 | F26: 1538 | G26: 206 | H26: 160000 | J26: 42748 | L26: =H26+I26 -> 160000 | M26: 160000 | N26: =L26-M26 -> 0 | P26: GXN | Q26: 44842 | R26: =H26-L26 -> 0
A27: A0691 | B27: 赵建武 | C27: 18638566949 | E27: -4 | F27: 1540 | G27: 205 | H27: 160000 | J27: 42748 | L27: =H27+I27 -> 160000 | M27: 160000 | N27: =L27-M27 -> 0 | P27: GXN | Q27: 44842 | R27: =H27-L27 -> 0
A28: A0693 | B28: 王水平 | C28: 18638796362 | E28: -4 | F28: 1636 | G28: 174 | H28: 160000 | J28: 42748 | L28: =H28+I28 -> 160000 | M28: 160000 | N28: =L28-M28 -> 0 | P28: GXN | Q28: 44842 | R28: =H28-L28 -> 0
A29: A0703 | B29: 金现英 | C29: 13949071031 | E29: -4 | F29: 1660 | G29: 82 | H29: 160000 | J29: 42748 | L29: =H29+I29 -> 160000 | M29: 160000 | N29: =L29-M29 -> 0 | P29: NK | Q29: 44842 | R29: =H29-L29 -> 0
A30: A0715 | B30: 贾西林 | C30: 15937180093 | E30: -4 | F30: 1662 | G30: 83 | H30: 160000 | J30: 42748 | L30: =H30+I30 -> 160000 | M30: 160000 | N30: =L30-M30 -> 0 | P30: GXN | Q30: 44842 | R30: =H30-L30 -> 0
A31: A0729 | B31: 黄美玲 | C31: 15544080000 | E31: -4 | F31: 1574 | G31: 112 | H31: 160000 | L31: =H31+I31 -> 160000 | M31: 160000 | N31: =L31-M31 -> 0 | P31: GXN | Q31: 44843 | R31: =H31-L31 -> 0
A32: A0751 | B32: 曾嘉华 | C32: 18638163724/18503859230 | D32: 410105198511050270 | E32: -4 | F32: 1570 | G32: 108 | H32: 160000 | J32: 收据日期不清晰 | L32: =H32+I32 -> 160000 | M32: 160000 | N32: =L32-M32 -> 0 | P32: GS | Q32: 44843 | R32: =H32-L32 -> 0
A33: A0754 | B33: 仉杨 | C33: 13526180562 | D33: 410504198006051024 | E33: -4 | F33: 1470 | G33: 258 | H33: 170000 | J33: 43225 | K33: =H33 -> 170000 | L33: =H33+I33 -> 170000 | M33: =H33 -> 170000 | N33: =L33-M33 -> 0 | P33: NK | Q33: 44842 | R33: =H33-L33 -> 0
A34: A0796 | B34: 魏玉霞 | C34: 18603869007 | E34: -4 | F34: 1481 | G34: 103 | H34: 160000 | J34: 42748 | L34: =H34+I34 -> 160000 | M34: =H34 -> 160000 | N34: =L34-M34 -> 0 | P34: NK | Q34: 44842 | R34: =H34-L34 -> 0
A35: A0796 | B35: 魏玉霞 | C35: 18603869007 | E35: -4 | F35: 1483 | G35: 105 | H35: 160000 | J35: 42748 | L35: =H35+I35 -> 160000 | M35: =H35 -> 160000 | N35: =L35-M35 -> 0 | P35: NK | Q35: 44842 | R35: =H35-L35 -> 0
A36: A0826 | B36: 李雪娜 | C36: 18638572827 | E36: -4 | F36: 1396 | G36: 277 | H36: 160000 | J36: 42749 | L36: =H36+I36 -> 160000 | M36: =H36 -> 160000 | N36: =L36-M36 -> 0 | P36: QYX | Q36: 44844 | R36: =H36-L36 -> 0
A37: A0826 | B37: 李雪娜 | C37: 18638572827 | E37: -4 | F37: 1397 | G37: 276 | H37: 160000 | J37: 42749 | L37: =H37+I37 -> 160000 | M37: =H37 -> 160000 | N37: =L37-M37 -> 0 | P37: QYX | Q37: 44844 | R37: =H37-L37 -> 0
A38: A0858 | B38: 张景慧 | C38: 13782192996 | D38: 412931196505140404 | E38: -4 | F38: 1490 | G38: 100 | H38: 160000 | J38: 42983 | K38: =M38 -> 160000 | L38: =H38+I38 -> 160000 | M38: 160000 | N38: =L38-M38 -> 0 | P38: GS | Q38: 44844 | R38: =H38-L38 -> 0
A39: A0880 | B39: 赵梅芝、周子晔 | C39: 13838111759 | D39: 410105198911170132 | E39: -4 | F39: 1009 | G39: C227 | H39: 150000 | J39: 43473 | L39: =H39+I39 -> 150000 | M39: 150000 | N39: =L39-M39 -> 0 | P39: GS | Q39: 44844 | R39: =H39-L39 -> 0
A40: A0880 | B40: 赵梅芝、任慧婷 | C40: 13838111759 | D40: 410105196506191029 | E40: -4 | F40: 1010 | G40: C228 | H40: 150000 | J40: 43473 | L40: =H40+I40 -> 150000 | M40: 150000 | N40: =L40-M40 -> 0 | P40: GS | Q40: 44844 | R40: =H40-L40 -> 0
...

Sheet 商业盒子
A1: 材料编号 | B1: 姓名 | C1: 身份证 | D1: 地址 | E1: 手机号 | F1: 楼 层 | G1: 户室 号 | H1: 房屋建 筑面积 | I1: 销售 | J1: 房号 | K1: 销售 面积 | L1: 定房日期 | M1: 实交首 付日期 | N1: 付款方式 （按揭/公积金/一次性） | O1: 预估 单价 | P1: 预估 总价 | Q1: 优惠后单价 | R1: 优惠后 总房款 | S1: 总付款 | T1: 预计按揭款 | U1: 按揭回款 | V1: 维修 基金 | W1: 产权 登记费 | X1: 需退款 | Y1: j | Z1: 签 | AA1: 网签日期 | AB1: 备注 | AC1: 中介费 及其他 | AD1: 申报利息违约金 | AE1: 其他 | AF1: 收款方式 | AG1: 收款账号 | AH1: 房地产 收据金额 | AI1: 申报金额 | AJ1: 核定金额 | AK1: 差异 | AL1: 备注 | AM1: 登记人 | AN1: 登记日期 | AP1: 申报金额合计 | AQ1: =SUM(AI:AI) -> 5.9575266e+08 | AR1: 核定金额合计 | AS1: =SUM(AJ:AJ) -> 577342190 | AT1: 累计登记数量 | AU1: =COUNTA(A:A)-1 -> 1280
A2: A0001 | B2: 赵黎 | C2: 41010419590408202X | D2: 郑州市管城回族区晋王庙108号院3号楼10号 | E2: 13526559300 | F2: 3 | G2: 3239 | H2: 14.17 | I2: 问道 | J2: 3F6-049 | K2: 13.63 | L2: 2019-4-21 | M2: 2019-4-21 | N2: 一次性 | Q2: 31112.84 | R2: 424068 | S2: 424068 | T2: 0 | AI2: =S2+U2+V2+W2+X2+AC2+AD2+AE2 -> 424068 | AJ2: =S2+U2+V2+W2+X2 -> 424068 | AK2: =AI2-AJ2 -> 0 | AN2: 44841
A3: A0003 | B3: 薛芳 | C3: 132522198208143821 | D3: 郑州市中原区须贾路4号院 | E3: 15638512306 15003712511 | F3: 3 | G3: 3644 | H3: 16.72 | I3: 21世纪 | J3: 3FB-154 | K3: 24.45 | L3: 2019-2-23 | M3: 2020-7-29 | N3: 一次性 | Q3: 26584.87 | R3: 444499 | S3: 444499 | T3: =R3-S3 -> 0 | V3: 1086 | W3: 550 | Y3: 已 | Z3: 签 | AA3: 44103 | AI3: =S3+U3+V3+W3+X3+AC3+AD3+AE3 -> 446135 | AJ3: =S3+U3+V3+W3+X3 -> 446135 | AK3: =AI3-AJ3 -> 0 | AN3: 44841
A4: A0007 | B4: 王冉冉 | C4: 410523198905167564 | D4: 河南省汤阴县宜沟镇王军庄村280号 | E4: 18530051051 | F4: 3 | G4: 3478 | H4: 17.03 | I4: 问道 | J4: 3F4-057 | K4: 15.03 | L4: 2019-8-25 | M4: 2019-8-31 | N4: 一次性分期 | Q4: 31936.13 | R4: 480000 | S4: 240000 | T4: =R4-S4 -> 240000 | AF4: pos | AG4: 河北问道70839，恒祥实业159161 | AI4: =S4+U4+V4+W4+X4+AC4+AD4+AE4 -> 240000 | AJ4: =S4+U4+V4+W4+X4 -> 240000 | AK4: =AI4-AJ4 -> 0
A5: A0010 | B5: 马赛 侯凌艳 | C5: 412728198905252544 | D5: 河南省沈丘县纸店镇丘庄行政村侯庄148号 | F5: 4 | G5: 4151 | H5: 36.5 | I5: 21世纪 | J5: 4FA-141 | K5: 41.78 | L5: 2018-11-18 | M5: 2020-5-31 | N5: 一次性 | Q5: 21302.058 | R5: 777525 | S5: 777525 | T5: =R5-S5 -> 0 | V5: 2372 | W5: 560 | X5: 109543 | Y5: 已 | AI5: =S5+U5+V5+W5+X5+AC5+AD5+AE5 -> 890000 | AJ5: =S5+U5+V5+W5+X5 -> 890000 | AK5: =AI5-AJ5 -> 0 | AN5: 44841
A6: A0011 | B6: 张宣堂 | C6: 320926196512010419 | D6: 郑州市中原区伏牛路197号 | E6: 15890680307 | F6: 4 | G6: 4396 | H6: 18.16 | I6: 问道 | J6: 4F9-002 | K6: 14.88 | L6: 2019-5-11 | M6: 2019-5-14 | N6: 按揭 | Q6: 27307.06 | R6: 406329 | S6: 216329 | T6: =R6-S6 -> 190000 | AI6: =S6+U6+V6+W6+X6+AC6+AD6+AE6 -> 216329 | AJ6: =S6+U6+V6+W6+X6 -> 216329 | AK6: =AI6-AJ6 -> 0 | AN6: 44841
A7: A0022 | B7: 皇甫秋艳 | C7: 410822198808074526 | D7: 河南省中牟县大孟乡大庙李村168号附1号 | E7: 13526512566 | F7: 1 | G7: 1313 | H7: 22.95 | I7: 问道 | J7: 1F5-039 | K7: 20.75 | L7: 2019-10-30 | M7: 2020-6-20 | N7: 一次性 | Q7: 48125.32 | R7: 1104476 | S7: 1104476 | T7: =R7-S7 -> 0 | V7: 1491 | W7: 550 | Y7: 已 | Z7: 签 | AA7: 44052 | AF7: pos | AG7: 恒祥实业 | AI7: =S7+U7+V7+W7+X7+AC7+AD7+AE7 -> 1106517 | AJ7: =S7+U7+V7+W7+X7 -> 1106517 | AK7: =AI7-AJ7 -> 0 | AN7: 44841
A8: A0026 | B8: 胡洋 | C8: 410105198311153830 | D8: 郑州市金水区沙口路108号院9号 | E8: 18638737345 | F8: 4 | G8: 466 | H8: 21.34 | I8: 问道 | J8: 4F1-083 | K8: 15.76 | L8: 2019-4-13 | M8: 2019-4-13 | N8: 一次性 | Q8: 25253.36 | R8: 397993 | S8: 397993 | T8: =R8-S8 -> 0 | AI8: =S8+U8+V8+W8+X8+AC8+AD8+AE8 -> 397993 | AJ8: =S8+U8+V8+W8+X8 -> 397993 | AK8: =AI8-AJ8 -> 0 | AN8: 44841
A9: A0027 | B9: 孟丹 | C9: 411424198506153327 | D9: 郑州市金水区商务外环路8号楼2201号 | E9: 18768869327 | F9: 2 | G9: 242 | H9: 27.2 | I9: 21世纪 | J9: 2FA-013 | K9: 22.73 | L9: 2018-11-14 | M9: 2018-11-27 | N9: 按揭 | Q9: 31148.92 | R9: 708015 | S9: 358015 | T9: =R9-S9 -> 350000 | AI9: =S9+U9+V9+W9+X9+AC9+AD9+AE9 -> 358015 | AJ9: =S9+U9+V9+W9+X9 -> 358015 | AK9: =AI9-AJ9 -> 0 | AN9: 44841
A10: A0030 | B10: 杨建军 | C10: 412028197407110015 | D10: 郑州市金水区国基路102号院7号楼18号 | E10: 18603819017 | F10: 4 | G10: 4442 | H10: 10.72 | I10: 问道 | J10: 4F5-053 | K10: 8.61 | L10: 2019-10-13 | M10: 2019-10-13 | N10: 一次性 | Q10: 27677.93 | R10: 238307 | S10: 238307 | T10: =R10-S10 -> 0 | AF10: 转账 | AI10: =S10+U10+V10+W10+X10+AC10+AD10+AE10 -> 238307 | AJ10: =S10+U10+V10+W10+X10 -> 238307 | AK10: =AI10-AJ10 -> 0 | AN10: 44841
A11: A0031 | B11: 张洋 | C11: 410102198310302524 | D11: 北京市西城区三里河二区南一巷一号 | E11: 17601640655 17601648376 | F11: 2 | G11: 261 | H11: 27.8 | I11: 21世纪 | J11: 2FA-031 | K11: 28 | L11: 2018-11-27 | M11: 2020-6-11 | N11: 一次性 | Q11: 31407 | R11: 873115 | S11: 873115 | T11: =R11-S11 -> 0 | V11: 1807 | W11: 550 | X11: 3924 | Y11: 已 | Z11: 签 | AA11: 44065 | AF11: pos | AG11: 恒祥实业 | AI11: =S11+U11+V11+W11+X11+AC11+AD11+AE11 -> 879396 | AJ11: =S11+U11+V11+W11+X11 -> 879396 | AK11: =AI11-AJ11 -> 0 | AN11: 44841
A12: A0033 | B12: 张健 朱美菊 | C12: 410105197911171616/410105195311090047 | D12: 郑州市金水区纬五路16号院 | E12: 18137828819 18137785053 | F12: 1 | G12: 1145 | H12: 28.5 | I12: 21世纪 | J12: 1FA-041 | K12: 23.1 | L12: 2018-11-13 | M12: 2018-12-17 | N12: 一次性 | Q12: 53124.372 | R12: 1227173 | S12: 1227173 | T12: =R12-S12 -> 0 | AG12: 恒祥实业 | AI12: =S12+U12+V12+W12+X12+AC12+AD12+AE12 -> 1227173 | AJ12: =S12+U12+V12+W12+X12 -> 1227173 | AK12: =AI12-AJ12 -> 0 | AN12: 44841
A13: A0035 | B13: 芦强 | C13: 410802199512280012 | D13: 河南省焦作市解放区民主中路统建71号楼2单元5号 | E13: 13939178811 15112490829 | F13: 1 | G13: 1753 | H13: 24.38 | I13: 问道 | J13: 1F8-118 | K13: 24.38 | L13: 2019-7-2 | M13: 2019-7-19 | N13: 按揭 | Q13: 47826.09 | R13: 1166000 | S13: 586000 | T13: =R13-S13 -> 580000 | AI13: =S13+U13+V13+W13+X13+AC13+AD13+AE13 -> 586000 | AJ13: =S13+U13+V13+W13+X13 -> 586000 | AK13: =AI13-AJ13 -> 0 | AN13: 44841
A14: A0039 | B14: 文丽英 | C14: 412702197201060028 | D14: 郑州市金水区生产路7号4号楼64号 | E14: 15638827743 | F14: 3 | G14: 3318 | H14: 16.74 | I14: 问道 | J14: 3F6-117 | K14: 16.16 | L14: 2019-5-15 | M14: 2019-8-4 | N14: 按揭 | Q14: 32416.4 | R14: 523849 | S14: 263849 | T14: 260000 | AB14: 韩润更 | AF14: 无付款凭证 | AI14: =S14+U14+V14+W14+X14+AC14+AD14+AE14 -> 263849 | AJ14: =S14+U14+V14+W14+X14 -> 263849 | AK14: =AI14-AJ14 -> 0 | AN14: 44841
A15: A0040-1 | B15: 郑可垚 刘春平 | C15: 410503200103060014 410503197610042027 | E15: 13703727381 | F15: 3 | G15: 3964 | H15: 29.47 | I15: 问道 | J15: 3F10-044 | K15: 26.42 | L15: 2019-12-21 | M15: 2019-12-21 | N15: 一次性 | Q15: 31292.24 | R15: 826741 | S15: 826741 | AF15: pos | AG15: 恒祥实业 | AI15: =S15+U15+V15+W15+X15+AC15+AD15+AE15 -> 826741 | AJ15: =S15+U15+V15+W15+X15 -> 826741 | AK15: =AI15-AJ15 -> 0 | AN15: 44841
A16: A0040-2 | B16: 郑可垚 刘春平 | C16: 410503200103060014 410503197610042027 | E16: 13703727381 | F16: 4 | G16: 4327 | H16: 54.05 | I16: 问道 | J16: 4F3-015 | K16: 54.05 | L16: 2019-12-21 | M16: 2019-12-21 | N16: 一次性 | Q16: 24791.86 | R16: 1340000 | S16: 1340000 | AF16: pos | AG16: 恒祥实业 | AI16: =S16+U16+V16+W16+X16+AC16+AD16+AE16 -> 1340000 | AJ16: =S16+U16+V16+W16+X16 -> 1340000 | AK16: =AI16-AJ16 -> 0 | AN16: 44841
A17: A0045 | B17: 魏方正 | C17: 410526199202012017 | D17: 河南省滑县四间房乡南呼村85号 | E17: 13071093832 | F17: 3 | G17: 3738 | H17: 15.45 | I17: 问道 | J17: 3F8-049 | K17: 15.03 | L17: 2019-5-19 | M17: 2020-5-30 | N17: 按揭 | Q17: 32167.33 | R17: 496985 | S17: 256985 | T17: 240000 | V17: 1004 | W17: 550 | Y17: 已 | AB17: 合同面积15.03平米，后续增加至15.45平米 | AC17: 1244.8 | AI17: =S17+U17+V17+W17+X17+AC17+AD17+AE17 -> 259783.8 | AJ17: =S17+U17+V17+W17+X17 -> 258539 | AK17: =AI17-AJ17 -> 1244.8 | AN17: 44841
A18: A0046 | B18: 张健 | C18: 412702199201057418 | D18: 郑州市金水区国基路56号院8号楼2单元1302号 | E18: 18737121868 | F18: 1 | G18: 1105 | H18: 23.57 | I18: 问道 | J18: 1F2-103 | K18: 21.09 | L18: 2019-4-21 | M18: 2019-4-24 | N18: 按揭 | Q18: 47267.24 | R18: 996866 | S18: 506866 | T18: =R18-S18 -> 490000 | AF18: pos、转账 | AG18: 恒祥实业407180元、河北问道99686元 | AI18: =S18+U18+V18+W18+X18+AC18+AD18+AE18 -> 506866 | AJ18: =S18+U18+V18+W18+X18 -> 506866 | AK18: =AI18-AJ18 -> 0 | AN18: 44841
A19: A0050 | B19: 樊朝彩 | C19: 410526196603189127 | D19: 河南省滑县王庄镇堤南村18号 | E19: 13838009360 | F19: 3 | G19: 3988 | H19: 20.04 | I19: 问道 | J19: 3F10-003 | K19: 16.48 | L19: 2019-12-21 | M19: 2019-12-27 | N19: 按揭 | Q19: 32160.19 | R19: 530000 | S19: 270000 | T19: =R19-S19 -> 260000 | AF19: POS | AG19: 恒祥实业 | AI19: =S19+U19+V19+W19+X19+AC19+AD19+AE19 -> 270000 | AJ19: =S19+U19+V19+W19+X19 -> 270000 | AK19: =AI19-AJ19 -> 0 | AN19: 44841
A20: A0051 | B20: 关伟伟 | C20: 411224199002251410 | D20: 郑州市高新技术开发区石佛镇石佛村南二街58号 | E20: 15617800113 | F20: 3 | G20: 3372 | H20: 19.42 | I20: 问道 | J20: 3F5-102 | K20: 19.01 | L20: 2019-7-12 | M20: 2019-7-17 | N20: 按揭 | Q20: 30504.68 | R20: 579894 | S20: 299894 | T20: =R20-S20 -> 280000 | AB20: 转账记录比收据多16元 | AF20: 转账 | AG20: 河北问道57989元 恒祥实业241921元 | AI20: =S20+U20+V20+W20+X20+AC20+AD20+AE20 -> 299894 | AJ20: =S20+U20+V20+W20+X20 -> 299894 | AK20: =AI20-AJ20 -> 0 | AN20: 44841
A21: A0052 | B21: 张娟 | C21: 411122197901023000 | D21: 郑州市金水区丰庆路126号院24号楼302室 | E21: 13700862021 | F21: 4 | G21: 436 | H21: 30.77 | I21: 21世纪 | J21: 4FA-109 | K21: 36.75 | L21: 2018-11-15 | N21: 按揭 | Q21: 22197.306 | R21: 815751 | S21: 415751 | T21: 400000 | AI21: =S21+U21+V21+W21+X21+AC21+AD21+AE21 -> 415751 | AJ21: =S21+U21+V21+W21+X21 -> 415751 | AK21: =AI21-AJ21 -> 0
A22: A0055 | B22: 马策军 | C22: 65432519860727031X | D22: 郑州市金水区文化路75号 | E22: 18736059572 | F22: 4 | G22: 419 | H22: 30.01 | I22: 21世纪 | J22: 4FA-022 | K22: 31.83 | L22: 2018-11-14 | M22: 2018-11-17 | N22: 按揭 | Q22: 20236.789 | R22: 644137 | S22: 344137 | T22: =R22-S22 -> 300000 | AF22: POS小票144137元 | AG22: 恒祥实业 | AI22: =S22+U22+V22+W22+X22+AC22+AD22+AE22 -> 344137 | AJ22: =S22+U22+V22+W22+X22 -> 344137 | AK22: =AI22-AJ22 -> 0
A23: A0056 | B23: 黄艳 | C23: 410103198404190160 | D23: 郑州市管城回族区布厂街135号21号楼2单元23号 | E23: 13937171992 | F23: 3 | G23: 3133 | H23: 16.38 | I23: 问道 | J23: 3F2-009 | K23: 14.27 | L23: 2019-4-15 | M23: 2019-4-30 | N23: 按揭 | Q23: 32085.07 | R23: 457854 | S23: 237854 | T23: 220000 | AF23: pos | AI23: =S23+U23+V23+W23+X23+AC23+AD23+AE23 -> 237854 | AJ23: =S23+U23+V23+W23+X23 -> 237854 | AK23: =AI23-AJ23 -> 0 | AN23: 44841
A24: A0057 | B24: 岳腊梅 | C24: 412827198007152380 | D24: 河南省平舆县高杨店镇中高村委小李庄 | E24: 13461804688 | F24: 4 | G24: 4157 | H24: 53.31 | I24: 21世纪 | J24: 4FA-146 | K24: 60.6 | L24: 2018-11-25 | M24: 2020-5-21 | N24: 一次性 | Q24: 21660.01 | R24: 1154695 | S24: 1154695 | T24: 0 | V24: 3465 | W24: 550 | X24: 153886 | Y24: 已 | Z24: 签 | AA24: 44025 | AI24: =S24+U24+V24+W24+X24+AC24+AD24+AE24 -> 1312596 | AJ24: =S24+U24+V24+W24+X24 -> 1312596 | AK24: =AI24-AJ24 -> 0 | AN24: 44841
A25: A0060 | B25: 段春来 李娜 | C25: 411121198201077030 411121198204152024 | D25: 河南省舞阳县保和乡段庄村56号 | E25: 15639927118 | F25: 1 | G25: 1345 | H25: 23.14 | I25: 问道 | J25: 1F5-081 | K25: 20.78 | L25: 2019-8-29 | M25: 2019-8-29 | N25: 一次性 | Q25: 47160.73 | R25: 980000 | S25: 980000 | AF25: POS | AI25: =S25+U25+V25+W25+X25+AC25+AD25+AE25 -> 980000 | AJ25: =S25+U25+V25+W25+X25 -> 980000 | AK25: =AI25-AJ25 -> 0 | AN25: 44841
A26: A0062 | B26: 张菊 | C26: 412725197001130348 | D26: 郑州市金水区红旗路134号院6号楼7号 | E26: 15346083889 18539755559 | F26: 3 | G26: 377 | H26: 35.23 | I26: 21世纪 | J26: 3FA-052 | K26: 39.05 | L26: 2018-11-14 | M26: 2018-11-17 | N26: 一次性 | Q26: 22415.493 | R26: 875325 | S26: 875325 | T26: =R26-S26 -> 0 | AF26: POS小票825325元 | AI26: =S26+U26+V26+W26+X26+AC26+AD26+AE26 -> 875325 | AJ26: =S26+U26+V26+W26+X26 -> 875325 | AK26: =AI26-AJ26 -> 0 | AN26: 44841
A27: A0063 | B27: 聂玉萍 | C27: 41010319661007062X | D27: 郑州市管城回族区城南路199号附3号 | E27: 15537110287 18503898929 | F27: 1 | G27: 1707 | H27: 28.5 | I27: 问道 | J27: 1F8-075 | K27: 28.11 | L27: 2019-6-24 | M27: 2020-6-5 | N27: 按揭 | Q27: 48068.59 | R27: 1369955 | S27: 689955 | T27: 680000 | V27: 1852 | W27: 550 | AB27: 合同总房款13551208元 | AC27: 1288 | AI27: =S27+U27+V27+W27+X27+AC27+AD27+AE27 -> 693645 | AJ27: =S27+U27+V27+W27+X27 -> 692357 | AK27: =AI27-AJ27 -> 1288 | AN27: 44841
A28: A0064 | B28: 李存兵 | C28: 411403198610026035 | D28: 河南省商丘市睢阳区毛固堆乡后张楼村关庄53号 | E28: 15890151976 | F28: 4 | G28: 4440 | H28: 16.88 | I28: 问道 | J28: 4F5-073 | K28: 14.16 | L28: 2019-10-7 | M28: 2019-10-13 | N28: 按揭 | Q28: 26928.46 | R28: 381307 | S28: 191307 | T28: 190000 | AI28: =S28+U28+V28+W28+X28+AC28+AD28+AE28 -> 191307 | AJ28: =S28+U28+V28+W28+X28 -> 191307 | AK28: =AI28-AJ28 -> 0 | AN28: 44841
A29: A0065 | B29: 葛保玲 | C29: 410223199003130525 | D29: 河南省尉氏县邢庄乡屈楼村二组 | E29: 18703653175 | F29: 1 | G29: 173 | H29: 22.98 | I29: 问道 | J29: 1F2-052 | K29: 25.4 | L29: 2019-4-13 | M29: 2019-4-19 | N29: 按揭 | Q29: 47276.61 | R29: 1200826 | S29: 600826 | T29: 600000 | AF29: POS | AG29: 恒祥实业 | AI29: =S29+U29+V29+W29+X29+AC29+AD29+AE29 -> 600826 | AJ29: =S29+U29+V29+W29+X29 -> 600826 | AK29: =AI29-AJ29 -> 0 | AN29: 44841
A30: A0066 | B30: 赵兴英 | C30: 411323198901292149 | D30: 郑州市管城回族区腾飞路4号院2号楼165号 | E30: 18600961644 | F30: 3 | G30: 3732 | H30: 15.45 | I30: 问道 | J30: 3F8-046 | K30: 15.03 | L30: 2019-5-19 | M30: 2019-5-23 | N30: 按揭 | Q30: 32495.54 | R30: 488408 | S30: 248408 | T30: 240000 | AB30: 3F8-047定金转入 | AI30: =S30+U30+V30+W30+X30+AC30+AD30+AE30 -> 248408 | AJ30: =S30+U30+V30+W30+X30 -> 248408 | AK30: =AI30-AJ30 -> 0 | AN30: 44841
A31: A0067 | B31: 李翠玲 | C31: 410504197309041523 | D31: 河南省安阳市殷都区水铁路1号院3区11号楼501号 | E31: 13703722958 | F31: 1 | G31: 1343 | H31: 15.32 | I31: 问道 | J31: 1F5-057 | K31: 18.41 | L31: 2019-9-25 | M31: 2020-5-30 | N31: 按揭 | Q31: 48178.54 | R31: 738095 | S31: 448095 | U31: 290000 | V31: 995 | W31: 550 | Y31: 已 | Z31: 签 | AA31: 44023 | AC31: 1249 | AI31: =S31+U31+V31+W31+X31+AC31+AD31+AE31 -> 740889 | AJ31: =S31+U31+V31+W31+X31 -> 739640 | AK31: =AI31-AJ31 -> 1249 | AN31: 44841
A32: A0069 | B32: 孙红梅 | C32: 412723197511193848 | D32: 河南省上蔡县小岳寺乡双河村41-1 | E32: 15139697011/15617966987 | F32: 3 | G32: 3780 | H32: 15.99 | I32: 问道 | J32: 3F8-097 | K32: 15.99 | L32: 2019-5-26 | M32: 2020-7-10 | N32: 一次性 | Q32: 30551.47 | R32: 488518 | S32: 488518 | T32: 0 | V32: 1039 | W32: 550 | Y32: 已 | Z32: 签 | AA32: 44054 | AF32: pos | AG32: 恒祥实业 | AI32: =S32+U32+V32+W32+X32+AC32+AD32+AE32 -> 490107 | AJ32: =S32+U32+V32+W32+X32 -> 490107 | AK32: =AI32-AJ32 -> 0 | AN32: 44841
A33: A0071 | B33: 杨西利 | C33: 372524197607116612 | D33: 北京市朝阳区方舟苑3号楼310号 | E33: 15867931888 | F33: 1 | G33: 1546 | H33: 32.54 | I33: 问道 | J33: 1F7-015 | K33: 36.67 | L33: 2019-7-30 | M33: 2020-8-30 | N33: 一次性 | Q33: 46126.78 | R33: 1500965 | S33: 1500965 | T33: 0 | V33: 2115 | W33: 550 | Y33: 已 | Z33: 签 | AA33: 44187 | AF33: POS | AG33: 恒祥实业 | AI33: =S33+U33+V33+W33+X33+AC33+AD33+AE33 -> 1503630 | AJ33: =S33+U33+V33+W33+X33 -> 1503630 | AK33: =AI33-AJ33 -> 0 | AN33: 44841
A34: A0072 | B34: 葛凤玲 | C34: 412327197702099225 | D34: 河南省柘城县大许乡张小村关庄西组013号 | E34: 15993712310 | F34: 3 | G34: 392 | H34: 21.64 | I34: 问道 | J34: 3F1-087 | K34: 21.57 | L34: 2019-9-17 | M34: 2020-8-1 | N34: 一次性 | Q34: 30625.08 | R34: 662727 | S34: 662727 | T34: 0 | V34: 1406 | W34: 550 | Y34: 已 | Z34: 签 | AA34: 44079 | AB34: 2019.8.14提交退款申请 | AF34: POS | AG34: 恒祥实业 | AI34: =S34+U34+V34+W34+X34+AC34+AD34+AE34 -> 664683 | AJ34: =S34+U34+V34+W34+X34 -> 664683 | AK34: =AI34-AJ34 -> 0 | AN34: 44841
A35: A0073 | B35: 郭春淼 | C35: 410107197002050510 | D35: 郑州市金水区三全路90号院7号楼1单元27号 | E35: 13323819165 | F35: 1 | G35: 1625 | H35: 26.65 | I35: 问道 | J35: 1F7-077 | K35: 25 | L35: 2019-5-3 | M35: 2019-5-20 | N35: 按揭 | Q35: 47510.64 | R35: 1187766 | S35: 597766 | T35: 590000 | AI35: =S35+U35+V35+W35+X35+AC35+AD35+AE35 -> 597766 | AJ35: =S35+U35+V35+W35+X35 -> 597766 | AK35: =AI35-AJ35 -> 0 | AN35: 44841
A36: A0074 | B36: 史兴燕 | C36: 410123197906164023 | D36: 河南省中牟县青年西路41号院2号楼17号 | E36: 13849029903 | F36: 4 | G36: 4201 | H36: 14.06 | I36: 问道 | J36: 4F9-024 | K36: 11.84 | L36: 2019-5-11 | M36: 2019-5-13 | N36: 一次性 | Q36: 27434.29 | R36: 324822 | S36: 324822 | T36: 0 | AF36: pos | AG36: 张艳144822元；恒祥实业8万元 | AI36: =S36+U36+V36+W36+X36+AC36+AD36+AE36 -> 324822 | AJ36: =S36+U36+V36+W36+X36 -> 324822 | AK36: =AI36-AJ36 -> 0 | AN36: 44841
A37: A0075 | B37: 姜飞 | C37: 410711198009140043 | D37: 郑州市中原区董寨路38号2单元2602室 | E37: 16696133178 | F37: 3 | G37: 3849 | H37: 20.09 | I37: 问道 | J37: 3F9-034 | K37: 18.04 | L37: 2019-8-22 | M37: 2020-8-7 | N37: 按揭 | Q37: 31596.62 | R37: 634776 | S37: 354776 | T37: =R37-S37 -> 280000 | V37: 1305 | W37: 550 | Y37: 已 | AB37: 2019.8.23申请退款 | AI37: =S37+U37+V37+W37+X37+AC37+AD37+AE37 -> 356631 | AJ37: =S37+U37+V37+W37+X37 -> 356631 | AK37: =AI37-AJ37 -> 0 | AN37: 44841
A38: A0081 | B38: 赵菊梅、郜玲玉 | C38: 411121199009195541/410521198712085543 | D38: 河南省漯河市源汇区丁湾村384号 | E38: 18676896152 | F38: 4 | G38: 4429 | H38: 27.1 | I38: 21世纪 | J38: 4FC-068 | K38: 29.6 | L38: 2019-1-12 | M38: 2019-1-15 | N38: 按揭 | Q38: 26629.32 | R38: 788228 | S38: 598228 | T38: =R38-S38 -> 190000 | AD38: 190000 | AF38: POS | AG38: 恒祥实业 | AI38: =S38+U38+V38+W38+X38+AC38+AD38+AE38 -> 788228 | AJ38: =S38+U38+V38+W38+X38 -> 598228 | AK38: =AI38-AJ38 -> 190000 | AN38: 44841
A39: A0084 | B39: 苏海波 | C39: 140524198803194917 | D39: 山西陵川县崇文镇仕图苑居委杂居122号 | E39: 15927543791 | F39: 1 | G39: 1659 | H39: 20.25 | I39: 问道 | J39: 1F8-024 | K39: 19.18 | L39: 2019-8-17 | M39: 2020-6-5 | N39: 按揭 | Q39: 45881.13 | R39: 929093 | S39: 469093 | T39: / | U39: 460000 | V39: 1316 | W39: 550 | Y39: 已 | Z39: 签 | AA39: 44059 | AC39: 1266 | AF39: POS | AG39: 恒实业 | AI39: =S39+U39+V39+W39+X39+AC39+AD39+AE39 -> 932225 | AJ39: =S39+U39+V39+W39+X39 -> 930959 | AK39: =AI39-AJ39 -> 1266 | AN39: 44841
A40: A0085 | B40: 岳慧丽 | C40: 410122198103168049 | D40: 河南省中牟县城关镇商都大街35号院 | E40: 13783450222 | F40: 1 | G40: 1788 | H40: 15.32 | I40: 问道 | J40: 1F8-153 | K40: 16.84 | L40: 2019-10-28 | M40: 2020-7-9 | N40: 按揭 | Q40: 47515.14 | R40: 727932 | S40: 407932 | U40: 320000 | V40: 995 | W40: 550 | Y40: 已 | Z40: 签 | AA40: 44021 | AC40: 1252 | AI40: =S40+U40+V40+W40+X40+AC40+AD40+AE40 -> 730729 | AJ40: =S40+U40+V40+W40+X40 -> 729477 | AK40: =AI40-AJ40 -> 1252 | AN40: 44841
...

Sheet 商铺
A1: 材料编号 | B1: 姓名 | C1: 身份证号 | D1: 电话 | E1: 地址 | F1: 楼号 | G1: 铺号 | H1: 结构 | I1: 面积 | J1: 预估单价 | K1: 预估总价 | L1: 单价 | M1: 表总价 | N1: 优惠后单价 | O1: 优惠后总价 | P1: 已交款 | Q1: 按揭款 | R1: 按揭回款 | S1: 维修基金 | T1: 产权登记费 | U1: 签约情况 | V1: 申报利息违约金 | W1: 债权发生时间 | X1: 收款方式 | Y1: 收款账号 | Z1: 房地产 收据金额 | AA1: 申报金额 | AB1: 核定金额 | AC1: 差异 | AD1: 备注 | AE1: 登记人 | AF1: 登记日期 | AI1: 申报金额合计 | AJ1: =SUM(AA:AA) -> 22166987 | AK1: 核定金额合计 | AL1: =SUM(AB:AB) -> 21668964 | AM1: 累计登记数量 | AN1: =COUNTA(A:A)-1 -> 9
A2: A0008 | B2: 余洋洋 | C2: 411503199005052315 | D2: 15038277767 | F2: 9 | G2: 109 | H2: 1层 | I2: 97.43 | N2: =O2/I2 -> 37999.631 | O2: 3702304 | P2: 3702304 | Q2: 0 | S2: 6332 | T2: 550 | U2: 签 | AA2: =P2+S2+T2+R2+V2 -> 3709186 | AB2: =P2+R2+S2+T2 -> 3709186 | AC2: =AA2-AB2 -> 0 | AF2: 44841
A3: A0344 | B3: 王苏君 | F3: 10 | G3: 117 | H3: 1-2层 | I3: 110.19 | N3: 31000 | O3: 3415890 | P3: 1715890 | Q3: =O3-P3 -> 1700000 | S3: 7162 | T3: 550 | W3: 43296 | X3: POS、转账 | AA3: =P3+S3+T3+R3+V3 -> 1723602 | AB3: =AA3 -> 1723602 | AC3: =AA3-AB3 -> 0 | AF3: 44841
A4: A0777-2 | B4: 付群芝 | C4: 412723197101208146 | D4: 13948310215 | E4: 河南省商水县黄寨镇王老村三组 | F4: 9 | G4: 105 | H4: 1层 | I4: 99.03 | N4: 40000 | O4: 3961200 | P4: 1981200 | Q4: 1980000 | W4: 43403 | AA4: =P4+S4+T4+R4+V4 -> 1981200 | AB4: =P4+R4+S4+T4 -> 1981200 | AC4: =AA4-AB4 -> 0 | AE4: NK | AF4: 44843
A5: A0838-1 | B5: 常燕 | C5: 41010519740725712X | D5: 13533712680 | F5: 9 | G5: 101 | H5: 1层 | I5: 99.03 | N5: 40500 | O5: =N5*I5 -> 4010715 | P5: 3312900 | Q5: =O5-P5 -> 697815 | W5: 42862 | AA5: =P5+S5+T5+R5+V5 -> 3312900 | AB5: =P5+R5+S5+T5 -> 3312900 | AC5: =AA5-AB5 -> 0 | AE5: QYX | AF5: 44844
A6: A0897 | B6: 郭秀云 | C6: 41128197603243027 | D6: 13523984666 | F6: 2 | G6: 065 | H6: 1层 | I6: 19.34 | N6: 45600 | O6: 881904 | P6: 705523 | V6: =210810.27+192546+94666.78 -> 498023.05 | W6: 42752 | AA6: =P6+S6+T6+R6+V6 -> 1203546.1 | AB6: =P6 -> 705523 | AC6: =AA6-AB6 -> 498023.05 | AD6: 该商铺2#一层065号在销售房源中不存在，销售单位为恒祥实业，委托经营单位为房地产，与正常的商铺委托经营管理单位河南百悦城商业运营管理公司不一致，二者运营合同条款和收益、租期约定也不一致。债权人曾起诉要求房地产支付第一年运营收益，法院判决房地产支付第一年收益56442及违约金 | AE6: QYX | AF6: 44845
A7: A1023 | B7: 河南启元教育有限公司 | D7: 13949021324 | F7: 9 | G7: 106 | H7: 1-2层 | I7: 302.93 | N7: 27082.39 | O7: 8204069 | P7: 8204069 | Q7: =O7-P7 -> 0 | S7: 19690 | T7: 550 | U7: 签 | W7: 43293 | AA7: =P7+S7+T7+R7+V7 -> 8224309 | AB7: =P7+R7+S7+T7 -> 8224309 | AC7: =AA7-AB7 -> 0 | AE7: GS | AF7: 44846
A8: A1127 | B8: 葛显红 | C8: 411503197202180712 | D8: 15737695038 | F8: 9 | G8: 107 | H8: 1-2层 | I8: 293.4 | N8: 45000 | O8: =N8*I8 -> 13203000 | P8: 1010500 | Q8: =O8-P8 -> 12192500 | AA8: =P8+S8+T8+R8 -> 1010500 | AB8: =P8+R8+S8+T8 -> 1010500 | AC8: =AA8-AB8 -> 0 | AE8: GXN | AF8: 44865
A9: A1284 | B9: 许铭浩 | C9: 410103198812080075 | D9: 13673686367 | F9: 9 | G9: 111 | H9: 1-2层 | I9: 237.91 | P9: 320000 | W9: 42838 | Z9: 300000 | AA9: =P9+S9+T9+R9 -> 320000 | AB9: =P9+R9+S9+T9 -> 320000 | AC9: =AA9-AB9 -> 0 | AD9: 收据注明订金9#-1-17，销售明细表无此房间 | AE9: GXN | AF9: 44868
A10: A1552 | B10: 宋方、张芒 | C10: 412326198608274232 | D10: 18638525022 | G10: 129 | H10: 3层 | I10: 40.58 | N10: 24000 | O10: =N10*I10 -> 973920 | P10: 681744 | W10: 43444 | AA10: =P10+S10+T10+R10 -> 681744 | AB10: =P10+R10+S10+T10 -> 681744 | AD10: 销控表无该房源和销售信息，已提交收据和认购协议 | AE10: QYX | AF10: 44886
B45: 曹海良

Sheet 地下商铺租赁 
A1: 材料编号 | B1: 姓名 | C1: 身份证号 | R1: 审核确认债权数额（元） | W1: 确认情况
D2: 电话 | E2: 房号 | F2: 面积 | G2: 债权发生时间 | H2: 收款账户 | I2: 租金总额 | J2: 收益金额 | K2: 违约金 | L2: 诉讼费 | M2: 其他 | N2: 申报债权总额 | O2: 核定债权总额 | P2: 审核情况 | Q2: 差异 | R2: 本金 | S2: 孳息 | T2: 迟延履行利息 | U2: 其他 | V2: 合计 | X2: 备注 | Y2: 房地产 收据金额 | Z2: 登记人 | AA2: 登记日期 | AB2: 账面情况 | AC2: 科目 | AD2: 金额 | AE2: 申报金额合计 | AF2: =SUM(N:N) -> 5063743.1 | AG2: 核定金额合计 | AH2: =SUM(O:O) -> 4539957 | AI2: 累计登记数量 | AJ2: =COUNTA(A:A)-1 -> 31
A3: A0545 | B3: 王雁丽 | C3: 410102196801291525 | D3: 15690857521 | E3: B1-15-119 | F3: 5.75 | G3: 43691 | I3: 147181 | N3: 147181 | O3: =N3 -> 147181 | P3: 确认 | Q3: =N3-O3 -> 0 | R3: 147181 | V3: 147181 | W3: 确认 | AA3: 44841 | AC3: 预收账款\商业房 | AD3: 525932
A4: A1298-1 | B4: 楚超 | C4: 410183198802190010 | D4: 13273028355 | E4: B1-15-120 | F4: 5.75 | G4: 43708 | I4: 150185 | N4: =SUM(I4:L4) -> 150185 | O4: =I4+L4 -> 150185 | P4: 确认 | Q4: =N4-O4 -> 0 | R4: 150185 | V4: 150185 | W4: 确认 | Z4: QYX | AA4: 44868 | AC4: 预收账款\商业房 | AD4: 218423
A5: A1675 | B5: 刘东兴 | C5: 410124196507082018 | D5: 15890688679 | E5: B1-15-002 | F5: 7.11 | G5: 43678 | I5: 172471 | N5: =SUM(I5:L5) -> 172471 | O5: =I5+L5 -> 172471 | P5: 确认 | Q5: =N5-O5 -> 0 | R5: 172471 | V5: 172471 | W5: 确认 | Z5: GS | AA5: 44867 | AC5: 预收账款\商业房 | AD5: 217979
A6: A1681 | B6: 张朝帅 | C6: 410181198707151619 | D6: 15890688679 | E6: B1-15-011 | F6: 7.11 | G6: 43678 | I6: 172471 | N6: =SUM(I6:L6) -> 172471 | O6: =I6+L6 -> 172471 | P6: 确认 | Q6: =N6-O6 -> 0 | R6: 172471 | V6: 172471 | W6: 确认 | Z6: GS | AA6: 44867
A7: A1693-2 | B7: 刘运动 | C7: 412725198009216933 | D7: 18703992655 | E7: B1-15-131 | F7: 5.11 | G7: 43670 | I7: 130799 | N7: =SUM(I7:L7) -> 130799 | O7: =I7+L7 -> 130799 | P7: 确认 | Q7: =N7-O7 -> 0 | R7: 130799 | V7: 130799 | W7: 确认 | Z7: GS | AA7: 44867 | AC7: 预收账款\商业房 | AD7: 151764
A8: D002 | B8: 唐李果 | D8: 18703826992 | E8: B1-15-001 | F8: 9.38 | G8: 43687 | I8: 229833 | N8: =I8 -> 229833 | O8: 229833 | P8: 确认 | Q8: =N8-O8 -> 0 | R8: 229833 | V8: 229833 | W8: 确认 | X8: 该债权人另购买有商业盒子，账面收款金额与收据金额不一致，需提供流水进一步确认。 | AA8: 44841 | AC8: 预收账款\商业房 | AD8: 297673
A9: D003-1 | B9: 杨建 | C9: 412321198104218710 | D9: 13526550755 | E9: B1-15-138 | F9: 6.2 | G9: 43802 | I9: 158699 | N9: =I9 -> 158699 | O9: 158699 | P9: 确认 | Q9: =N9-O9 -> 0 | R9: 158699 | V9: 158699 | W9: 确认 | X9: 租金收益暂缓确认；任花平个人账中摘要“收杨建房款（负一层，3套）问道代收365163元”，但金额为0，需提供流水进一步核实 | AA9: 44841 | AC9: 预收账款\商业房 | AD9: 270682
A10: D003-2 | B10: 杨建 | C10: 412321198104218710 | D10: 13526550755 | E10: B1-15-137 | F10: 6.2 | G10: 43802 | I10: 158699 | N10: =I10 -> 158699 | O10: 158699 | P10: 确认 | Q10: =N10-O10 -> 0 | R10: 158699 | V10: 158699 | W10: 确认 | X10: 租金收益暂缓确认；任花平个人账中摘要“收杨建房款（负一层，3套）问道代收365163元”，但金额为0，需提供流水进一步核实 | AA10: 44841 | AC10: 预收账款\商业房
A11: D003-3 | B11: 杨建 | C11: 412321198104218710 | D11: 13526550755 | E11: B1-15-136 | F11: 6.2 | G11: 43802 | I11: 158699 | J11: 171394.92 | N11: =I11+171394.92 -> 330093.92 | O11: 158699 | P11: 确认 | Q11: =N11-O11 -> 171394.92 | R11: 158699 | V11: 158699 | W11: 确认 | X11: 租金收益暂缓确认；任花平个人账中摘要“收杨建房款（负一层，3套）问道代收365163元”，但金额为0，需提供流水进一步核实 | AA11: 44841 | AC11: 预收账款\商业房
A12: D005 | B12: 封文炬 | C12: 410103196306272497 | D12: 13526730220 | E12: B1-15-029 | F12: 5.43 | G12: 43713 | I12: 133386 | N12: =I12 -> 133386 | O12: 110711 | P12: 确认 | Q12: =N12-O12 -> 22675 | R12: 133386 | V12: 133386 | W12: 确认 | X12: 仅查询到任花平卡收款110711 | Y12: =N12 -> 133386 | AA12: 44841
A13: D006 | B13: 孙兴梅 | C13: 511224197212277840 | D13: 13939078993 | E13: B1-15-065 | F13: 5.43 | G13: 43739 | I13: 135879 | N13: =I13 -> 135879 | O13: =I13 -> 135879 | P13: 确认 | Q13: =N13-O13 -> 0 | R13: 135879 | V13: 135879 | W13: 确认 | AA13: 44841 | AC13: 预收账款\商业房 | AD13: 271758
A14: D006 | B14: 孙兴梅 | C14: 511224197212277840 | D14: 13939078993 | E14: B1-15-066 | F14: 5.43 | G14: 43739 | I14: 135879 | N14: =I14 -> 135879 | O14: =I14 -> 135879 | P14: 确认 | Q14: =N14-O14 -> 0 | R14: 135879 | V14: 135879 | W14: 确认 | AA14: 44841 | AC14: 预收账款\商业房
A15: D007 | B15: 刘占峰 | C15: 411081198703214550 | D15: 13283895232 | E15: B1-15-075 | F15: 5.43 | G15: 43666 | I15: 135865 | N15: =I15 -> 135865 | O15: 135865 | P15: 确认 | Q15: =N15-O15 -> 0 | R15: 135865 | V15: 135865 | W15: 确认 | AA15: 44841 | AC15: 预收账款\商业房 | AD15: 10000
A16: D008 | B16: 魏星 | C16: 410105195909173824 | D16: 18937196171 | E16: B1-15-058 | F16: 5.43 | G16: 43722 | I16: 135879 | N16: =I16 -> 135879 | O16: 135879 | P16: 确认 | Q16: =N16-O16 -> 0 | R16: 135879 | V16: 135879 | W16: 确认 | AA16: 44841 | AC16: 预收账款\商业房 | AD16: 135879
A17: D009 | B17: 王燕 | C17: 410102196212071524 | D17: 15890046080 | E17: B1-15-118 | F17: 5.75 | G17: 43691 | I17: 145401 | N17: 145401 | O17: =N17 -> 145401 | P17: 确认 | Q17: =N17-O17 -> 0 | R17: 145401 | V17: 145401 | W17: 确认 | AA17: 44841 | AC17: 预收账款\商业房 | AD17: 10000
A18: D010 | B18: 张秀银 | C18: 412922197703294226 | D18: 15838192816 | E18: 2#-1-003 | F18: 12.01 | G18: 43541 | J18: =52071+57857 -> 109928 | K18: 75444 | L18: 1492 | N18: =SUM(I18:L18) -> 186864 | O18: 0 | P18: 不确认 | Q18: =N18-O18 -> 186864 | V18: 0 | W18: 不确认 | X18: 判决：第2期经营收益52071元自2019年3月17日计算，第3期收益57857元自2020年3月17日计算，利率日万分之三 | AA18: 44841 | AC18: 其他应付款\商铺\张秀银 | AD18: 528570
A19: D012 | B19: 田秀梅 | C19: 41010219770413301X | D19: 15038384346 | E19: B1-15-128 | F19: 5.75 | G19: 43713 | I19: 147181 | N19: 147181 | O19: 147181 | P19: 确认 | Q19: =N19-O19 -> 0 | R19: 147181 | V19: 147181 | W19: 确认 | Y19: 147181 | Z19: GXN | AA19: 44843
A20: D013 | B20: 何溪滢 | C20: 341322198803065829 | D20: 15090539666 | E20: B1-15-026 | F20: 7.11 | G20: 43729 | I20: 172453 | N20: =SUM(I20:L20) -> 172453 | O20: =I20+L20 -> 172453 | P20: 确认 | Q20: =N20-O20 -> 0 | R20: 172453 | V20: 172453 | W20: 确认 | Z20: NK | AA20: 44844
A21: D014 | B21: 聂香英 | C21: 412328196404041828 | D21: 15836843331 | E21: B1-15-016 | F21: 7.11 | G21: 43839 | I21: 172453 | N21: =SUM(I21:L21) -> 172453 | O21: =I21+L21 -> 172453 | P21: 确认 | Q21: =N21-O21 -> 0 | R21: 172453 | V21: 172453 | W21: 确认 | Y21: 10000 | Z21: NK | AA21: 44844 | AC21: 预收账款\商业房 | AD21: 162453
A22: D015 | B22: 张强 | C22: 412328197405231812 | D22: 13781658258 | E22: B1-15-025 | F22: 7.11 | G22: 43729 | I22: 172453 | N22: =SUM(I22:L22) -> 172453 | O22: =I22+L22 -> 172453 | P22: 确认 | Q22: =N22-O22 -> 0 | R22: 172453 | V22: 172453 | W22: 确认 | Z22: NK | AA22: 44844
A23: D016-1 | B23: 张杰 | C23: 11010619710712331X | D23: 13001210796 | E23: B1-15-031 | F23: 5.43 | G23: 43752 | I23: 133386 | N23: =SUM(I23:L23) -> 133386 | O23: =I23+L23 -> 133386 | P23: 确认 | Q23: =N23-O23 -> 0 | R23: 133386 | V23: 133386 | W23: 确认 | Z23: NK | AA23: 44844 | AC23: 预收账款\商业房 | AD23: 133386
A24: D016-2 | B24: 张杰 | C24: 11010619710712331X | D24: 13001210796 | E24: B1-15-032 | F24: 5.43 | G24: 43752 | I24: 133386 | N24: =SUM(I24:L24) -> 133386 | O24: =I24+L24 -> 133386 | P24: 确认 | Q24: =N24-O24 -> 0 | R24: 133386 | V24: 133386 | W24: 确认 | Z24: NK | AA24: 44844 | AC24: 预收账款\商业房
A25: D016-3 | B25: 张杰 | C25: 11010619710712331X | D25: 13001210796 | E25: B1-15-033 | F25: 5.43 | G25: 43752 | I25: 133386 | N25: =SUM(I25:L25) -> 133386 | O25: =I25+L25 -> 133386 | P25: 确认 | Q25: =N25-O25 -> 0 | R25: 133386 | V25: 133386 | W25: 确认 | Z25: NK | AA25: 44844 | AC25: 预收账款\商业房
A26: D016-4 | B26: 张杰 | C26: 11010619710712331X | D26: 13001210796 | E26: B1-15-034 | F26: 5.43 | G26: 43752 | I26: 133386 | N26: =SUM(I26:L26) -> 133386 | O26: =I26+L26 -> 133386 | P26: 确认 | Q26: =N26-O26 -> 0 | R26: 133386 | V26: 133386 | W26: 确认 | Z26: NK | AA26: 44844 | AC26: 预收账款\商业房
A27: D025 | B27: 宋冬玉 | C27: 410105197408223829 | D27: 13526762528 | E27: B1-15-030 | F27: 5.43 | G27: 43771 | H27: 恒祥2万问道117483 | I27: 137483 | N27: =SUM(I27:L27) -> 137483 | O27: =I27+L27 -> 137483 | P27: 确认 | Q27: =N27-O27 -> 0 | R27: 137483 | V27: 137483 | W27: 确认 | Z27: NK | AA27: 44874 | AC27: 预收账款\商业房 | AD27: 20000
A28: D027 | B28: 刘丽英 | C28: 410222197606266063 | D28: 15838117920 | E28: B1-15-005 | F28: 7.11 | G28: 43702 | I28: 172453 | N28: =SUM(I28:L28) -> 172453 | O28: =I28+L28 -> 172453 | P28: 确认 | Q28: =N28-O28 -> 0 | R28: 172453 | V28: 172453 | W28: 确认 | Z28: GXN | AA28: 44875
A29: D032 | B29: 郭素玲 | C29: 410928195706150161 | D29: 18203658102 | E29: B1-15-140 | F29: 5.34 | G29: 43775 | I29: 135035 | J29: 48612.14 | N29: =SUM(I29:L29) -> 183647.14 | O29: =I29+L29 -> 135035 | P29: 确认 | Q29: =N29-O29 -> 48612.14 | R29: 135035 | S29: 0 | V29: 135035 | W29: 确认 | X29: 48612.14租金收益暂缓确认 | Z29: GXN | AA29: 44878
A30: D045-1 | B30: 李红、刘舒宁 | C30: 410102195303250021 410102198005160021 | D30: 13803862759 13838541331 | E30: B1-15-134 | F30: 5.11 | G30: 43676 | I30: 131000 | N30: =SUM(I30:L30) -> 131000 | O30: =N30 -> 131000 | P30: 确认 | Q30: =N30-O30 -> 0 | R30: 131000 | V30: 131000 | W30: 确认 | Z30: GS | AA30: 44879 | AC30: 预收账款\商业房款\李红、刘舒宁 | AD30: 131000
A31: D045-2 | B31: 李红、刘舒宁 | C31: 410102195303250021 410102198005160021 | D31: 13803862759 13838541331 | E31: B1-15-135 | F31: 5.11 | G31: 43706 | I31: 131000 | N31: =SUM(I31:L31) -> 131000 | O31: =N31 -> 131000 | P31: 确认 | Q31: =N31-O31 -> 0 | R31: 131000 | V31: 131000 | W31: 确认 | Y31: =O31 -> 131000 | Z31: GS | AA31: 44879 | AC31: 预收账款\商业房款\李红、刘舒宁
A32: D051 | B32: 李保营 | C32: 412929197709151482 | D32: 18638016696/15981862318 | E32: B1-15-028 | F32: 5.11 | G32: 43671 | I32: 124000 | J32: 94240 | N32: =SUM(I32:L32) -> 218240 | O32: =I32 -> 124000 | P32: 确认 | Q32: =N32-O32 -> 94240 | R32: 124000 | S32: 44640 | V32: 168640 | W32: 确认 | X32: 商铺租赁合同书、收据，租金收益参考同类判例 | Z32: QYX | AA32: 44889
A33: T067 | B33: 王路航、杜歌菊 | D33: 13613829950/17630103427 | E33: B1-15-104 | G33: 43669 | I33: 230000 | L33: 2251 | N33: =SUM(I33:L33) -> 232251 | O33: =I33+L33 -> 232251 | Q33: =N33-O33 -> 0 | R33: 230000 | U33: 2251 | V33: 232251 | W33: 确认 | X33: 附民事判决书：恒祥实业还原告杜歌菊、王路航租金 230000 元；百悦城商业运营管理有限公司还租金收益 52900 元及违约金 1135.5 元；案件受理费减半收取 2780 元，由被告河南恒祥实业有限公司负担 2251 元，由被告河南百悦城商业运营管理有限公司负担 529 元 | Z33: GS | AA33: 44891

Sheet 表1-工程及经营费用类
A1: 表1
A2: 工程及经营费用《债权确认表》
A4: 序号 | B4: 材料 编号 | C4: 基本信息 | F4: 申报债权金额（元） | G4: 审核确认债权数额（元） | N4: 暂缓确认数额 | O4: 确认情况
C5: 债权人 | D5: 联系人 | E5: 联系方式 | G5: 本金 | H5: 保证金 | I5: 一般利息/违约金/滞纳金 | J5: 迟延履行利息 | K5: 其他 | L5: 诉讼费 | M5: 确认合计
A6: 1 | B6: D017 | C6: 李英存 | D6: 李英存 | E6: 138****8093 | F6: 500000 | N6: 500000 | O6: 待确认
A7: 2 | B7: D019 | C7: 河南臻威建筑工程有限公司 | D7: 王红 | E7: 187****9666 | F7: 1565000 | N7: 1402666.7 | O7: 待确认
A8: 3 | B8: D020 | C8: 魏建峰 | D8: 魏建峰 | E8: 139****5658/ 176****3099 | F8: 2073330 | H8: 655000 | I8: 24772.65 | M8: 679772.65 | O8: 确认
A9: 4 | B9: D021 | C9: 速捷电梯有限公司 | D9: 周业华 | E9: 186****6061 | F9: 1190000 | N9: 639380.56 | O9: 待确认
A10: 5 | B10: D029 | C10: 阿其埃尔（北京）建筑景观设计事务所有限公司 | D10: 段俊可 | E10: 151****6737 | F10: 5507568.6 | G10: 3733400 | I10: 1352748.9 | J10: 358700.65 | L10: 62719 | M10: =SUM(G10:L10) -> 5507568.6 | O10: 确认
A11: 6 | B11: D030 | C11: 河南容转商贸有限公司 | D11: 段书全 | E11: 155****6666 | F11: 500000 | N11: 500000 | O11: 待确认
A12: 7 | B12: D033 | C12: 江苏沪杭机电工程有限公司 | D12: 高乃马 | E12: 138****5520 | F12: 4337655.2 | N12: 4337655.2 | O12: 待确认
A13: 8 | B13: D034-1 | C13: 中外建华诚工程技术集团有限公司 | D13: 段俊可 | E13: 151****6737 | F13: 3902634.7 | G13: 3176600 | I13: 434144.8 | J13: 235703.72 | L13: 22077 | M13: 3868525.5 | O13: 确认
A14: 9 | B14: D034-2 | C14: 中外建华诚工程技术集团有限公司 | D14: 许浣玲 | E14: 133****3393/ 139****8392 | F14: 5007302.1 | G14: 3989262 | I14: 551031.75 | J14: 494967.68 | K14: -50000 | M14: 4985261.4 | O14: 确认
A15: 10 | B15: D044 | C15: 郑州市鑫成机电安装工程有限公司 | D15: 耿兴文 | E15: 137****6963 | F15: 640875 | M15: 0 | O15: 不确认
A16: 11 | B16: D046 | C16: 岩土科技股份有限公司 | D16: 尹武汉 | E16: 131****1972 | F16: 1000000 | N16: 1000000 | O16: 待确认
