Workbook

Sheet MZRPLR

Sheet 评估人员
A1: 本表由评估机构填写
C3: 评估人员 | G3: 名单
C4: 项目负责人: | D4: 沈冬梅
C6: 项目现场负责人： | D6: 沈冬梅
C8: 签字资产评估师: | D8: 沈冬梅 彭海云
C10: 流 动 资 产 评估人员:
C12: 长期股权投资评估人员:
C14: 投资性房地产评估人员：
C16: 房 屋 类评估人员:
C18: 设 备 类评估人员:
C20: 土 地评估人员:
C22: 其他固定资产评估人员:
C24: 其他无形资产评估人员:
C26: 矿 业 权 评估人员：
C28: 其他非流动资产评估人员:
C30: 负 债评估人员:

Sheet 基本情况
A1: 返回索引页
A2: 基本情况表
A4: 企业填写以下内容: | K4: 金额单位：人民币元
A5: 被评估单位 （或产权持有单位）名称: | B5: 中文 | C5: =封面!E13 -> 贡山县隆鑫矿业有限公司 | H5: 法定代表人 | I5: =封面!E15 -> 0 | J5: 手机
B6: 英文
A7: 法定地址 | F7: 邮政编码 | H7: 总经理 | J7: 手机
A8: 办公地址 | F8: 邮政编码 | H8: 财务负责人 | J8: 手机
A9: 办公电话 | C9: 传真 | E9: E-mail | H9: 项目联系人 | J9: 手机
A10: 经营范围 | H10: 注册日期 | J10: 经营期限
A11: 经济性质 | C11: 总资产额 | E11: 营业收入 | G11: 主管工商机关 | I11: 营业执照号码
A12: 所属行业 | C12: 净资产额 | E12: 税后利润 | G12: 主管税务机关 | I12: 批准机关及证书号码
A13: 开业日期 | C13: 休假日 | E13: 财务结账日 | G13: 执行会计制度
A14: 前五名投资者（股东）名称 | H14: 注册资本 | J14: 实收资本
H15: 金额 | I15: 出资比例 | J15: 金额 | K15: 出资比例
A16: 1
A17: 2
A18: 3
A19: 4
A20: 5
A21: 合计
A22: 主要长期投资单位（或异地分支机构）名称 | F22: 地址 | I22: 注册资金 | J22: 持股比例 | K22: 核算方式
A23: 1
A24: 2
A25: 3
A26: 4
A27: 5
A28: 6
A29: 7
A30: 8
A31: 9
A32: 10
A33: 上年度注册会计师审计结论
A34: 以前年度评估情况
A35: 评估机构填写以下内容:
A36: 委托项目 | B36: 类别 | F36: 项目编号 | I36: 作业日期
B37: 评估目的 | F37: 报告编号 | I37: 填表日期
B38: 评估范围 | F38: 项目负责人： | I38: 法定代表人：
A39: 评估机构： | B39: 云南通域房地产土地资产评估有限公司 | F39: 签字资产评估师： | G39: =评估人员!D8 -> 沈冬梅 彭海云
C40: 流动资产 | D40: 长期股权投资 | E40: 投资性房地产 | F40: 房屋 | G40: 设备 | H40: 其他固定资产 | I40: 土地 | J40: 其他无形资产 | K40: 负债
A41: 被评估单位（或产权持有单位）填表人:
...

Sheet 填表说明
A1: 返回索引页
A2: 资产评估明细表填表说明
A4: 一、基本要求
A5: (一)填表范围：
A6: 纳入评估范围的资产要保证与评估基准日被评估单位（或产权持有单位）的资产负债表（或模拟资产负债表）完全一致,即填表完成后，自动生成的资产评估分类汇总表(表2)审计前面值一栏与资产负债表（或模拟资产负债表）一致,如有审计,还应与提供给审计师的审计前面值一致。
A7: (二)“评估基准日”与“被评估单位（或产权持有单位）名称”,统一填于“资产评估明细表表封面” 中，各明细表会自动生成。被评估单位（或产权持有单位）名称要与该单位的营业执照所列明的名称完全一致,并在每页明细表左上角“被评估单位（或产权持有单位）”处加盖被评估单位（或产权持有单位）公章。
A8: (三)对于企业财务核算中没有的会计科目不必填写相应的明细表。
A9: (四) 对于申报明细表中“账面价值”一栏(不含本栏)左方所有空白栏以及需要填写的备注栏请企业填写齐全。但对于该类资产不适用的参数栏可不必填写，如，房屋建筑物表中，非工业建筑可不必填写“吊车吨位”、“跨度”、“柱距”等栏。
A10: (五)明细表中填列金额单位为“人民币元”，精确到小数点后两位。
A11: (六)明细表中日期根据要求填至月(如建成年月)或日(如出票日期)，填写日期格式为“2009-05”（不能写为2009.5）或 “2009-05-02”（不能填为2009.5.2）。
A12: (七)未指明月利率之处应指年利率，计量单位为“%”。若原始资料中为月利率或日利率,则换算为年利率。
A13: (八)明细表与各汇总表之间的数据已建立链接关系，汇总表中不应直接录入数据，但汇总表中已涂蓝色的各项减值准备应按实际填入。各表之间的关系示意如索引目录所示。
... A187: 参照递延所得税资产填列，应该分别不同形成原因分别填列。

Sheet 封面
A1: 返回索引页
D7: 贡山县隆鑫矿业有限公司
Q8: 2009 | R8: 1 | S8: 1
B9: 资产评估明细表 | Q9: 2010 | R9: 2 | S9: 2
Q10: 2011 | R10: 3 | S10: 3
D11: 评估基准日： | E11: 2020 | F11: 年 | G11: 7 | H11: 月 | I11: 30 | J11: 日 | Q11: 2012 | R11: 4 | S11: 4
Q12: 2013 | R12: 5 | S12: 5
D13: 被评估单位（或产权持有单位）： | E13: 贡山县隆鑫矿业有限公司 | Q13: 2014 | R13: 6 | S13: 6
Q14: 2015 | R14: 7 | S14: 7
D15: 法定代表人： | R15: 8 | S15: 8
R16: 9 | S16: 9
D17: 被评估单位（或产权持有单位）填表人： | R17: 10 | S17: 10
R18: 11 | S18: 11
D19: 填表日期： | E19: 2020 | F19: 年 | G19: 5 | H19: 月 | I19: 20 | J19: 日 | R19: 12 | S19: 12
S20: 13
S21: 14
S22: 15
S23: 20
S24: 21
S25: 22
S26: 23
S27: 24
S28: 25
S29: 26
S30: 27
S31: 28
... S34: 31

Sheet 索引目录
A1: 资产评估申报表索引目录
B2: 评估申报表封面
B3: 评估申报表说明（填表前请先阅读）
B4: 基本情况表 | C4: 资产负债表 | D4: 1-汇总表 | E4: 2-分类汇总表
C6: 3-流动资产 | D6: 3-1货币资金 | E6: 3-1-1货币资金-现金 | G6: 5-流动负债 | I6: 5-1短期借款
E7: 3-1-2货币资金-银行存款 | I7: 5-2交易性金融负债
E8: 3-1-3货币资金-其他货币资金 | I8: 5-3应付票据
D9: 3-2交易性金融资产 | E9: 3-2-1交易性-股票 | I9: 5-4应付账款
E10: 3-2-2交易性-债券 | I10: 5-5预收款项
E11: 3-2-3交易性-基金 | I11: 5-6职工薪酬
D12: 3-3应收票据 | I12: 5-7应交税费
D13: 3-4应收账款 | I13: 5-8应付利息
D14: 3-5预付账款 | I14: 5-9应付股利（利润）
D15: 3-6应收利息 | I15: 5-10其他应付款
D16: 3-7应收股利 | I16: 5-11一年内到期的非流动负债
D17: 3-8其他应收款 | I17: 5-12其他流动负债
D18: 3-9存货 | E18: 3-9-1材料采购（在途物资）
E19: 3-9-2原材料
E20: 3-9-3在库周转材料 | G20: 6-非流动负债 | I20: 6-1长期借款
E21: 3-9-4委托加工物资 | I21: 6-2应付债券
E22: 3-9-5产成品（库存商品） | I22: 6-3长期应付款
E23: 3-9-6在产品（自制半成品） | I23: 6-4专项应付款
E24: 3-9-7发出商品 | I24: 6-5预计负债
E25: 3-9-8在用周转材料 | I25: 6-6递延所得税负债
D26: 3-10一年到期非流动资产 | I26: 6-7其他非流动负债
D27: 3-11其他流动资产
C28: 4-非流动资产 | D28: 4-1可供出售金融资产 | E28: 4-1-1可供出售-股票
E29: 4-1-2可供出售-债券
E30: 4-1-3可供出售-其他
D31: 4-2持有至到期投资
D32: 4-3长期应收款
D33: 4-4长期股权投资
D34: 4-5投资性房地产 | E34: 4-5-1投资性-房屋（成本模式）
E35: 4-5-2投资性-房屋（公允模式）
E36: 4-5-3投资性-土地（成本模式）
E37: 4-5-4投资性-土地（公允模式）
D38: 4-6固定资产 | E38: 4-6-1房屋建筑物
E39: 4-6-2构筑物
E40: 4-6-3管道及沟槽
E41: 4-6-4机器设备
...

Sheet 目录
B1: 评估明细表目录
A2: 序号 | B2: 表格名称 | C2: 页数
A3: 1 | B3: 表1：资产评估结果汇总表
A4: 2 | B4: 表2：资产评估结果分类汇总表
A5: 3 | B5: 表3：流动资产评估汇总表
A6: 4 | B6: 表3-1：货币资金评估汇总表
A7: 5 | B7: 表3-1-1：货币资金—现金评估明细表
A8: 6 | B8: 表3-1-2：货币资金—银行存款评估明细表
A9: 7 | B9: 表3-1-3：货币资金—其他货币资金评估明细表
A10: 8 | B10: 表3-2：交易性金融资产评估汇总表
A11: 9 | B11: 表3-2-1：交易性金融资产—股票投资评估明细表
A12: 10 | B12: 表3-2-2：交易性金融资产—债券投资评估明细表
A13: 11 | B13: 表3-2-3：交易性金融资产—基金投资评估明细表
A14: 12 | B14: 表3-3：应收票据评估明细表
... A84: 82 | B84: 表6-7：其他非流动负债评估明细表

Sheet 资产负债表
A1: 返回索引页
A2: 资产负债表
A3: =封面!D11&封面!E11&封面!F11&封面!G11&封面!H11&封面!I11&封面!J11 -> 评估基准日：2020年7月30日
A4: =封面!D13&封面!E13 -> 被评估单位（或产权持有单位）：贡山县隆鑫矿业有限公司 | J4: 金额单位：人民币元
A5: 资产 | B5: 序号 | C5: 期初数 | D5: 期末数 | E5: 备注 | F5: 负债及所有者权益 | G5: 序号 | H5: 期初数 | I5: 期末数 | J5: 备注
A6: 流动资产： | B6: 1 | F6: 流动负债： | G6: 34
A7: 货币资金 | B7: 2 | C7: 56583.55 | D7: 53356.05 | F7: 短期借款 | G7: 35 | H7: 7000000 | I7: 7000000
A8: 交易性金融资产 | B8: 3 | F8: 交易性金融负债 | G8: 36
A9: 应收票据 | B9: 4 | F9: 应付票据 | G9: 37
A10: 应收账款 | B10: 5 | C10: 79680.7 | D10: 1029680.7 | F10: 应付账款 | G10: 38 | H10: 2.7164166e+08 | I10: 2.6795768e+08
A11: 预付款项 | B11: 6 | C11: 12890759 | D11: 12272390 | F11: 预收款项 | G11: 39 | H11: 7434380.9 | I11: 12272208
A12: 应收利息 | B12: 7 | F12: 应付职工薪酬 | G12: 40 | H12: 17594536 | I12: 22957039
A13: 应收股利 | B13: 8 | F13: 应交税费 | G13: 41 | H13: 1517826.3 | I13: 2648559.6
A14: 其他应收款 | B14: 9 | C14: 1.9045746e+08 | D14: 1.8978786e+08 | F14: 应付利息 | G14: 42
A15: 存货 | B15: 10 | C15: =5796497.54+221358.12 -> 6017855.7 | D15: 5903924 | F15: 应付股利 | G15: 43
A16: 一年内到期的非流动资产 | B16: 11 | F16: 其他应付款 | G16: 44 | H16: 5733556.3 | I16: 6747863.9
A17: 其他流动资产 | B17: 12 | F17: 一年内到期的非流动负债 | G17: 45
A18: 流动资产合计 | B18: 13 | C18: =SUM(C7:C17) -> 2.0950233e+08 | D18: =SUM(D7:D17) -> 2.0904721e+08 | F18: 其他流动负债 | G18: 46
A19: 非流动资产： | B19: 14 | F19: 流动负债合计 | G19: 47 | H19: =SUM(H7:H18) -> 3.1092196e+08 | I19: =SUM(I7:I18) -> 3.1958336e+08
A20: 可供出售金融资产 | B20: 15 | F20: 非流动负债： | G20: 48
A21: 持有至到期投资 | B21: 16 | F21: 长期借款 | G21: 49 | H21: 1200000 | I21: 1200000
A22: 长期应收款 | B22: 17 | F22: 应付债券 | G22: 50
A23: 长期股权投资 | B23: 18 | F23: 长期应付款 | G23: 51
A24: 投资性房地产 | B24: 19 | F24: 专项应付款 | G24: 52
A25: 固定资产 | B25: 20 | C25: 65099216 | D25: 57707378 | F25: 预计负债 | G25: 53
A26: 在建工程 | B26: 21 | C26: 470209.4 | F26: 递延所得税负债 | G26: 54
A27: 工程物资 | B27: 22 | F27: 其他非流动负债 | G27: 55
A28: 固定资产清理 | B28: 23 | F28: 非流动负债合计 | G28: 56 | H28: =SUM(H21:H27) -> 1200000 | I28: =SUM(I21:I27) -> 1200000
A29: 生产性生物资产 | B29: 24 | F29: 负债合计 | G29: 57 | H29: =H19+H28 -> 3.1212196e+08 | I29: =I19+I28 -> 3.2078336e+08
A30: 油气资产 | B30: 25 | F30: 所有者权益： | G30: 58
A31: 无形资产 | B31: 26 | C31: 4189943.8 | D31: 4085613 | F31: 实收资本 | G31: 59 | H31: 52600000 | I31: 52600000
A32: 开发支出 | B32: 27 | F32: 资本公积 | G32: 60 | H32: 3684972 | I32: 3684972
A33: 商誉 | B33: 28 | F33: 减：库存股 | G33: 61
A34: 长期待摊费用 | B34: 29 | F34: 盈余公积 | G34: 62 | H34: 1930660.9 | I34: 1930660.9
A35: 递延所得税资产 | B35: 30 | F35: 专项储备 | G35: 63 | H35: 9296861.4 | I35: 9427083.8
A36: 其他非流动资产 | B36: 31 | F36: 未分配利润 | G36: 64 | H36: -1.0037275e+08 | I36: -1.1758587e+08
A37: 非流动资产合计 | B37: 32 | C37: =SUM(C20:C36) -> 69759370 | D37: =SUM(D20:D36) -> 61792991 | F37: 所有制权益合计 | G37: 65 | H37: =SUM(H31:H36) -> -32860257 | I37: =SUM(I31:I36) -> -49943157
A38: 资产总计 | B38: 33 | C38: =SUM(C37,C18) -> 2.792617e+08 | D38: =SUM(D37,D18) -> 2.708402e+08 | F38: 负债及所有者权益合计 | G38: 66 | H38: =H29+H37 -> 2.792617e+08 | I38: =I29+I37 -> 2.708402e+08
F39: 与总资产相差 | G39: 66 | H39: =H38-C38 -> 0 | I39: =I38-D38 -> 0
C40: 填表人： | E40: 财务主管： | F40: =IF(基本情况!I8="","",基本情况!I8) | H40: 负责人： | I40: =IF(基本情况!I5="","",基本情况!I5) -> 0

Sheet 审定数
A1: 科目 | B1: 金额

Sheet 1-汇总表
A1: 返回索引页
A2: 资 产 评 估 结 果 汇 总 表
A3: =封面!D11&封面!E11&封面!F11&封面!G11&封面!H11&封面!I11&封面!J11 -> 评估基准日：2020年7月30日
G4: 表1
A5: =封面!D13&封面!E13 -> 被评估单位（或产权持有单位）：贡山县隆鑫矿业有限公司 | G5: 金额单位：人民币万元
A6: 项 目 | C6: 审计前账面值 | D6: 账面价值 | E6: 评估价值 | F6: 增减值 | G6: 增值率％
D7: A | E7: C | F7: D=C-B | G7: E=D/B×100%
A8: 1 | B8: 流动资产 | C8: ='2-分类汇总'!C7/10000 -> 0 | D8: ='2-分类汇总'!D7/10000 -> 0 | E8: ='2-分类汇总'!E7/10000 -> 0 | F8: ='2-分类汇总'!F7/10000 -> 0 | G8: =IF(D8=0,"",F8/D8*100)
A9: 2 | B9: 非流动资产 | C9: ='2-分类汇总'!C20/10000 -> #REF! | D9: ='2-分类汇总'!D20/10000 -> 0 | E9: ='2-分类汇总'!E20/10000 -> 6578.6 | F9: ='2-分类汇总'!F20/10000 -> #VALUE! | G9: =IF(D9=0,"",F9/D9*100)
A10: 3 | B10: 其中：可供出售金融资产 | C10: ='2-分类汇总'!C21/10000 -> 0 | D10: ='2-分类汇总'!D21/10000 -> 0 | E10: ='2-分类汇总'!E21/10000 -> 0 | F10: ='2-分类汇总'!F21/10000 -> 0 | G10: =IF(D10=0,"",F10/D10*100) | H10: =IF(E10=0,"",G10/E10*100)
A11: 4 | B11: 持有至到期投资 | C11: ='2-分类汇总'!C22/10000 -> 0 | D11: ='2-分类汇总'!D22/10000 -> 0 | E11: ='2-分类汇总'!E22/10000 -> 0 | F11: ='2-分类汇总'!F22/10000 -> 0 | G11: =IF(D11=0,"",F11/D11*100) | H11: =IF(E11=0,"",G11/E11*100)
A12: 5 | B12: 长期应收款 | C12: ='2-分类汇总'!C23/10000 -> 0 | D12: ='2-分类汇总'!D23/10000 -> 0 | E12: ='2-分类汇总'!E23/10000 -> 0 | F12: ='2-分类汇总'!F23/10000 -> 0 | G12: =IF(D12=0,"",F12/D12*100) | H12: =IF(E12=0,"",G12/E12*100)
A13: 6 | B13: 长期股权投资 | C13: ='2-分类汇总'!C24/10000 -> 0 | D13: ='2-分类汇总'!D24/10000 -> 0 | E13: ='2-分类汇总'!E24/10000 -> 0 | F13: ='2-分类汇总'!F24/10000 -> 0 | G13: =IF(D13=0,"",F13/D13*100) | H13: =IF(E13=0,"",G13/E13*100)
A14: 7 | B14: 投资性房地产 | C14: ='2-分类汇总'!C25/10000 -> 0 | D14: ='2-分类汇总'!D25/10000 -> 0 | E14: ='2-分类汇总'!E25/10000 -> 0 | F14: ='2-分类汇总'!F25/10000 -> 0 | G14: =IF(D14=0,"",F14/D14*100) | H14: =IF(E14=0,"",G14/E14*100)
A15: 8 | B15: 固定资产 | C15: ='2-分类汇总'!C26/10000 -> #REF! | D15: ='2-分类汇总'!D26/10000 -> #VALUE! | E15: ='2-分类汇总'!E26/10000 -> 0 | F15: ='2-分类汇总'!F26/10000 -> #VALUE! | G15: =IF(D15=0,"",F15/D15*100) -> #VALUE!
A16: 9 | B16: 在建工程 | C16: ='2-分类汇总'!C27/10000 -> 0 | E16: ='2-分类汇总'!E27/10000 -> 0 | G16: =IF(D16=0,"",F16/D16*100) | H16: =IF(E16=0,"",G16/E16*100)
A17: 10 | B17: 工程物资 | C17: ='2-分类汇总'!C28/10000 -> 0 | D17: ='2-分类汇总'!D28/10000 -> 0 | E17: ='2-分类汇总'!E28/10000 -> 0 | F17: ='2-分类汇总'!F28/10000 -> 0 | G17: =IF(D17=0,"",F17/D17*100) | H17: =IF(E17=0,"",G17/E17*100)
A18: 11 | B18: 固定资产清理 | C18: ='2-分类汇总'!C29/10000 -> 0 | D18: ='2-分类汇总'!D29/10000 -> 0 | E18: ='2-分类汇总'!E29/10000 -> 0 | F18: ='2-分类汇总'!F29/10000 -> 0 | G18: =IF(D18=0,"",F18/D18*100)
A19: 12 | B19: 生产性生物资产 | C19: ='2-分类汇总'!C30/10000 -> 0 | D19: ='2-分类汇总'!D30/10000 -> 0 | E19: ='2-分类汇总'!E30/10000 -> 0 | F19: ='2-分类汇总'!F30/10000 -> 0 | G19: =IF(D19=0,"",F19/D19*100)
A20: 13 | B20: 油气资产 | C20: ='2-分类汇总'!C31/10000 -> 0 | D20: ='2-分类汇总'!D31/10000 -> 0 | E20: ='2-分类汇总'!E31/10000 -> 0 | F20: ='2-分类汇总'!F31/10000 -> 0 | G20: =IF(D20=0,"",F20/D20*100)
A21: 14 | B21: 无形资产 | C21: ='2-分类汇总'!C32/10000 -> 0 | D21: ='2-分类汇总'!D32/10000 -> 0 | E21: ='2-分类汇总'!E32/10000 -> 6578.6 | F21: ='2-分类汇总'!F32/10000 -> 6578.6 | G21: =IF(D21=0,"",F21/D21*100)
A22: 15 | B22: 开发支出 | C22: ='2-分类汇总'!C33/10000 -> 0 | D22: ='2-分类汇总'!D33/10000 -> 0 | E22: ='2-分类汇总'!E33/10000 -> 0 | F22: ='2-分类汇总'!F33/10000 -> 0 | G22: =IF(D22=0,"",F22/D22*100)
A23: 16 | B23: 商誉 | C23: ='2-分类汇总'!C34/10000 -> 0 | D23: ='2-分类汇总'!D34/10000 -> 0 | E23: ='2-分类汇总'!E34/10000 -> 0 | F23: ='2-分类汇总'!F34/10000 -> 0 | G23: =IF(D23=0,"",F23/D23*100)
A24: 17 | B24: 长期待摊费用 | C24: ='2-分类汇总'!C35/10000 -> 0 | E24: ='2-分类汇总'!E35/10000 -> 0 | G24: =IF(D24=0,"",F24/D24*100)
A25: 18 | B25: 递延所得税资产 | C25: ='2-分类汇总'!C36/10000 -> 0 | D25: ='2-分类汇总'!D36/10000 -> 0 | E25: ='2-分类汇总'!E36/10000 -> 0 | F25: ='2-分类汇总'!F36/10000 -> 0 | G25: =IF(D25=0,"",F25/D25*100)
A26: 19 | B26: 其他非流动资产 | C26: ='2-分类汇总'!C37/10000 -> 0 | E26: ='2-分类汇总'!E37/10000 -> 0 | G26: =IF(D26=0,"",F26/D26*100)
A27: 20 | B27: 资产总计 | C27: =SUM(C8,C9) -> #REF! | D27: =SUM(D8,D9) -> 0 | E27: =SUM(E8,E9) -> 6578.6 | F27: =SUM(F8,F9) -> #VALUE! | G27: =IF(D27=0,"",F27/D27*100)
A28: 21 | B28: 流动负债 | C28: ='2-分类汇总'!C40/10000 -> #REF! | E28: ='2-分类汇总'!E40/10000 -> 0 | G28: =IF(D28=0,"",F28/D28*100)
A29: 22 | B29: 非流动负债 | C29: ='2-分类汇总'!C54/10000 -> 0 | E29: ='2-分类汇总'!E54/10000 -> 0 | G29: =IF(D29=0,"",F29/D29*100)
A30: 23 | B30: 负债合计 | C30: =SUM(C28,C29) -> #REF! | D30: =SUM(D28,D29) -> 0 | E30: =SUM(E28,E29) -> 0 | F30: =SUM(F28,F29) -> 0 | G30: =IF(D30=0,"",F30/D30*100)
A31: 24 | B31: 净资产（所有者权益） | C31: =C27-C30 -> #REF! | D31: =D27-D30 -> 0 | E31: =E27-E30 -> 6578.6 | F31: =F27-F30 -> #VALUE! | G31: =IF(D31=0,"",F31/D31*100)
A32: 评估机构：云南通域房地产土地资产评估有限公司

Sheet 2-分类汇总
A1: 返回索引页 | B1: 返回
A2: 资产评估结果分类汇总表
A3: ='1-汇总表'!A3:G3 -> 评估基准日：2020年7月30日
G4: 表2
A5: ='1-汇总表'!A5 -> 被评估单位（或产权持有单位）：贡山县隆鑫矿业有限公司 | G5: 金额单位：人民币元 | I5: =IF(COUNTIF(I7:I93,">0")+COUNTIF(I7:I93,"<0")>0,"出错","OK") -> 出错 | K5: =IF(COUNTIF(K7:K93,">0")+COUNTIF(K7:K93,"<0")>0,"出错","OK") -> OK
A6: 序号 | B6: 科目名称 | C6: 审计前账面值 | D6: 账面价值 | E6: 评估价值 | F6: 增减值 | G6: 增值率% | H6: 企业报表数 | I6: 差异 | J6: 审定数 | K6: 差异
A7: 1 | B7: 一、流动资产合计 | C7: =SUM(C8:C18) -> 0 | D7: =SUM(D8:D18) -> 0 | E7: =SUM(E8:E18) -> 0 | F7: =SUM(F8:F18) -> 0 | G7: =IF(D7=0,"",F7/D7*100) | H7: =资产负债表!D18 -> 2.0904721e+08 | I7: =ROUND(C7-H7,2) -> -2.0904721e+08 | J7: =SUMIF(审定数!$A:$A,"流动资产合计",审定数!$B:$B) -> 0 | K7: =ROUND(D7-J7,2) -> 0
A8: 2 | B8: 货币资金 | C8: ='3-流动汇总'!E7 -> 0 | E8: ='3-流动汇总'!G7 -> 0 | F8: =E8-D8 -> 0 | G8: =IF(D8=0,"",F8/D8*100) | H8: =资产负债表!D7 -> 53356.05 | I8: =ROUND(C8-H8,2) -> -53356.05 | J8: =SUMIF(审定数!$A:$A,B8,审定数!$B:$B) -> 0 | K8: =ROUND(D8-J8,2) -> 0
A9: 3 | B9: 交易性金融资产 | C9: ='3-流动汇总'!E8 -> 0 | E9: ='3-流动汇总'!G8 -> 0 | F9: =E9-D9 -> 0 | G9: =IF(D9=0,"",F9/D9*100) | H9: =资产负债表!D8 -> 0 | I9: =ROUND(C9-H9,2) -> 0 | J9: =SUMIF(审定数!$A:$A,B9,审定数!$B:$B) -> 0 | K9: =ROUND(D9-J9,2) -> 0
A10: 4 | B10: 应收票据 | C10: ='3-流动汇总'!E9 -> 0 | E10: ='3-流动汇总'!G9 -> 0 | F10: =E10-D10 -> 0 | G10: =IF(D10=0,"",F10/D10*100) | H10: =资产负债表!D9 -> 0 | I10: =ROUND(C10-H10,2) -> 0 | J10: =SUMIF(审定数!$A:$A,B10,审定数!$B:$B) -> 0 | K10: =ROUND(D10-J10,2) -> 0
A11: 5 | B11: 应收账款 | C11: ='3-流动汇总'!E10 -> 0 | E11: ='3-流动汇总'!G10 -> 0 | F11: =E11-D11 -> 0 | G11: =IF(D11=0,"",F11/D11*100) | H11: =资产负债表!D10 -> 1029680.7 | I11: =ROUND(C11-H11,2) -> -1029680.7 | J11: =SUMIF(审定数!$A:$A,B11,审定数!$B:$B) -> 0 | K11: =ROUND(D11-J11,2) -> 0
A12: 6 | B12: 预付款项 | C12: ='3-流动汇总'!E11 -> 0 | E12: ='3-流动汇总'!G11 -> 0 | F12: =E12-D12 -> 0 | G12: =IF(D12=0,"",F12/D12*100) | H12: =资产负债表!D11 -> 12272390 | I12: =ROUND(C12-H12,2) -> -12272390 | J12: =SUMIF(审定数!$A:$A,B12,审定数!$B:$B)+SUMIF(审定数!$A:$A,"预付账款",审定数!$B:$B) -> 0 | K12: =ROUND(D12-J12,2) -> 0
A13: 7 | B13: 应收利息 | C13: ='3-流动汇总'!E12 -> 0 | D13: ='3-流动汇总'!F12 -> 0 | E13: ='3-流动汇总'!G12 -> 0 | F13: =E13-D13 -> 0 | G13: =IF(D13=0,"",F13/D13*100) | H13: =资产负债表!D12 -> 0 | I13: =ROUND(C13-H13,2) -> 0 | J13: =SUMIF(审定数!$A:$A,B13,审定数!$B:$B) -> 0 | K13: =ROUND(D13-J13,2) -> 0
A14: 8 | B14: 应收股利 | C14: ='3-流动汇总'!E13 -> 0 | D14: ='3-流动汇总'!F13 -> 0 | E14: ='3-流动汇总'!G13 -> 0 | F14: =E14-D14 -> 0 | G14: =IF(D14=0,"",F14/D14*100) | H14: =资产负债表!D13 -> 0 | I14: =ROUND(C14-H14,2) -> 0 | J14: =SUMIF(审定数!$A:$A,B14,审定数!$B:$B) -> 0 | K14: =ROUND(D14-J14,2) -> 0
A15: 9 | B15: 其他应收款 | C15: ='3-流动汇总'!E14 -> 0 | E15: ='3-流动汇总'!G14 -> 0 | F15: =E15-D15 -> 0 | G15: =IF(D15=0,"",F15/D15*100) | H15: =资产负债表!D14 -> 1.8978786e+08 | I15: =ROUND(C15-H15,2) -> -1.8978786e+08 | J15: =SUMIF(审定数!$A:$A,B15,审定数!$B:$B) -> 0 | K15: =ROUND(D15-J15,2) -> 0
A16: 10 | B16: 存货 | C16: ='3-流动汇总'!E15 -> 0 | D16: ='3-流动汇总'!F15 -> 0 | E16: ='3-流动汇总'!G15 -> 0 | F16: =E16-D16 -> 0 | G16: =IF(D16=0,"",F16/D16*100) | H16: =资产负债表!D15 -> 5903924 | I16: =ROUND(C16-H16,2) -> -5903924 | J16: =SUMIF(审定数!$A:$A,B16,审定数!$B:$B) -> 0 | K16: =ROUND(D16-J16,2) -> 0
A17: 11 | B17: 一年内到期的非流动资产 | C17: ='3-流动汇总'!E16 -> 0 | D17: ='3-流动汇总'!F16 -> 0 | E17: ='3-流动汇总'!G16 -> 0 | F17: =E17-D17 -> 0 | G17: =IF(D17=0,"",F17/D17*100) | H17: =资产负债表!D16 -> 0 | I17: =ROUND(C17-H17,2) -> 0 | J17: =SUMIF(审定数!$A:$A,B17,审定数!$B:$B) -> 0 | K17: =ROUND(D17-J17,2) -> 0
A18: 12 | B18: 其他流动资产 | C18: ='3-流动汇总'!E17 -> 0 | D18: ='3-流动汇总'!F17 -> 0 | E18: ='3-流动汇总'!G17 -> 0 | F18: =E18-D18 -> 0 | G18: =IF(D18=0,"",F18/D18*100) | H18: =资产负债表!D17 -> 0 | I18: =ROUND(C18-H18,2) -> 0 | J18: =SUMIF(审定数!$A:$A,B18,审定数!$B:$B) -> 0 | K18: =ROUND(D18-J18,2) -> 0
G19: =IF(D19=0,"",F19/D19*100)
A20: 13 | B20: 二、非流动资产合计 | C20: =SUM(C21:C37) -> #REF! | D20: =SUM(D21:D37) -> 0 | E20: =SUM(E21:E37) -> 65785950 | F20: =SUM(F21:F37) -> #VALUE! | G20: =IF(D20=0,"",F20/D20*100) | H20: =资产负债表!D37 -> 61792991 | I20: =ROUND(C20-H20,2) -> #REF! | J20: =SUMIF(审定数!$A:$A,"非流动资产合计",审定数!$B:$B) -> 0 | K20: =ROUND(D20-J20,2) -> 0
A21: 14 | B21: 可供出售金融资产 | C21: ='4-非流动资产汇总'!C7 -> 0 | D21: ='4-非流动资产汇总'!D7 -> 0 | E21: ='4-非流动资产汇总'!E7 -> 0 | F21: =E21-D21 -> 0 | G21: =IF(D21=0,"",F21/D21*100) | H21: =资产负债表!D20 -> 0 | I21: =ROUND(C21-H21,2) -> 0 | J21: =SUMIF(审定数!$A:$A,B21,审定数!$B:$B) -> 0 | K21: =ROUND(D21-J21,2) -> 0
A22: 15 | B22: 持有至到期投资 | C22: ='4-非流动资产汇总'!C8 -> 0 | D22: ='4-非流动资产汇总'!D8 -> 0 | E22: ='4-非流动资产汇总'!E8 -> 0 | F22: =E22-D22 -> 0 | G22: =IF(D22=0,"",F22/D22*100) | H22: =资产负债表!D21 -> 0 | I22: =ROUND(C22-H22,2) -> 0 | J22: =SUMIF(审定数!$A:$A,B22,审定数!$B:$B) -> 0 | K22: =ROUND(D22-J22,2) -> 0
A23: 16 | B23: 长期应收款 | C23: ='4-非流动资产汇总'!C9 -> 0 | D23: ='4-非流动资产汇总'!D9 -> 0 | E23: ='4-非流动资产汇总'!E9 -> 0 | F23: =E23-D23 -> 0 | G23: =IF(D23=0,"",F23/D23*100) | H23: =资产负债表!D22 -> 0 | I23: =ROUND(C23-H23,2) -> 0 | J23: =SUMIF(审定数!$A:$A,B23,审定数!$B:$B) -> 0 | K23: =ROUND(D23-J23,2) -> 0
A24: 17 | B24: 长期股权投资 | C24: ='4-非流动资产汇总'!C10 -> 0 | D24: ='4-非流动资产汇总'!D10 -> 0 | E24: ='4-非流动资产汇总'!E10 -> 0 | F24: =E24-D24 -> 0 | G24: =IF(D24=0,"",F24/D24*100) | H24: =资产负债表!D23 -> 0 | I24: =ROUND(C24-H24,2) -> 0 | J24: =SUMIF(审定数!$A:$A,B24,审定数!$B:$B) -> 0 | K24: =ROUND(D24-J24,2) -> 0
A25: 18 | B25: 投资性房地产 | C25: ='4-非流动资产汇总'!C11 -> 0 | D25: ='4-非流动资产汇总'!D11 -> 0 | E25: ='4-非流动资产汇总'!E11 -> 0 | F25: =E25-D25 -> 0 | G25: =IF(D25=0,"",F25/D25*100) | H25: =资产负债表!D24 -> 0 | I25: =ROUND(C25-H25,2) -> 0 | J25: =SUMIF(审定数!$A:$A,B25,审定数!$B:$B) -> 0 | K25: =ROUND(D25-J25,2) -> 0
A26: 19 | B26: 固定资产 | C26: ='4-非流动资产汇总'!C12 -> #REF! | D26: ='4-非流动资产汇总'!D12 -> - | E26: ='4-非流动资产汇总'!E12 -> 0 | F26: =E26-D26 -> #VALUE! | G26: =IF(D26=0,"",F26/D26*100) -> #VALUE! | H26: =资产负债表!D25 -> 57707378 | I26: =ROUND(C26-H26,2) -> #REF! | J26: =SUMIF(审定数!$A:$A,B26,审定数!$B:$B) -> 0 | K26: =ROUND(D26-J26,2) -> #VALUE!
A27: 20 | B27: 在建工程 | C27: ='4-非流动资产汇总'!C13 -> 0 | E27: ='4-非流动资产汇总'!E13 -> 0 | F27: =E27-D27 -> 0 | G27: =IF(D27=0,"",F27/D27*100) | H27: =资产负债表!D26 -> 0 | I27: =ROUND(C27-H27,2) -> 0 | J27: =SUMIF(审定数!$A:$A,B27,审定数!$B:$B) -> 0 | K27: =ROUND(D27-J27,2) -> 0
A28: 21 | B28: 工程物资 | C28: ='4-非流动资产汇总'!C14 -> 0 | D28: ='4-非流动资产汇总'!D14 -> 0 | E28: ='4-非流动资产汇总'!E14 -> 0 | F28: =E28-D28 -> 0 | G28: =IF(D28=0,"",F28/D28*100) | H28: =资产负债表!D27 -> 0 | I28: =ROUND(C28-H28,2) -> 0 | J28: =SUMIF(审定数!$A:$A,B28,审定数!$B:$B) -> 0 | K28: =ROUND(D28-J28,2) -> 0
A29: 22 | B29: 固定资产清理 | C29: ='4-非流动资产汇总'!C15 -> 0 | D29: ='4-非流动资产汇总'!D15 -> 0 | E29: ='4-非流动资产汇总'!E15 -> 0 | F29: =E29-D29 -> 0 | G29: =IF(D29=0,"",F29/D29*100) | H29: =资产负债表!D28 -> 0 | I29: =ROUND(C29-H29,2) -> 0 | J29: =SUMIF(审定数!$A:$A,B29,审定数!$B:$B) -> 0 | K29: =ROUND(D29-J29,2) -> 0
A30: 23 | B30: 生产性生物资产 | C30: ='4-非流动资产汇总'!C16 -> 0 | D30: ='4-非流动资产汇总'!D16 -> 0 | E30: ='4-非流动资产汇总'!E16 -> 0 | F30: =E30-D30 -> 0 | G30: =IF(D30=0,"",F30/D30*100) | H30: =资产负债表!D29 -> 0 | I30: =ROUND(C30-H30,2) -> 0 | J30: =SUMIF(审定数!$A:$A,B30,审定数!$B:$B) -> 0 | K30: =ROUND(D30-J30,2) -> 0
A31: 24 | B31: 油气资产 | C31: ='4-非流动资产汇总'!C17 -> 0 | D31: ='4-非流动资产汇总'!D17 -> 0 | E31: ='4-非流动资产汇总'!E17 -> 0 | F31: =E31-D31 -> 0 | G31: =IF(D31=0,"",F31/D31*100) | H31: =资产负债表!D30 -> 0 | I31: =ROUND(C31-H31,2) -> 0 | J31: =SUMIF(审定数!$A:$A,B31,审定数!$B:$B) -> 0 | K31: =ROUND(D31-J31,2) -> 0
A32: 25 | B32: 无形资产 | C32: ='4-非流动资产汇总'!C18 -> 0 | D32: ='4-非流动资产汇总'!D18 -> 0 | E32: ='4-非流动资产汇总'!E18 -> 65785950 | F32: =E32-D32 -> 65785950 | G32: =IF(D32=0,"",F32/D32*100) | H32: =资产负债表!D31 -> 4085613 | I32: =ROUND(C32-H32,2) -> -4085613 | J32: =SUMIF(审定数!$A:$A,B32,审定数!$B:$B) -> 0 | K32: =ROUND(D32-J32,2) -> 0
A33: 26 | B33: 开发支出 | C33: ='4-非流动资产汇总'!C19 -> 0 | D33: ='4-非流动资产汇总'!D19 -> 0 | E33: ='4-非流动资产汇总'!E19 -> 0 | F33: =E33-D33 -> 0 | G33: =IF(D33=0,"",F33/D33*100) | H33: =资产负债表!D32 -> 0 | I33: =ROUND(C33-H33,2) -> 0 | J33: =SUMIF(审定数!$A:$A,B33,审定数!$B:$B) -> 0 | K33: =ROUND(D33-J33,2) -> 0
A34: 27 | B34: 商誉 | C34: ='4-非流动资产汇总'!C20 -> 0 | D34: ='4-非流动资产汇总'!D20 -> 0 | E34: ='4-非流动资产汇总'!E20 -> 0 | F34: =E34-D34 -> 0 | G34: =IF(D34=0,"",F34/D34*100) | H34: =资产负债表!D33 -> 0 | I34: =ROUND(C34-H34,2) -> 0 | J34: =SUMIF(审定数!$A:$A,B34,审定数!$B:$B) -> 0 | K34: =ROUND(D34-J34,2) -> 0
A35: 28 | B35: 长期待摊费用 | C35: ='4-非流动资产汇总'!C21 -> 0 | E35: ='4-非流动资产汇总'!E21 -> 0 | F35: =E35-D35 -> 0 | G35: =IF(D35=0,"",F35/D35*100) | H35: =资产负债表!D34 -> 0 | I35: =ROUND(C35-H35,2) -> 0 | J35: =SUMIF(审定数!$A:$A,B35,审定数!$B:$B) -> 0 | K35: =ROUND(D35-J35,2) -> 0
A36: 29 | B36: 递延所得税资产 | C36: ='4-非流动资产汇总'!C22 -> 0 | D36: ='4-非流动资产汇总'!D22 -> 0 | E36: ='4-非流动资产汇总'!E22 -> 0 | F36: =E36-D36 -> 0 | G36: =IF(D36=0,"",F36/D36*100) | H36: =资产负债表!D35 -> 0 | I36: =ROUND(C36-H36,2) -> 0 | J36: =SUMIF(审定数!$A:$A,B36,审定数!$B:$B) -> 0 | K36: =ROUND(D36-J36,2) -> 0
A37: 30 | B37: 其他非流动资产 | C37: ='4-非流动资产汇总'!C23 -> 0 | E37: ='4-非流动资产汇总'!E23 -> 0 | F37: =E37-D37 -> 0 | G37: =IF(D37=0,"",F37/D37*100) | H37: =资产负债表!D36 -> 0 | I37: =ROUND(C37-H37,2) -> 0 | J37: =SUMIF(审定数!$A:$A,B37,审定数!$B:$B) -> 0 | K37: =ROUND(D37-J37,2) -> 0
G38: =IF(D38=0,"",F38/D38*100)
A39: 31 | B39: 三、资产总计 | C39: =SUM(C7,C20) -> #REF! | D39: =SUM(D7,D20) -> 0 | E39: =SUM(E7,E20) -> 65785950 | F39: =SUM(F7,F20) -> #VALUE! | G39: =IF(D39=0,"",F39/D39*100) | H39: =资产负债表!D38 -> 2.708402e+08 | I39: =ROUND(C39-H39,2) -> #REF! | J39: =SUMIF(审定数!$A:$A,"资产合计",审定数!$B:$B)+SUMIF(审定数!$A:$A,"资产总计",审定数!$B:$B) -> 0 | K39: =ROUND(D39-J39,2) -> 0
A40: 32 | B40: 四、流动负债合计 | C40: =SUM(C41:C52) -> #REF! | D40: =SUM(D41:D52) -> 0 | E40: =SUM(E41:E52) -> 0 | F40: =SUM(F41:F52) -> 0 | G40: =IF(D40=0,"",F40/D40*100) | H40: =资产负债表!I19 -> 3.1958336e+08 | I40: =ROUND(C40-H40,2) -> #REF! | J40: =SUMIF(审定数!$A:$A,"流动负债合计",审定数!$B:$B) -> 0 | K40: =ROUND(D40-J40,2) -> 0
...

Sheet 3-流动汇总
A1: 返回索引页 | B1: 返回
A2: 流动资产评估汇总表
A3: ='1-汇总表'!A3:G3 -> 评估基准日：2020年7月30日
I4: 表3
A5: ='1-汇总表'!A5 -> 被评估单位（或产权持有单位）：贡山县隆鑫矿业有限公司 | I5: 金额单位：人民币元
A6: 编号 | B6: 科目名称 | E6: 审计前账面值 | F6: 账面价值 | G6: 评估价值 | H6: 增减值 | I6: 增值率%
A7: 3-1 | B7: 货币资金 | C7: 存款 | D7: 他币） | E7: ='3-1货币汇总表'!C27 -> 0 | F7: ='3-1货币汇总表'!D27 -> 80935831 | G7: ='3-1货币汇总表'!E27 -> 0 | H7: =G7-F7 -> -80935831 | I7: =IF(F7=0,"",H7/F7*100) -> -100
A8: 3-2 | B8: 交易性金融资产 | E8: ='3-2交易性金融资产汇总'!C28 -> 0 | F8: ='3-2交易性金融资产汇总'!D28 -> 535700 | G8: ='3-2交易性金融资产汇总'!E28 -> 0 | H8: =G8-F8 -> -535700 | I8: =IF(F8=0,"",H8/F8*100) -> -100
A9: 3-3 | B9: 应收票据 | E9: ='3-3应收票据'!H28 -> 0 | F9: ='3-3应收票据'!L28 -> -72000000 | G9: ='3-3应收票据'!M28 -> 0 | H9: =G9-F9 -> 72000000 | I9: =IF(F9=0,"",H9/F9*100) -> -100
A10: 3-4 | B10: 应收账款 | E10: ='3-4应收账款'!F22 -> 0 | F10: ='3-4应收账款'!O22 -> -1.6355489e+08 | G10: ='3-4应收账款'!P22 -> 0 | H10: =G10-F10 -> 1.6355489e+08 | I10: =IF(F10=0,"",H10/F10*100) -> -100
A11: 3-5 | B11: 预付账款 | E11: ='3-5预付账款'!F18 -> 0 | F11: ='3-5预付账款'!O18 -> -5.3461489e+08 | G11: ='3-5预付账款'!P18 -> 0 | H11: =G11-F11 -> 5.3461489e+08 | I11: =IF(F11=0,"",H11/F11*100) -> -100
A12: 3-6 | B12: 应收利息 | E12: ='3-6应收利息'!G28 -> 0 | F12: ='3-6应收利息'!H28 -> 0 | G12: ='3-6应收利息'!I28 -> 0 | H12: =G12-F12 -> 0 | I12: =IF(F12=0,"",H12/F12*100)
A13: 3-7 | B13: 应收股利 | E13: ='3-7应收股利'!E28 -> 0 | F13: ='3-7应收股利'!F28 -> 0 | G13: ='3-7应收股利'!G28 -> 0 | H13: =G13-F13 -> 0 | I13: =IF(F13=0,"",H13/F13*100)
A14: 3-8 | B14: 其他应收款 | E14: ='3-8其他应收款'!F27 -> 0 | F14: ='3-8其他应收款'!O27 -> 2.0386401e+08 | G14: ='3-8其他应收款'!P27 -> 0 | H14: =G14-F14 -> -2.0386401e+08 | I14: =IF(F14=0,"",H14/F14*100) -> -100
A15: 3-9 | B15: 存货 | E15: ='3-9存货汇总'!C28 -> 0 | F15: ='3-9存货汇总'!D28 -> 0 | G15: ='3-9存货汇总'!E28 -> 0 | H15: =G15-F15 -> 0 | I15: =IF(F15=0,"",H15/F15*100)
A16: 3-10 | B16: 一年内到期的非流动资产 | E16: ='3-10一年到期非流动资产'!E28 -> 0 | F16: ='3-10一年到期非流动资产'!F28 -> 0 | G16: ='3-10一年到期非流动资产'!G28 -> 0 | H16: =G16-F16 -> 0
A17: 3-11 | B17: 其他流动资产 | E17: ='3-11其他流动资产'!E28 -> 0 | F17: ='3-11其他流动资产'!F28 -> 0 | G17: ='3-11其他流动资产'!G28 -> 0 | H17: =G17-F17 -> 0
A28: 流动资产合计 | E28: =SUM(E7:E27) -> 0 | F28: =SUM(F7:F27) -> -4.8483424e+08 | G28: =SUM(G7:G27) -> 0 | H28: =SUM(H7:H27) -> 4.8483424e+08 | I28: =IF(F28=0,"",H28/F28*100) -> -100
A29: =封面!D17&封面!E17 -> 被评估单位（或产权持有单位）填表人： | G29: =评估人员!C3&"："&评估人员!D10 -> 评估人员：
A30: =封面!D19&封面!E19&封面!F19&封面!G19&封面!H19&封面!I19&封面!J19 -> 填表日期：2020年5月20日

Sheet 3-1货币汇总表
A1: 返回索引页 | B1: 返回
A2: 货币资金评估汇总表
A3: ='1-汇总表'!A3:G3 -> 评估基准日：2020年7月30日
G4: 表3-1
A5: ='1-汇总表'!A5 -> 被评估单位（或产权持有单位）：贡山县隆鑫矿业有限公司 | G5: 金额单位：人民币元
A6: 编号 | B6: 科目名称 | C6: 审计前账面值 | D6: 账面价值 | E6: 评估价值 | F6: 增减值 | G6: 增值率% | H6: 备注
A7: 3-1-1 | B7: 现金 | C7: ='3-1-1现金'!F26 -> 0 | D7: ='3-1-1现金'!G26 -> -17120.3 | E7: ='3-1-1现金'!H26 -> 0 | F7: =E7-D7 -> 17120.3 | G7: =IF(D7=0,"",F7/D7) -> -1
A8: 3-1-2 | B8: 银行存款 | C8: ='3-1-2银行存款'!G43 -> 0 | D8: ='3-1-2银行存款'!H43 -> -2.9305667e+08 | E8: ='3-1-2银行存款'!I43 -> 0 | F8: =E8-D8 -> 2.9305667e+08 | G8: =IF(D8=0,"",F8/D8) -> -1
A9: 3-1-3 | B9: 其他货币资金 | C9: ='3-1-3其他货币资金'!G28 -> 0 | D9: ='3-1-3其他货币资金'!H28 -> 3.7400962e+08 | E9: ='3-1-3其他货币资金'!I28 -> 0 | F9: =E9-D9 -> -3.7400962e+08 | G9: =IF(D9=0,"",F9/D9) -> -1
A27: 合 计 | C27: =SUM(C7,C8,C9) -> 0 | D27: =SUM(D7,D8,D9) -> 80935831 | E27: =SUM(E7,E8,E9) -> 0 | F27: =SUM(F7,F8,F9) -> -80935831 | G27: =IF(D27=0,"",F27/D27) -> -1
A28: =封面!D17&封面!E17 -> 被评估单位（或产权持有单位）填表人： | F28: =评估人员!C3&"："&评估人员!$D$10 -> 评估人员：
A29: =封面!D19&封面!E19&封面!F19&封面!G19&封面!H19&封面!I19&封面!J19 -> 填表日期：2020年5月20日

Sheet 3-1-1现金
A1: 返回索引页 | B1: 返回
A2: 货币资金—现金评估明细表
A3: ='1-汇总表'!A3:G3 -> 评估基准日：2020年7月30日
J4: 表3-1-1
A5: ='1-汇总表'!A5 -> 被评估单位（或产权持有单位）：贡山县隆鑫矿业有限公司 | J5: 金额单位：人民币元
A6: 序号 | B6: 存放部门（单位) | C6: 币种 | D6: 外币账面金额 | E6: 评估基准日汇率 | F6: 审计前账面值 | G6: 账面价值 | H6: 评估价值 | I6: 增减值 | J6: 增值率%
A7: 1 | B7: 财务部 | C7: 人民币 | G7: -29217.59
A8: 2 | B8: 备用金\矿石运费-段 | G8: 2097.29 | J8: =IF(G8=0,"",(H8-G8)/G8*100) -> -100
A9: 3 | B9: 备用金\车辆费用备用金 | G9: 10000 | J9: =IF(G9=0,"",(H9-G9)/G9*100) -> -100
J10: =IF(G10=0,"",(H10-G10)/G10*100)
J11: =IF(G11=0,"",(H11-G11)/G11*100)
J12: =IF(G12=0,"",(H12-G12)/G12*100)
J13: =IF(G13=0,"",(H13-G13)/G13*100)
J14: =IF(G14=0,"",(H14-G14)/G14*100)
J15: =IF(G15=0,"",(H15-G15)/G15*100)
J16: =IF(G16=0,"",(H16-G16)/G16*100)
J17: =IF(G17=0,"",(H17-G17)/G17*100)
J18: =IF(G18=0,"",(H18-G18)/G18*100)
J19: =IF(G19=0,"",(H19-G19)/G19*100)
J20: =IF(G20=0,"",(H20-G20)/G20*100)
J21: =IF(G21=0,"",(H21-G21)/G21*100)
... J25: =IF(G25=0,"",(H25-G25)/G25*100)
A26: 合 计 | F26: =SUM(F7:F25) -> 0 | G26: =SUM(G7:G25) -> -17120.3 | H26: =SUM(H7:H25) -> 0 | I26: =H26-G26 -> 17120.3 | J26: =IF(G26=0,"",(H26-G26)/G26*100) -> -100
A27: =封面!D17&封面!E17 -> 被评估单位（或产权持有单位）填表人： | I27: =评估人员!C3&"："&评估人员!$D$10 -> 评估人员：
A28: =封面!D19&封面!E19&封面!F19&封面!G19&封面!H19&封面!I19&封面!J19 -> 填表日期：2020年5月20日

Sheet 3-1-2银行存款
A1: 返回索引页 | B1: 返回
A2: 货币资金—银行存款评估明细表
A3: ='1-汇总表'!A3:G3 -> 评估基准日：2020年7月30日
K4: 表3-1-2
A5: ='1-汇总表'!A5 -> 被评估单位（或产权持有单位）：贡山县隆鑫矿业有限公司 | K5: 金额单位：人民币元
A6: 序号 | B6: 开户银行 | C6: 账号 | D6: 币种 | E6: 外币账面金额 | F6: 评估基准日汇率 | G6: 审计前账面值 | H6: 账面价值 | I6: 评估价值 | J6: 增减值 | K6: 增值率%
A7: 1 | B7: 农村信用联社7012 | D7: 人民币 | H7: 2994578.5 | K7: =IF(H7=0,"",(I7-H7)/H7*100) -> -100
A8: 2 | B8: 顺城招行10202 | D8: 人民币 | H8: 27506261 | K8: =IF(H8=0,"",(I8-H8)/H8*100) -> -100
A9: 3 | B9: 恒丰银行0023 | D9: 人民币 | H9: 12048.75 | K9: =IF(H9=0,"",(I9-H9)/H9*100) -> -100
A10: 4 | B10: 交通银行2955 | D10: 人民币 | H10: 397589.79 | K10: =IF(H10=0,"",(I10-H10)/H10*100) -> -100
A11: 5 | B11: 交通银行10664 | D11: 人民币 | H11: -1.2077324e+08 | K11: =IF(H11=0,"",(I11-H11)/H11*100) -> -100
A12: 6 | B12: 农业银行9499 | D12: 人民币 | H12: 21630314 | K12: =IF(H12=0,"",(I12-H12)/H12*100) -> -100
A13: 7 | B13: 中国银行56004 | D13: 人民币 | H13: 204860.45 | K13: =IF(H13=0,"",(I13-H13)/H13*100) -> -100
A14: 8 | B14: 深发行50102 | D14: 人民币 | H14: 85355.96 | K14: =IF(H14=0,"",(I14-H14)/H14*100) -> -100
A15: 9 | B15: 中国银行0792 | D15: 人民币 | H15: 57518.38 | K15: =IF(H15=0,"",(I15-H15)/H15*100) -> -100
A16: 10 | B16: 中国农行玉溪支行1391 | D16: 人民币 | H16: 520.94 | K16: =IF(H16=0,"",(I16-H16)/H16*100) -> -100
A17: 11 | B17: 上海浦发行0311 | D17: 人民币 | H17: 42920.85 | K17: =IF(H17=0,"",(I17-H17)/H17*100) -> -100
A18: 12 | B18: 中信0316 | D18: 人民币 | H18: -83365187 | K18: =IF(H18=0,"",(I18-H18)/H18*100) -> -100
... A24: 18 | B24: 华夏玉溪2142 | D24: 人民币 | H24: 92368.41 | K24: =IF(H24=0,"",(I24-H24)/H24*100) -> -100
A25: 19 | B25: 中国银行东风支行4408 | D25: 人民币 | H25: 19258812
A26: 20 | B26: 昆明市农村信用社2012 | D26: 人民币 | H26: -726.22
A27: 21 | B27: 国家开发银行40000 | D27: 人民币 | H27: 0
A28: 22 | B28: 招商银行十里长街分行0310 | D28: 人民币 | H28: 2225.21
A29: 23 | B29: 广东发展银行3340 | D29: 人民币 | H29: 19934374
A30: 24 | B30: 富滇银行轻联支行0001 | D30: 人民币 | H30: -2.6576492e+08
A31: 25 | B31: 中信银行00634 | D31: 人民币 | H31: 80767568
A32: 26 | B32: 民生银行01655 | D32: 人民币 | H32: -262.73
A33: 27 | B33: 民生银行13305 | D33: 人民币 | H33: 5563.77
A34: 28 | B34: 光大银行0470 | D34: 人民币 | H34: -82561.88
A35: 29 | B35: 广发行5234 | D35: 人民币 | H35: 529.93 | K35: =IF(H35=0,"",(I35-H35)/H35*100) -> -100
A36: 30 | B36: 中国农业银行9142 | D36: 人民币 | H36: 36249.71 | K36: =IF(H36=0,"",(I36-H36)/H36*100) -> -100
A37: 31 | B37: 农村信用社6012 | D37: 人民币 | H37: 4796515.4
A38: 32 | B38: 稠州村镇01764 | D38: 人民币 | H38: 570663.06
A39: 33 | B39: 安宁市农村信用社348018 | D39: 人民币 | H39: -998951.23
A40: 34 | B40: 农业银行安宁城关支行18127 | D40: 人民币 | H40: -747827.6
K42: =IF(H42=0,"",(I42-H42)/H42*100)
A43: 合 计 | G43: =SUM(G7:G42) -> 0 | H43: =SUM(H7:H42) -> -2.9305667e+08 | I43: =SUM(I7:I42) -> 0 | J43: =I43-H43 -> 2.9305667e+08 | K43: =IF(H43=0,"",(I43-H43)/H43*100) -> -100
A44: =封面!D17&封面!E17 -> 被评估单位（或产权持有单位）填表人： | I44: =评估人员!C3&"："&评估人员!$D$10 -> 评估人员：
A45: =封面!D19&封面!E19&封面!F19&封面!G19&封面!H19&封面!I19&封面!J19 -> 填表日期：2020年5月20日

Sheet 3-1-3其他货币资金
A1: 返回索引页 | B1: 返回
A2: 货币资金—其他货币资金评估明细表
A3: ='1-汇总表'!A3:G3 -> 评估基准日：2020年7月30日
L4: 表3-1-3
A5: ='1-汇总表'!A5 -> 被评估单位（或产权持有单位）：贡山县隆鑫矿业有限公司 | L5: 金额单位：人民币元
A6: 序号 | B6: 名称及内容 | C6: 用途 | D6: 币种 | E6: 外币账面金额 | F6: 评估基准日汇率 | G6: 审计前账面值 | H6: 账面价值 | I6: 评估价值 | J6: 增减值 | K6: 增值率% | L6: 备注
A7: 1 | B7: 银行汇票 | H7: 23900390 | K7: =IF(H7=0,"",(I7-H7)/H7*100) -> -100
A8: 2 | B8: 信用证保证金 | H8: -19254370 | K8: =IF(H8=0,"",(I8-H8)/H8*100) -> -100
A9: 3 | B9: 承兑汇票保证金 | H9: 3.693636e+08 | K9: =IF(H9=0,"",(I9-H9)/H9*100) -> -100
K10: =IF(H10=0,"",(I10-H10)/H10*100)
K11: =IF(H11=0,"",(I11-H11)/H11*100)
K12: =IF(H12=0,"",(I12-H12)/H12*100)
K13: =IF(H13=0,"",(I13-H13)/H13*100)
K14: =IF(H14=0,"",(I14-H14)/H14*100)
K15: =IF(H15=0,"",(I15-H15)/H15*100)
K16: =IF(H16=0,"",(I16-H16)/H16*100)
K17: =IF(H17=0,"",(I17-H17)/H17*100)
K18: =IF(H18=0,"",(I18-H18)/H18*100)
K19: =IF(H19=0,"",(I19-H19)/H19*100)
K20: =IF(H20=0,"",(I20-H20)/H20*100)
K21: =IF(H21=0,"",(I21-H21)/H21*100)
... K27: =IF(H27=0,"",(I27-H27)/H27*100)
A28: 合 计 | G28: =SUM(G7:G27) -> 0 | H28: =SUM(H7:H27) -> 3.7400962e+08 | I28: =SUM(I7:I27) -> 0 | J28: =I28-H28 -> -3.7400962e+08 | K28: =IF(H28=0,"",(I28-H28)/H28*100) -> -100
A29: =封面!D17&封面!E17 -> 被评估单位（或产权持有单位）填表人： | J29: =评估人员!C3&"："&评估人员!$D$10 -> 评估人员：
A30: =封面!D19&封面!E19&封面!F19&封面!G19&封面!H19&封面!I19&封面!J19 -> 填表日期：2020年5月20日

Sheet 3-2交易性金融资产汇总
A1: 返回索引页 | B1: 返回
A2: 交易性金融资产评估汇总表
A3: ='1-汇总表'!A3:G3 -> 评估基准日：2020年7月30日
G4: 表3-2
A5: ='1-汇总表'!A5 -> 被评估单位（或产权持有单位）：贡山县隆鑫矿业有限公司 | G5: 金额单位：人民币元
A6: 编号 | B6: 科目名称 | C6: 审计前账面值 | D6: 账面价值 | E6: 评估价值 | F6: 增减值 | G6: 增值率%
A7: 3-2-1 | B7: 交易性金融资产-股票投资 | C7: ='3-2-1交易性-股票'!G28 -> 0 | D7: ='3-2-1交易性-股票'!H28 -> 0 | E7: ='3-2-1交易性-股票'!J28 -> 0 | F7: =E7-D7 -> 0 | G7: =IF(D7=0,"",F7/D7*100)
A8: 3-2-2 | B8: 交易性金融资产-债券投资 | C8: ='3-2-2交易性-债券'!G28 -> 0 | D8: ='3-2-2交易性-债券'!H28 -> 0 | E8: ='3-2-2交易性-债券'!I28 -> 0 | F8: =E8-D8 -> 0 | G8: =IF(D8=0,"",F8/D8*100)
A9: 3-2-3 | B9: 交易性金融资产-基金投资 | C9: ='3-2-3交易性-基金'!G28 -> 0 | D9: ='3-2-3交易性-基金'!H28 -> 535700 | E9: ='3-2-3交易性-基金'!J28 -> 0 | F9: =E9-D9 -> -535700 | G9: =IF(D9=0,"",F9/D9*100) -> -100
A28: 合 计 | C28: =SUM(C7:C27) -> 0 | D28: =SUM(D7:D27) -> 535700 | E28: =SUM(E7:E27) -> 0 | F28: =SUM(F7:F27) -> -535700 | G28: =IF(D28=0,"",F28/D28*100) -> -100
A29: =封面!D17&封面!E17 -> 被评估单位（或产权持有单位）填表人： | F29: =评估人员!$C$3&"："&评估人员!$D$10 -> 评估人员：
A30: =封面!D19&封面!E19&封面!F19&封面!G19&封面!H19&封面!I19&封面!J19 -> 填表日期：2020年5月20日

Sheet 3-2-1交易性-股票
A1: 返回索引页 | B1: 返回
A2: 交易性金融资产—股票投资评估明细表
A3: ='1-汇总表'!A3:G3 -> 评估基准日：2020年7月30日
L4: 表3-2-1
A5: ='1-汇总表'!A5 -> 被评估单位（或产权持有单位）：贡山县隆鑫矿业有限公司 | L5: 金额单位：人民币元
A6: 序号 | B6: 被投资单位名称 | C6: 股票名称 | D6: 投资日期 | E6: 持股数量 | F6: 持股比例% | G6: 审计前账面值 | H6: 账面价值 | I6: 基准日收盘价/股 | J6: 评估价值 | K6: 增减值 | L6: 增值率%
L7: =IF(H7=0,"",(J7-H7)/H7*100)
L8: =IF(H8=0,"",(J8-H8)/H8*100)
L9: =IF(H9=0,"",(J9-H9)/H9*100)
L10: =IF(H10=0,"",(J10-H10)/H10*100)
L11: =IF(H11=0,"",(J11-H11)/H11*100)
L12: =IF(H12=0,"",(J12-H12)/H12*100)
L13: =IF(H13=0,"",(J13-H13)/H13*100)
L14: =IF(H14=0,"",(J14-H14)/H14*100)
L15: =IF(H15=0,"",(J15-H15)/H15*100)
L16: =IF(H16=0,"",(J16-H16)/H16*100)
L17: =IF(H17=0,"",(J17-H17)/H17*100)
L18: =IF(H18=0,"",(J18-H18)/H18*100)
... L27: =IF(H27=0,"",(J27-H27)/H27*100)
A28: 合 计 | G28: =SUM(G7:G27) -> 0 | H28: =SUM(H7:H27) -> 0 | J28: =SUM(J7:J27) -> 0 | K28: =J28-H28 -> 0 | L28: =IF(H28=0,"",(J28-H28)/H28*100)
A29: =封面!D17&封面!E17 -> 被评估单位（或产权持有单位）填表人： | H29: =评估人员!C3&"："&评估人员!D10 -> 评估人员：
A30: =封面!D19&封面!E19&封面!F19&封面!G19&封面!H19&封面!I19&封面!J19 -> 填表日期：2020年5月20日

Sheet 3-2-2交易性-债券
A1: 返回索引页 | B1: 返回
A2: 交易性金融资产—债券投资评估明细表
A3: ='1-汇总表'!A3:G3 -> 评估基准日：2020年7月30日
K4: 表3-2-2
A5: ='1-汇总表'!A5 -> 被评估单位（或产权持有单位）：贡山县隆鑫矿业有限公司 | K5: 金额单位：人民币元
A6: 序号 | B6: 被投资单位名称 | C6: 债券名称 | D6: 发行日期 | E6: 投资日期 | F6: 票面利率% | G6: 审计前账面值 | H6: 账面价值 | I6: 评估价值 | J6: 增减值 | K6: 增值率%
K7: =IF(H7=0,"",(I7-H7)/H7*100)
K8: =IF(H8=0,"",(I8-H8)/H8*100)
K9: =IF(H9=0,"",(I9-H9)/H9*100)
K10: =IF(H10=0,"",(I10-H10)/H10*100)
K11: =IF(H11=0,"",(I11-H11)/H11*100)
K12: =IF(H12=0,"",(I12-H12)/H12*100)
K13: =IF(H13=0,"",(I13-H13)/H13*100)
K14: =IF(H14=0,"",(I14-H14)/H14*100)
K15: =IF(H15=0,"",(I15-H15)/H15*100)
K16: =IF(H16=0,"",(I16-H16)/H16*100)
K17: =IF(H17=0,"",(I17-H17)/H17*100)
K18: =IF(H18=0,"",(I18-H18)/H18*100)
... K27: =IF(H27=0,"",(I27-H27)/H27*100)
A28: 合 计 | G28: =SUM(G7:G27) -> 0 | H28: =SUM(H7:H27) -> 0 | I28: =SUM(I7:I27) -> 0 | J28: =I28-H28 -> 0 | K28: =IF(H28=0,"",(I28-H28)/H28*100)
A29: =封面!D17&封面!E17 -> 被评估单位（或产权持有单位）填表人： | H29: =评估人员!C3&"："&评估人员!D10 -> 评估人员：
A30: =封面!D19&封面!E19&封面!F19&封面!G19&封面!H19&封面!I19&封面!J19 -> 填表日期：2020年5月20日

Sheet 3-2-3交易性-基金
A1: 返回索引页 | B1: 返回
A2: 交易性金融资产—基金投资评估明细表
A3: ='1-汇总表'!A3:G3 -> 评估基准日：2020年7月30日
L4: 表3-3-3
A5: ='1-汇总表'!A5 -> 被评估单位（或产权持有单位）：贡山县隆鑫矿业有限公司 | L5: 金额单位：人民币元
A6: 序号 | B6: 基金发行单位 | C6: 基金名称 | D6: 基金类型 | E6: 投资日期 | F6: 基金份额 | G6: 审计前账面值 | H6: 账面价值 | I6: 基准日净值/份 | J6: 评估价值 | K6: 增减值 | L6: 增值率%
A7: 1 | H7: 535700 | L7: =IF(H7=0,"",(J7-H7)/H7*100) -> -100
L8: =IF(H8=0,"",(J8-H8)/H8*100)
L9: =IF(H9=0,"",(J9-H9)/H9*100)
L10: =IF(H10=0,"",(J10-H10)/H10*100)
L11: =IF(H11=0,"",(J11-H11)/H11*100)
L12: =IF(H12=0,"",(J12-H12)/H12*100)
L13: =IF(H13=0,"",(J13-H13)/H13*100)
L14: =IF(H14=0,"",(J14-H14)/H14*100)
L15: =IF(H15=0,"",(J15-H15)/H15*100)
L16: =IF(H16=0,"",(J16-H16)/H16*100)
L17: =IF(H17=0,"",(J17-H17)/H17*100)
L18: =IF(H18=0,"",(J18-H18)/H18*100)
L19: =IF(H19=0,"",(J19-H19)/H19*100)
... L27: =IF(H27=0,"",(J27-H27)/H27*100)
A28: 合 计 | G28: =SUM(G7:G27) -> 0 | H28: =SUM(H7:H27) -> 535700 | J28: =SUM(J7:J27) -> 0 | K28: =J28-H28 -> -535700 | L28: =IF(H28=0,"",(J28-H28)/H28*100) -> -100
A29: =封面!D17&封面!E17 -> 被评估单位（或产权持有单位）填表人： | J29: =评估人员!C3&"："&评估人员!$D$10 -> 评估人员：
A30: =封面!D19&封面!E19&封面!F19&封面!G19&封面!H19&封面!I19&封面!J19 -> 填表日期：2020年5月20日

Sheet 3-3应收票据
A1: 返回索引页 | B1: 返回
A2: 应收票据评估明细表
A3: ='1-汇总表'!A3:G3 -> 评估基准日：2020年7月30日
P4: 表3-3
A5: ='1-汇总表'!A5 -> 被评估单位（或产权持有单位）：贡山县隆鑫矿业有限公司 | P5: 金额单位：人民币元
A6: 序号 | B6: 户名（结算对象) | C6: 票据号 | D6: 承兑方式 | E6: 出票日期 | F6: 到期日期 | G6: 票面利率% | H6: 基准日后是否已贴现 | I6: 基准日后是否已收回 | J6: 已背书转让 | K6: 审计前账面值 | L6: 账面价值 | M6: 评估价值 | N6: 增减值 | O6: 增值率% | P6: 备注
A7: 1 | L7: -72000000 | O7: =IF(L7=0,"",(M7-L7)/L7*100) -> -100
O8: =IF(L8=0,"",(M8-L8)/L8*100)
O9: =IF(L9=0,"",(M9-L9)/L9*100)
O10: =IF(L10=0,"",(M10-L10)/L10*100)
O11: =IF(L11=0,"",(M11-L11)/L11*100)
O12: =IF(L12=0,"",(M12-L12)/L12*100)
O13: =IF(L13=0,"",(M13-L13)/L13*100)
O14: =IF(L14=0,"",(M14-L14)/L14*100)
O15: =IF(L15=0,"",(M15-L15)/L15*100)
O16: =IF(L16=0,"",(M16-L16)/L16*100)
O17: =IF(L17=0,"",(M17-L17)/L17*100)
O18: =IF(L18=0,"",(M18-L18)/L18*100)
O19: =IF(L19=0,"",(M19-L19)/L19*100)
... O25: =IF(L25=0,"",(M25-L25)/L25*100)
A26: 合 计 | H26: =SUM(H7:H25) -> 0 | L26: =SUM(L7:L25) -> -72000000 | M26: =SUM(M7:M25) -> 0 | N26: =M26-L26 -> 72000000 | O26: =IF(L26=0,"",(M26-L26)/L26*100) -> -100
A27: 减：应收票据坏账准备 | N27: =M27-L27 -> 0 | O27: =IF(L27=0,"",(M27-L27)/L27*100)
A28: 合 计 | H28: =SUM(H7:H25)-H27 -> 0 | L28: =L26-L27 -> -72000000 | M28: =M26-M27 -> 0 | N28: =M28-L28 -> 72000000 | O28: =IF(L28=0,"",(M28-L28)/L28*100) -> -100
A29: =封面!D17&封面!E17 -> 被评估单位（或产权持有单位）填表人： | N29: =评估人员!C3&"："&评估人员!D10 -> 评估人员：
A30: =封面!D19&封面!E19&封面!F19&封面!G19&封面!H19&封面!I19&封面!J19 -> 填表日期：2020年5月20日

Sheet 3-4应收账款
A1: 返回索引页 | B1: 返回
A2: 应收账款评估明细表
A3: ='1-汇总表'!A3:G3 -> 评估基准日：2020年7月30日
S4: 表3-4
A5: ='1-汇总表'!A5 -> 被评估单位（或产权持有单位）：贡山县隆鑫矿业有限公司 | S5: 金额单位：人民币元
A6: 序号 | B6: 欠款单位名称（结算对象) | C6: 业务内容 | D6: 发生日期 | E6: 账龄 | F6: 审计前账面值 | G6: 1年以内金额 | H6: 1~2年金额 | I6: 2~3年金额 | J6: 3~4年金额 | K6: 4~5年金额 | L6: 5年以上金额 | M6: 账龄总数与账面价值差异(应等于0) | N6: 预计不可收回金额(注1) | O6: 账面价值 | P6: 评估价值 | Q6: 增减值 | R6: 增值率% | S6: 备注
A7: 1 | M7: =SUM(G7:L7)-F7 -> 0 | O7: -1.6355489e+08 | R7: =IF(O7=0,"",(P7-O7)/O7*100) -> -100
M11: =SUM(G11:L11)-F11 -> 0 | R11: =IF(O11=0,"",(P11-O11)/O11*100)
M12: =SUM(G12:L12)-F12 -> 0 | R12: =IF(O12=0,"",(P12-O12)/O12*100)
M13: =SUM(G13:L13)-F13 -> 0 | R13: =IF(O13=0,"",(P13-O13)/O13*100)
M14: =SUM(G14:L14)-F14 -> 0 | R14: =IF(O14=0,"",(P14-O14)/O14*100)
M15: =SUM(G15:L15)-F15 -> 0 | R15: =IF(O15=0,"",(P15-O15)/O15*100)
M16: =SUM(G16:L16)-F16 -> 0 | R16: =IF(O16=0,"",(P16-O16)/O16*100)
M17: =SUM(G17:L17)-F17 -> 0 | R17: =IF(O17=0,"",(P17-O17)/O17*100)
M18: =SUM(G18:L18)-F18 -> 0 | R18: =IF(O18=0,"",(P18-O18)/O18*100)
M19: =SUM(G19:L19)-F19 -> 0 | R19: =IF(O19=0,"",(P19-O19)/O19*100)
A20: 合 计 | F20: =SUM(F7:F19) -> 0 | G20: =SUM(G7:G19) -> 0 | H20: =SUM(H7:H19) -> 0 | I20: =SUM(I7:I19) -> 0 | J20: =SUM(J7:J19) -> 0 | K20: =SUM(K7:K19) -> 0 | L20: =SUM(L7:L19) -> 0 | M20: =SUM(G20:L20)-F20 -> 0 | N20: =SUM(N7:N19) -> 0 | O20: =SUM(O7:O19) -> -1.6355489e+08 | P20: =SUM(P7:P19) -> 0 | Q20: =P20-O20 -> 1.6355489e+08 | R20: =IF(O20=0,"",(P20-O20)/O20*100) -> -100
A21: 减：应收账款坏账准备 | M21: =SUM(G21:L21)-F21 -> 0 | Q21: =P21-O21 -> 0 | R21: =IF(O21=0,"",(P21-O21)/O21*100)
A22: 合 计 | F22: =F20-F21 -> 0 | G22: =G20-G21 -> 0 | H22: =H20-H21 -> 0 | I22: =I20-I21 -> 0 | J22: =J20-J21 -> 0 | K22: =K20-K21 -> 0 | L22: =L20-L21 -> 0 | M22: =M20-M21 -> 0 | ... P22: =P20-P21 -> 0 | Q22: =P22-O22 -> 1.6355489e+08 | R22: =IF(O22=0,"",(P22-O22)/O22*100) -> -100
A23: =封面!D17&封面!E17 -> 被评估单位（或产权持有单位）填表人： | Q23: =评估人员!C3&"："&评估人员!D10 -> 评估人员：
A24: =封面!D19&封面!E19&封面!F19&封面!G19&封面!H19&封面!I19&封面!J19 -> 填表日期：2020年5月20日
B25: 注1： | C25: 注明账齡在一年以上的账款的可收回性，若有部分可能不能收回，请估计不能收回的金額，以供评估时作參考。
B26: 注2：“备注”栏填写方法： | C26: 1）欠款单位为关联方、总公司内部或本公司内部单位的，应在备注栏注明“关联方”、“总公司内部”、“内部单位”；
C27: 2） 涉诉款项应在备注中标明“涉诉”；
C28: 3）评估基准日后已部分或全部收回款项的，应注明日期及金额，如“2003年2月4日收回8,530.00元”；
C29: 4）填表单位认为其他应说明的事项

Sheet 3-5预付账款
A1: 返回索引页 | B1: 返回
A2: 预付账款评估明细表
A3: ='1-汇总表'!A3:G3 -> 评估基准日：2020年7月30日
S4: 表3-5
A5: ='1-汇总表'!A5 -> 被评估单位（或产权持有单位）：贡山县隆鑫矿业有限公司 | S5: 金额单位：人民币元
A6: 序号 | B6: 收款单位名称（结算对象) | C6: 业务内容 | D6: 发生日期 | E6: 账龄 | F6: 审计前账面值 | G6: 1年以内金额 | H6: 1~2年金额 | I6: 2~3年金额 | J6: 3~4年金额 | K6: 4~5年金额 | L6: 5年以上金额 | M6: 账龄总数与账面价值差异(应等于0) | N6: 预计不可收回金额(注1) | O6: 账面价值 | P6: 评估价值 | Q6: 增减值 | R6: 增值率% | S6: 备注
A7: 1 | O7: -5.3461489e+08 | Q7: =P7-O7 -> 5.3461489e+08 | R7: =IF(O7=0,"",(P7-O7)/O7*100) -> -100
M15: =SUM(G15:L15)-F15 -> 0 | R15: =IF(O15=0,"",(P15-O15)/O15*100)
A16: 合 计 | M16: =SUM(G16:L16)-F16 -> 0 | O16: =SUM(O7:O15) -> -5.3461489e+08 | P16: =SUM(P7:P15) -> 0 | Q16: =P16-O16 -> 5.3461489e+08 | R16: =IF(O16=0,"",(P16-O16)/O16*100) -> -100
A17: 减：预付账款减值准备 | M17: =SUM(G17:L17)-F17 -> 0 | Q17: =P17-O17 -> 0 | R17: =IF(O17=0,"",(P17-O17)/O17*100)
A18: 合 计 | F18: =SUM(F7:F17) -> 0 | M18: =M16-M17 -> 0 | O18: =O16-O17 -> -5.3461489e+08 | P18: =P16-P17 -> 0 | Q18: =P18-O18 -> 5.3461489e+08 | R18: =IF(O18=0,"",(P18-O18)/O18*100) -> -100
A19: ='3-流动汇总'!A29 -> 被评估单位（或产权持有单位）填表人： | Q19: =评估人员!C3&"："&评估人员!D10 -> 评估人员：
A20: ='3-流动汇总'!A30 -> 填表日期：2020年5月20日

Sheet 3-6应收利息
A1: 返回索引页 | B1: 返回
A2: 应收利息评估明细表
A3: ='1-汇总表'!A3:G3 -> 评估基准日：2020年7月30日
L4: 表3-6
A5: ='1-汇总表'!A5 -> 被评估单位（或产权持有单位）：贡山县隆鑫矿业有限公司 | L5: 金额单位：人民币元
A6: 序号 | B6: 欠款单位名称（结算对象) | C6: 发生日期 | D6: 本金 | E6: 利息所属期间 | F6: 利息率% | G6: 审计前账面值 | H6: 账面价值 | I6: 评估价值 | J6: 增减值 | K6: 增值率% | L6: 备注
K7: =IF(H7=0,"",(I7-H7)/H7*100)
K8: =IF(H8=0,"",(I8-H8)/H8*100)
K9: =IF(H9=0,"",(I9-H9)/H9*100)
K10: =IF(H10=0,"",(I10-H10)/H10*100)
K11: =IF(H11=0,"",(I11-H11)/H11*100)
K12: =IF(H12=0,"",(I12-H12)/H12*100)
K13: =IF(H13=0,"",(I13-H13)/H13*100)
K14: =IF(H14=0,"",(I14-H14)/H14*100)
K15: =IF(H15=0,"",(I15-H15)/H15*100)
K16: =IF(H16=0,"",(I16-H16)/H16*100)
K17: =IF(H17=0,"",(I17-H17)/H17*100)
K18: =IF(H18=0,"",(I18-H18)/H18*100)
... K27: =IF(H27=0,"",(I27-H27)/H27*100)
A28: 合 计 | D28: =SUM(D7:D27) -> 0 | G28: =SUM(G7:G27) -> 0 | H28: =SUM(H7:H27) -> 0 | I28: =SUM(I7:I27) -> 0 | J28: =I28-H28 -> 0 | K28: =IF(H28=0,"",(I28-H28)/H28*100)
A29: =封面!D17&封面!E17 -> 被评估单位（或产权持有单位）填表人： | J29: =评估人员!C3&"："&评估人员!D10 -> 评估人员：
A30: =封面!D19&封面!E19&封面!F19&封面!G19&封面!H19&封面!I19&封面!J19 -> 填表日期：2020年5月20日

Sheet 3-7应收股利
A1: 返回索引页 | B1: 返回
A2: 应收股利（应收利润）评估明细表
A3: ='1-汇总表'!A3:G3 -> 评估基准日：2020年7月30日
J4: 表3-7
A5: ='1-汇总表'!A5 -> 被评估单位（或产权持有单位）：贡山县隆鑫矿业有限公司 | J5: 金额单位：人民币元
A6: 序号 | B6: 户名（结算对象) | C6: 发生日期 | D6: 股利所属期间 | E6: 审计前账面值 | F6: 账面价值 | G6: 评估价值 | H6: 增减值 | I6: 增值率% | J6: 备注
I7: =IF(F7=0,"",(G7-F7)/F7*100)
I8: =IF(F8=0,"",(G8-F8)/F8*100)
I9: =IF(F9=0,"",(G9-F9)/F9*100)
I10: =IF(F10=0,"",(G10-F10)/F10*100)
I11: =IF(F11=0,"",(G11-F11)/F11*100)
I12: =IF(F12=0,"",(G12-F12)/F12*100)
I13: =IF(F13=0,"",(G13-F13)/F13*100)
I14: =IF(F14=0,"",(G14-F14)/F14*100)
I15: =IF(F15=0,"",(G15-F15)/F15*100)
I16: =IF(F16=0,"",(G16-F16)/F16*100)
I17: =IF(F17=0,"",(G17-F17)/F17*100)
I18: =IF(F18=0,"",(G18-F18)/F18*100)
... I27: =IF(F27=0,"",(G27-F27)/F27*100)
A28: 合 计 | E28: =SUM(E7:E27) -> 0 | F28: =SUM(F7:F27) -> 0 | G28: =SUM(G7:G27) -> 0 | H28: =G28-F28 -> 0 | I28: =IF(F28=0,"",(G28-F28)/F28*100)
A29: =封面!D17&封面!E17 -> 被评估单位（或产权持有单位）填表人： | H29: =评估人员!C3&"："&评估人员!D10 -> 评估人员：
A30: =封面!D19&封面!E19&封面!F19&封面!G19&封面!H19&封面!I19&封面!J19 -> 填表日期：2020年5月20日

Sheet 3-8其他应收款
A1: 返回索引页 | B1: 返回
A2: 其他应收款评估明细表
A3: ='1-汇总表'!A3:G3 -> 评估基准日：2020年7月30日
S4: 表3-8
A5: ='1-汇总表'!A5 -> 被评估单位（或产权持有单位）：贡山县隆鑫矿业有限公司 | S5: 金额单位：人民币元
A6: 序号 | B6: 欠款单位名称（结算对象) | C6: 业务内容 | D6: 发生日期 | E6: 账龄 | F6: 审计前账面值 | G6: 1年以内金额 | H6: 1~2年金额 | I6: 2~3年金额 | J6: 3~4年金额 | K6: 4~5年金额 | L6: 5年以上金额 | M6: 账龄总数与账面价值差异(应等于0) | N6: 预计不可收回金额(注1) | O6: 账面价值 | P6: 评估价值 | Q6: 增减值 | R6: 增值率% | S6: 备注
A7: 1 | O7: 2.0386401e+08 | Q7: =P7-O7 -> -2.0386401e+08 | R7: =IF(O7=0,"",(P7-O7)/O7*100) -> -100
M24: =SUM(G24:L24)-F24 -> 0 | R24: =IF(O24=0,"",(P24-O24)/O24*100)
A25: 合 计 | F25: =SUM(F7:F24) -> 0 | G25: =SUM(G7:G24) -> 0 | H25: =SUM(H7:H24) -> 0 | I25: =SUM(I7:I24) -> 0 | J25: =SUM(J7:J24) -> 0 | K25: =SUM(K7:K24) -> 0 | L25: =SUM(L7:L24) -> 0 | M25: =SUM(G25:L25)-F25 -> 0 | N25: =SUM(N7:N24) -> 0 | O25: =SUM(O7:O24) -> 2.0386401e+08 | P25: =SUM(P7:P24) -> 0 | Q25: =P25-O25 -> -2.0386401e+08 | R25: =IF(O25=0,"",(P25-O25)/O25*100) -> -100
A26: 减：其他应收款坏账准备 | M26: =SUM(G26:L26)-F26 -> 0 | Q26: =P26-O26 -> 0 | R26: =IF(O26=0,"",(P26-O26)/O26*100)
A27: 合 计 | F27: =F25-F26 -> 0 | G27: =G25-G26 -> 0 | H27: =H25-H26 -> 0 | I27: =I25-I26 -> 0 | J27: =J25-J26 -> 0 | K27: =K25-K26 -> 0 | L27: =L25-L26 -> 0 | M27: =M25-M26 -> 0 | ... P27: =P25-P26 -> 0 | Q27: =P27-O27 -> -2.0386401e+08 | R27: =IF(O27=0,"",(P27-O27)/O27*100) -> -100
A28: =封面!D17&封面!E17 -> 被评估单位（或产权持有单位）填表人： | Q28: =评估人员!C3&"："&评估人员!D10 -> 评估人员：
A29: =封面!D19&封面!E19&封面!F19&封面!G19&封面!H19&封面!I19&封面!J19 -> 填表日期：2020年5月20日
B30: 注1： | C30: 注明账齡在一年以上的账款的可收回性，若有部分可能不能收回，请估计不能收回的金額，以供评估时作參考。
B31: 注2：“备注”栏填写方法： | C31: 1）欠款单位为关联方、总公司内部或本公司内部单位的，应在备注栏注明“关联方”、“总公司内部”、“内部单位”；
C32: 2） 涉诉款项应在备注中标明“涉诉”；
C33: 3）评估基准日后已部分或全部收回款项的，应注明日期及金额，如“2003年2月4日收回8,530.00元”；
C34: 4）填表单位认为其他应说明的事项

Sheet 汇总表-万元表
A2: 资 产 评 估 结 果 汇 总 表
A3: =汇总表!A3 -> 评估基准日：2020年7月30日
A5: =汇总表!A5 -> 被评估单位（或产权持有单位）：贡山县隆鑫矿业有限公司 | D5: 金额单位：人民币万元
A6: 序号 | B6: 资产 | C6: 项数 | D6: 面积 （㎡） | E6: 评估价值
A7: 1 | B7: 存货 | C7: =C8 -> - | E7: =E8 -> 0
B8: 其中： 备品备件 | C8: - | E8: =汇总表!E8/10000 -> 0
A9: 2 | B9: 固定资产 | C9: =C10+C14 -> 0 | E9: =E10+E14 -> 0
A10: 2.1 | B10: 其中： 房屋建（构）筑物类合计 | C10: =SUM(C11:C13) -> 0 | D10: - | E10: =SUM(E11:E13) -> 0
B11: 固定资产-房屋建筑物 | C11: =汇总表!C11 -> 0 | E11: =汇总表!E11/10000 -> 0
B12: 固定资产-构筑物及其他辅助设施 | C12: =汇总表!C12 -> 0 | D12: - | E12: =汇总表!E12/10000 -> 0
B13: 固定资产-管道及沟槽 | C13: =汇总表!C13 -> 0 | D13: - | E13: =汇总表!E13/10000 -> 0
A14: 2.2 | B14: 设备类合计 | C14: =SUM(C15:C17) -> 0 | E14: =SUM(E15:E17) -> 0
B15: 固定资产-机器设备 | C15: =汇总表!C15 -> 0 | E15: =汇总表!E15/10000 -> 0
B16: 固定资产-车辆 | C16: =汇总表!C16 -> 0 | E16: =汇总表!E16/10000 -> 0
B17: 固定资产-电子设备及办公设备 | C17: =汇总表!C17 -> 0 | E17: =汇总表!E17/10000 -> 0
A18: 3 | B18: 无形资产 | C18: 1 | D18: =D19 -> 0 | E18: =SUM(E19:E20) -> 6578.6
A19: 3.1 | B19: 其中： 土地使用权 | C19: =汇总表!C19 -> 0 | D19: 0 | E19: =汇总表!E19/10000 -> 0
A20: 3.2 | B20: 矿业权 | C20: 1 | E20: =汇总表!E20/10000 -> 6578.6
A21: 资产合计 | E21: =E7+E9+E18 -> 6578.6
A22: 评估机构：云南通域房地产土地资产评估有限公司

Sheet 汇总表
A1: 返回索引页
A2: 资 产 评 估 结 果 汇 总 表
A3: ='4-6固定资产汇总'!A3 -> 评估基准日：2020年7月30日
A5: ='4-6固定资产汇总'!A5 -> 被评估单位（或产权持有单位）：贡山县隆鑫矿业有限公司 | E5: 金额单位：人民币元
A6: 序号 | B6: 资产 | C6: 项数 | D6: 面积 （㎡） | E6: 评估价值
A7: 1 | B7: 存货 | C7: =C8 -> 0 | E7: =E8 -> 0
B8: 其中： 备品备件 | C8: ='3-9-3在库周转材料'!A8 -> 0 | E8: ='3-9存货汇总'!E9 -> 0
A9: 2 | B9: 固定资产 | C9: =C10+C14 -> 0 | E9: =E10+E14 -> 0
A10: 2.1 | B10: 其中： 房屋建（构）筑物类合计 | C10: =SUM(C11:C13) -> 0 | D10: - | E10: =SUM(E11:E13) -> 0
B11: 固定资产-房屋建筑物 | C11: ='4-6-1房屋建筑物'!A15 -> 0 | E11: ='4-6固定资产汇总'!I9 -> 0
B12: 固定资产-构筑物及其他辅助设施 | C12: ='4-6-2构筑物'!A27 -> 0 | D12: - | E12: ='4-6固定资产汇总'!I10 -> 0
B13: 固定资产-管道及沟槽 | C13: 0 | D13: - | E13: ='4-6固定资产汇总'!I11 -> 0
A14: 2.2 | B14: 设备类合计 | C14: =SUM(C15:C17) -> 0 | E14: =SUM(E15:E17) -> 0
B15: 固定资产-机器设备 | C15: ='4-6-4机器设备'!A11 -> 0 | E15: ='4-6固定资产汇总'!I14 -> 0
B16: 固定资产-车辆 | C16: ='4-6-5车辆'!A9 -> 0 | E16: ='4-6固定资产汇总'!I15 -> 0
B17: 固定资产-电子设备及办公设备 | C17: ='4-6-6电子、办公设备'!A10 -> 0 | E17: ='4-6固定资产汇总'!I16 -> 0
A18: 3 | B18: 无形资产 | C18: =SUM(C19:C20) -> #REF! | D18: =D19 -> 0 | E18: =SUM(E19:E20) -> 65785950
A19: 3.1 | B19: 其中： 土地使用权 | C19: ='4-12-1无形-土地'!A7 -> 0 | D19: 0 | E19: ='4-12无形资产汇总'!E7 -> 0
A20: 3.2 | B20: 矿业权 | C20: =#REF! -> #REF! | E20: ='4-12无形资产汇总'!E8 -> 65785950
A21: 资产合计 | E21: =E7+E9+E18 -> 65785950
A22: 评估机构：云南通域房地产土地资产评估有限公司

Sheet 3-9存货汇总
A1: 返回索引页 | B1: 返回
A2: 存货评估汇总表
A3: ='1-汇总表'!A3:G3 -> 评估基准日：2020年7月30日
G4: 表3-9
A5: ='1-汇总表'!A5 -> 被评估单位（或产权持有单位）：贡山县隆鑫矿业有限公司 | E5: 金额单位：人民币元 | G5: 金额单位：人民币元
A6: 编号 | B6: 科目名称 | C6: 审计前账面值 | D6: 账面价值 | E6: 评估价值 | F6: 增减值 | G6: 增值率%
A7: 3-9-1 | B7: 材料采购（在途物资） | C7: ='3-9-1材料采购（在途物资）'!F26 -> 0 | D7: ='3-9-1材料采购（在途物资）'!I26 -> 0 | E7: ='3-9-1材料采购（在途物资）'!L26 -> 0 | F7: =E7-D7 -> 0 | G7: =IF(D7=0,"",F7/D7*100)
A8: 3-9-2 | B8: 原材料 | C8: ='3-9-2备品备件'!F45 -> 0 | D8: ='3-9-2备品备件'!I45 -> 0 | E8: ='3-9-2备品备件'!L45 -> 0 | F8: =E8-D8 -> 0 | G8: =IF(D8=0,"",F8/D8*100)
A9: 3-9-3 | B9: 在库周转材料 | C9: ='3-9-3在库周转材料'!F14 -> 0 | D9: ='3-9-3在库周转材料'!I14 -> 0 | E9: ='3-9-3在库周转材料'!M14 -> 0 | F9: =E9-D9 -> 0 | G9: =IF(D9=0,"",F9/D9*100)
A10: 3-9-4 | B10: 委托加工物资 | C10: ='3-9-4委托加工物资'!G26 -> 0 | D10: ='3-9-4委托加工物资'!J26 -> 0 | E10: ='3-9-4委托加工物资'!M26 -> 0 | F10: =E10-D10 -> 0 | G10: =IF(D10=0,"",F10/D10*100)
A11: 3-9-5 | B11: 产成品（库存商品） | C11: ='3-9-5产成品（库存商品）'!F23 -> 0 | D11: ='3-9-5产成品（库存商品）'!I23 -> 0 | E11: ='3-9-5产成品（库存商品）'!L23 -> 0 | F11: =E11-D11 -> 0 | G11: =IF(D11=0,"",F11/D11*100)
A12: 3-9-6 | B12: 在产品（自制半成品） | C12: ='3-9-6在产品（自制半成品）'!F26 -> 0 | D12: ='3-9-6在产品（自制半成品）'!I26 -> 0 | E12: ='3-9-6在产品（自制半成品）'!L26 -> 0 | F12: =E12-D12 -> 0 | G12: =IF(D12=0,"",F12/D12*100)
A13: 3-9-7 | B13: 发出商品 | C13: ='3-9-7发出商品'!G26 -> 0 | D13: ='3-9-7发出商品'!J26 -> 0 | E13: ='3-9-7发出商品'!M26 -> 0 | F13: =E13-D13 -> 0 | G13: =IF(D13=0,"",F13/D13*100)
A14: 3-9-8 | B14: 在用周转材料 | C14: ='3-9-8在用周转材料'!G26 -> 0 | D14: ='3-9-8在用周转材料'!I26 -> 0 | E14: ='3-9-8在用周转材料'!M26 -> 0 | F14: =E14-D14 -> 0 | G14: =IF(D14=0,"",F14/D14*100)
A26: 合 计 | C26: =SUM(C7:C25) -> 0 | D26: =SUM(D7:D25) -> 0 | E26: =SUM(E7:E25) -> 0 | F26: =E26-D26 -> 0 | G26: =IF(D26=0,"",F26/D26*100)
A27: 减：存货跌价准备 | D27: ='3-9-1材料采购（在途物资）'!I27+'3-9-2备品备件'!I46+'3-9-3在库周转材料'!I15+'3-9-4委托加工物资'!J27+'3-9-5产成品（库存商品）'!I24+'3-9-6在产品（自制半成品）'!I27+'3-9-7发出商品'!J27+'3-9-8在用周转材料'!I27 -> 0 | E27: ='3-9-1材料采购（在途物资）'!L27+'3-9-2备品备件'!L46+'3-9-3在库周转材料'!M15+'3-9-4委托加工物资'!M27+'3-9-5产成品（库存商品）'!L24+'3-9-6在产品（自制半成品）'!L27+'3-9-7发出商品'!M27+'3-9-8在用周转材料'!M27 -> 0 | F27: =E27-D27 -> 0 | G27: =IF(D27=0,"",F27/D27*100)
A28: 合 计 | C28: =C26-C27 -> 0 | D28: =D26-D27 -> 0 | E28: =E26-E27 -> 0 | F28: =E26-D26 -> 0 | G28: =IF(D26=0,"",F26/D26*100)
A29: =封面!D17&封面!E17 -> 被评估单位（或产权持有单位）填表人： | E29: =评估人员!C3&"："&评估人员!D10 -> 评估人员：
A30: =封面!D19&封面!E19&封面!F19&封面!G19&封面!H19&封面!I19&封面!J19 -> 填表日期：2020年5月20日

Sheet 3-9-1材料采购（在途物资）
A1: 返回索引页 | B1: 返回
A2: 存货—材料采购（在途物资）评估明细表
A3: ='1-汇总表'!A3:G3 -> 评估基准日：2020年7月30日
O4: 表3-9-1
A5: ='1-汇总表'!A5 -> 被评估单位（或产权持有单位）：贡山县隆鑫矿业有限公司 | O5: 金额单位：人民币元
A6: 序号 | B6: 名称及规格型号 | C6: 计量单位 | D6: 审计前账面值 | G6: 账面价值 | J6: 实际数量 | K6: 评估价值 | M6: 增减值 | N6: 增值率% | O6: 备注
D7: 数量 | E7: 单价 | F7: 金额 | G7: 数量 | H7: 单价 | I7: 金额 | K7: 单价 | L7: 金额
A8: 1 | E8: =IF(D8=0,"",F8/D8) | H8: =IF(G8=0,"",I8/G8) | N8: =IF(I8=0,"",(L8-I8)/I8*100)
E9: =IF(D9=0,"",F9/D9) | H9: =IF(G9=0,"",I9/G9) | N9: =IF(I9=0,"",(L9-I9)/I9*100)
E10: =IF(D10=0,"",F10/D10) | H10: =IF(G10=0,"",I10/G10) | N10: =IF(I10=0,"",(L10-I10)/I10*100)
E11: =IF(D11=0,"",F11/D11) | H11: =IF(G11=0,"",I11/G11) | N11: =IF(I11=0,"",(L11-I11)/I11*100)
E12: =IF(D12=0,"",F12/D12) | H12: =IF(G12=0,"",I12/G12) | N12: =IF(I12=0,"",(L12-I12)/I12*100)
E13: =IF(D13=0,"",F13/D13) | H13: =IF(G13=0,"",I13/G13) | N13: =IF(I13=0,"",(L13-I13)/I13*100)
E14: =IF(D14=0,"",F14/D14) | H14: =IF(G14=0,"",I14/G14) | N14: =IF(I14=0,"",(L14-I14)/I14*100)
E15: =IF(D15=0,"",F15/D15) | H15: =IF(G15=0,"",I15/G15) | N15: =IF(I15=0,"",(L15-I15)/I15*100)
E16: =IF(D16=0,"",F16/D16) | H16: =IF(G16=0,"",I16/G16) | N16: =IF(I16=0,"",(L16-I16)/I16*100)
E17: =IF(D17=0,"",F17/D17) | H17: =IF(G17=0,"",I17/G17) | N17: =IF(I17=0,"",(L17-I17)/I17*100)
E18: =IF(D18=0,"",F18/D18) | H18: =IF(G18=0,"",I18/G18) | N18: =IF(I18=0,"",(L18-I18)/I18*100)
E19: =IF(D19=0,"",F19/D19) | H19: =IF(G19=0,"",I19/G19) | N19: =IF(I19=0,"",(L19-I19)/I19*100)
E20: =IF(D20=0,"",F20/D20) | H20: =IF(G20=0,"",I20/G20) | N20: =IF(I20=0,"",(L20-I20)/I20*100)
... E25: =IF(D25=0,"",F25/D25) | H25: =IF(G25=0,"",I25/G25) | N25: =IF(I25=0,"",(L25-I25)/I25*100)
A26: 合 计 | E26: =IF(D26=0,"",F26/D26) | H26: =IF(G26=0,"",I26/G26) | I26: =SUM(I8:I25) -> 0 | L26: =SUM(L8:L25) -> 0 | M26: =L26-I26 -> 0 | N26: =IF(I26=0,"",(L26-I26)/I26*100)
A27: 减：材料采购减值准备 | M27: =L27-I27 -> 0 | N27: =IF(I27=0,"",(L27-I27)/I27*100)
A28: 合 计 | F28: =SUM(F8:F27) -> 0 | I28: =I26-I27 -> 0 | L28: =L26-L27 -> 0 | M28: =L28-I28 -> 0 | N28: =IF(I28=0,"",(L28-I28)/I28*100)
A29: =封面!D17&封面!E17 -> 被评估单位（或产权持有单位）填表人： | M29: =评估人员!C3&"："&评估人员!D10 -> 评估人员：
A30: =封面!D19&封面!E19&封面!F19&封面!G19&封面!H19&封面!I19&封面!J19 -> 填表日期：2020年5月20日

Sheet 3-9-2备品备件
A1: 返回索引页 | B1: 返回
A2: 存货—在库周转材料-备品备件评估明细表
A3: ='1-汇总表'!A3:G3 -> 评估基准日：2020年7月30日
P4: 表3-9-2
A5: ='1-汇总表'!A5 -> 被评估单位（或产权持有单位）：贡山县隆鑫矿业有限公司 | P5: 金额单位：人民币元
A6: 序号 | B6: 名称及规格型号 | C6: 计量单位 | D6: 审计前账面值 | G6: 账面价值 | J6: 实际数量 | K6: 评估价值 | N6: 增减值 | O6: 增值率% | P6: 备注 | Q6: 存放地点
D7: 数量 | E7: 单价 | F7: 金额 | G7: 数量 | H7: 单价 | I7: 金额 | K7: 评估净值 | L7: 快速变现折扣% | M7: 清算价值
A45: 合 计 | E45: =IF(D45=0,"",F45/D45) | H45: =IF(G45=0,"",I45/G45) | I45: =SUM(I8:I44) -> 0 | N45: =L45-I45 -> 0 | O45: =IF(I45=0,"",(L45-I45)/I45*100)
A46: 减：原材料减值准备 | N46: =L46-I46 -> 0 | O46: =IF(I46=0,"",(L46-I46)/I46*100)
A47: 合 计 | F47: =SUM(F8:F46) -> 0 | I47: =I45-I46 -> 0 | K47: =SUM(K8:K46) -> 0 | L47: =L45-L46 -> 0 | M47: =SUM(M8:M46) -> 0 | N47: =L47-I47 -> 0 | O47: =IF(I47=0,"",(L47-I47)/I47*100)
A48: =封面!D17&封面!E17 -> 被评估单位（或产权持有单位）填表人： | K48: =评估人员!C3&"："&评估人员!D10 -> 评估人员： | L48: 沈冬梅 李翠英
A49: =封面!D19&封面!E19&封面!F19&封面!G19&封面!H19&封面!I19&封面!J19 -> 填表日期：2020年5月20日

Sheet 3-9-3在库周转材料
A1: 返回索引页 | B1: 返回
A2: 存货—在库周转材料-备品备件评估明细表
A3: ='1-汇总表'!A3:G3 -> 评估基准日：2020年7月30日
P4: 表3-9-3
A5: ='1-汇总表'!A5 -> 被评估单位（或产权持有单位）：贡山县隆鑫矿业有限公司 | P5: 金额单位：人民币元
A6: 序号 | B6: 名称及规格型号 | C6: 计量单位 | D6: 审计前账面值 | G6: 账面价值 | J6: 实际数量 | K6: 评估价值 | N6: 增减值 | O6: 增值率% | P6: 备注 | Q6: 存放地点
D7: 数量 | E7: 单价 | F7: 金额 | G7: 数量 | H7: 单价 | I7: 金额 | K7: 评估净值 | L7: 快速变现折扣率% | M7: 清算价值
E13: =IF(D13=0,"",F13/D13) | H13: =IF(G13=0,"",I13/G13) | O13: =IF(I13=0,"",(M13-I13)/I13*100)
A14: 合 计 | E14: =IF(D14=0,"",F14/D14) | H14: =IF(G14=0,"",I14/G14) | I14: =SUM(I8:I13) -> 0 | K14: =SUM(K8:K13) -> 0 | M14: =SUM(M8:M13) -> 0 | O14: =IF(I14=0,"",(M14-I14)/I14*100)
A15: 减：在库周转材料减值准备 | N15: =M15-I15 -> 0 | O15: =IF(I15=0,"",(M15-I15)/I15*100)
A16: 合 计 | F16: =SUM(F8:F15) -> 0 | I16: =I14-I15 -> 0 | K16: =K14-K15 -> 0 | M16: =M14-M15 -> 0 | O16: =IF(I16=0,"",(M16-I16)/I16*100)
A17: =封面!D17&封面!E17 -> 被评估单位（或产权持有单位）填表人： | L17: =评估人员!C3&"："&评估人员!D10 -> 评估人员： | M17: 沈冬梅 李翠英
A18: =封面!D19&封面!E19&封面!F19&封面!G19&封面!H19&封面!I19&封面!J19 -> 填表日期：2020年5月20日
B19: 注1： | C19: 1）正常，无需填写；2）残次，填“A”；3）变质，填“B”；4）毁损，填“C”；5）滞销，填“E”；
C20: 6）积压，填“D”并在备注中填写已积压时间“1年以内”、“1~2年”、“2~3年”、“3年以上”；7）其他情形用文字表述。

Sheet 3-9-4委托加工物资
A1: 返回索引页 | B1: 返回
A2: 存货—委托加工物资评估明细表
A3: ='1-汇总表'!A3:G3 -> 评估基准日：2020年7月30日
P4: 表3-9-4
A5: ='1-汇总表'!A5 -> 被评估单位（或产权持有单位）：贡山县隆鑫矿业有限公司 | P5: 金额单位：人民币元
A6: 序号 | B6: 名称及规格型号 | C6: 加工单位名称 | D6: 计量单位 | E6: 审计前账面值 | H6: 账面价值 | K6: 实际数量 | L6: 评估价值 | N6: 增减值 | O6: 增值率% | P6: 备注
E7: 数量 | F7: 单价 | G7: 金额 | H7: 数量 | I7: 单价 | J7: 金额 | L7: 单价 | M7: 金额
F8: =IF(E8=0,"",G8/E8) | I8: =IF(H8=0,"",J8/H8) | O8: =IF(J8=0,"",(M8-J8)*J8*100)
F9: =IF(E9=0,"",G9/E9) | I9: =IF(H9=0,"",J9/H9) | O9: =IF(J9=0,"",(M9-J9)*J9*100)
F10: =IF(E10=0,"",G10/E10) | I10: =IF(H10=0,"",J10/H10) | O10: =IF(J10=0,"",(M10-J10)*J10*100)
F11: =IF(E11=0,"",G11/E11) | I11: =IF(H11=0,"",J11/H11) | O11: =IF(J11=0,"",(M11-J11)*J11*100)
F12: =IF(E12=0,"",G12/E12) | I12: =IF(H12=0,"",J12/H12) | O12: =IF(J12=0,"",(M12-J12)*J12*100)
F13: =IF(E13=0,"",G13/E13) | I13: =IF(H13=0,"",J13/H13) | O13: =IF(J13=0,"",(M13-J13)*J13*100)
F14: =IF(E14=0,"",G14/E14) | I14: =IF(H14=0,"",J14/H14) | O14: =IF(J14=0,"",(M14-J14)*J14*100)
F15: =IF(E15=0,"",G15/E15) | I15: =IF(H15=0,"",J15/H15) | O15: =IF(J15=0,"",(M15-J15)*J15*100)
F16: =IF(E16=0,"",G16/E16) | I16: =IF(H16=0,"",J16/H16) | O16: =IF(J16=0,"",(M16-J16)*J16*100)
F17: =IF(E17=0,"",G17/E17) | I17: =IF(H17=0,"",J17/H17) | O17: =IF(J17=0,"",(M17-J17)*J17*100)
F18: =IF(E18=0,"",G18/E18) | I18: =IF(H18=0,"",J18/H18) | O18: =IF(J18=0,"",(M18-J18)*J18*100)
F19: =IF(E19=0,"",G19/E19) | I19: =IF(H19=0,"",J19/H19) | O19: =IF(J19=0,"",(M19-J19)*J19*100)
... F25: =IF(E25=0,"",G25/E25) | I25: =IF(H25=0,"",J25/H25) | O25: =IF(J25=0,"",(M25-J25)*J25*100)
A26: 合 计 | F26: =IF(E26=0,"",G26/E26) | I26: =IF(H26=0,"",J26/H26) | J26: =SUM(J8:J25) -> 0 | M26: =SUM(M8:M25) -> 0 | N26: =M26-J26 -> 0 | O26: =IF(J26=0,"",(M26-J26)*J26*100)
A27: 减：委托加工物资减值准备 | N27: =M27-J27 -> 0 | O27: =IF(J27=0,"",(M27-J27)*J27*100)
A28: 合 计 | G28: =SUM(G8:G27) -> 0 | J28: =J26-J27 -> 0 | M28: =M26-M27 -> 0 | N28: =M28-J28 -> 0 | O28: =IF(J28=0,"",(M28-J28)*J28*100)
A29: =封面!D17&封面!E17 -> 被评估单位（或产权持有单位）填表人： | N29: =评估人员!C3&"："&评估人员!D10 -> 评估人员：
A30: =封面!D19&封面!E19&封面!F19&封面!G19&封面!H19&封面!I19&封面!J19 -> 填表日期：2020年5月20日

Sheet 3-9-5产成品（库存商品）
A1: 返回索引页 | B1: 返回
A2: 存货—产成品（库存商品）评估明细表
A3: ='1-汇总表'!A3:G3 -> 评估基准日：2020年7月30日
O4: 表3-9-5
A5: ='1-汇总表'!A5 -> 被评估单位（或产权持有单位）：贡山县隆鑫矿业有限公司 | O5: 金额单位：人民币元
A6: 序号 | B6: 名称及规格型号 | C6: 计量 单位 | D6: 审计前账面值 | G6: 账面价值 | J6: 实际数量 | K6: 评估价值 | M6: 增减值 | N6: 增值率% | O6: 备注
D7: 数量 | E7: 单价 | F7: 金额 | G7: 数量 | H7: 单价 | I7: 金额 | K7: 单价 | L7: 金额
E16: =IF(D16=0,"",F16/D16) | H16: =IF(G16=0,"",I16/G16) | N16: =IF(I16=0,"",(L16-I16)/I16*100)
E17: =IF(D17=0,"",F17/D17) | H17: =IF(G17=0,"",I17/G17) | N17: =IF(I17=0,"",(L17-I17)/I17*100)
E18: =IF(D18=0,"",F18/D18) | H18: =IF(G18=0,"",I18/G18) | N18: =IF(I18=0,"",(L18-I18)/I18*100)
E19: =IF(D19=0,"",F19/D19) | H19: =IF(G19=0,"",I19/G19) | N19: =IF(I19=0,"",(L19-I19)/I19*100)
E20: =IF(D20=0,"",F20/D20) | H20: =IF(G20=0,"",I20/G20) | N20: =IF(I20=0,"",(L20-I20)/I20*100)
E21: =IF(D21=0,"",F21/D21) | H21: =IF(G21=0,"",I21/G21) | N21: =IF(I21=0,"",(L21-I21)/I21*100)
E22: =IF(D22=0,"",F22/D22) | H22: =IF(G22=0,"",I22/G22) | N22: =IF(I22=0,"",(L22-I22)/I22*100)
A23: 合 计 | E23: =IF(D23=0,"",F23/D23) | H23: =IF(G23=0,"",I23/G23) | I23: =SUM(I8:I22) -> 0 | L23: =SUM(L8:L22) -> 0 | M23: =SUM(M8:M22) -> 0 | N23: =SUM(N8:N22) -> 0
A24: 减：产成品（库存商品）减值准备 | M24: =L24-I24 -> 0 | N24: =IF(I24=0,"",(L24-I24)/I24*100)
A25: 合 计 | F25: =SUM(F8:F24) -> 0 | I25: =I23-I24 -> 0 | L25: =L23-L24 -> 0 | M25: =L25-I25 -> 0 | N25: =IF(I25=0,"",(L25-I25)/I25*100)
A26: =封面!D17&封面!E17 -> 被评估单位（或产权持有单位）填表人： | M26: =评估人员!C3&"："&评估人员!D10 -> 评估人员：
A27: =封面!D19&封面!E19&封面!F19&封面!G19&封面!H19&封面!I19&封面!J19 -> 填表日期：2020年5月20日
B28: 注1： | C28: 1）正常，无需填写；2）残次，填“A”；3）变质，填“B”；4）毁损，填“C”；5）滞销，填“E”；
C29: 6）积压，填“D”并在备注中填写已积压时间“1年以内”、“1~2年”、“2~3年”、“3年以上”；7）其他情形用文字表述。

Sheet 3-9-6在产品（自制半成品）
A1: 返回索引页 | B1: 返回
A2: 存货—在产品（自制半成品）评估明细表
A3: ='1-汇总表'!A3:G3 -> 评估基准日：2020年7月30日
O4: 表3-9-6
A5: ='1-汇总表'!A5 -> 被评估单位（或产权持有单位）：贡山县隆鑫矿业有限公司 | O5: 金额单位：人民币元
A6: 序号 | B6: 名称及规格型号 | C6: 计量单位 | D6: 审计前账面值 | G6: 账面价值 | J6: 实际数量 | K6: 评估价值 | M6: 增减值 | N6: 增值率% | O6: 备注
D7: 数量 | E7: 单价 | F7: 金额 | G7: 数量 | H7: 单价 | I7: 金额 | K7: 单价 | L7: 金额
E8: =IF(D8=0,"",F8/D8) | H8: =IF(G8=0,"",I8/G8) | N8: =IF(I8=0,"",(L8-I8)/I8*100)
E9: =IF(D9=0,"",F9/D9) | H9: =IF(G9=0,"",I9/G9) | N9: =IF(I9=0,"",(L9-I9)/I9*100)
E10: =IF(D10=0,"",F10/D10) | H10: =IF(G10=0,"",I10/G10) | N10: =IF(I10=0,"",(L10-I10)/I10*100)
E11: =IF(D11=0,"",F11/D11) | H11: =IF(G11=0,"",I11/G11) | N11: =IF(I11=0,"",(L11-I11)/I11*100)
E12: =IF(D12=0,"",F12/D12) | H12: =IF(G12=0,"",I12/G12) | N12: =IF(I12=0,"",(L12-I12)/I12*100)
E13: =IF(D13=0,"",F13/D13) | H13: =IF(G13=0,"",I13/G13) | N13: =IF(I13=0,"",(L13-I13)/I13*100)
E14: =IF(D14=0,"",F14/D14) | H14: =IF(G14=0,"",I14/G14) | N14: =IF(I14=0,"",(L14-I14)/I14*100)
E15: =IF(D15=0,"",F15/D15) | H15: =IF(G15=0,"",I15/G15) | N15: =IF(I15=0,"",(L15-I15)/I15*100)
E16: =IF(D16=0,"",F16/D16) | H16: =IF(G16=0,"",I16/G16) | N16: =IF(I16=0,"",(L16-I16)/I16*100)
E17: =IF(D17=0,"",F17/D17) | H17: =IF(G17=0,"",I17/G17) | N17: =IF(I17=0,"",(L17-I17)/I17*100)
E18: =IF(D18=0,"",F18/D18) | H18: =IF(G18=0,"",I18/G18) | N18: =IF(I18=0,"",(L18-I18)/I18*100)
E19: =IF(D19=0,"",F19/D19) | H19: =IF(G19=0,"",I19/G19) | N19: =IF(I19=0,"",(L19-I19)/I19*100)
... E25: =IF(D25=0,"",F25/D25) | H25: =IF(G25=0,"",I25/G25) | N25: =IF(I25=0,"",(L25-I25)/I25*100)
A26: 合 计 | E26: =IF(D26=0,"",F26/D26) | H26: =IF(G26=0,"",I26/G26) | I26: =SUM(I8:I25) -> 0 | L26: =SUM(L8:L25) -> 0 | M26: =L26-I26 -> 0 | N26: =IF(I26=0,"",(L26-I26)/I26*100)
A27: 减：在产品（自制半成品）减值准备 | M27: =L27-I27 -> 0 | N27: =IF(I27=0,"",(L27-I27)/I27*100)
A28: 合 计 | F28: =SUM(F8:F27) -> 0 | I28: =I26-I27 -> 0 | L28: =L26-L27 -> 0 | M28: =L28-I28 -> 0 | N28: =IF(I28=0,"",(L28-I28)/I28*100)
A29: =封面!$D$17&封面!$E$17 -> 被评估单位（或产权持有单位）填表人： | M29: =评估人员!$C$3&"："&评估人员!$D$10 -> 评估人员：
A30: =封面!$D$19&封面!$E$19&封面!$F$19&封面!$G$19&封面!$H$19&封面!$I$19&封面!$J$19 -> 填表日期：2020年5月20日

Sheet 3-9-7发出商品
A1: 返回索引页 | B1: 返回
A2: 存货—发出商品评估明细表
A3: ='1-汇总表'!A3:G3 -> 评估基准日：2020年7月30日
P4: 表3-9-7
A5: ='1-汇总表'!A5 -> 被评估单位（或产权持有单位）：贡山县隆鑫矿业有限公司 | P5: 金额单位：人民币元
A6: 序号 | B6: 商品名称 | C6: 对方单位名称 | D6: 计量单位 | E6: 审计前账面值 | H6: 账面价值 | K6: 实际数量 | L6: 评估价值 | N6: 增减值 | O6: 增值率% | P6: 备注
E7: 数量 | F7: 单价 | G7: 金额 | H7: 数量 | I7: 单价 | J7: 金额 | L7: 单价 | M7: 金额
F8: =IF(E8=0,"",G8/E8) | I8: =IF(H8=0,"",J8/H8) | O8: =IF(J8=0,"",(M8-J8)/J8*100)
F9: =IF(E9=0,"",G9/E9) | I9: =IF(H9=0,"",J9/H9) | O9: =IF(J9=0,"",(M9-J9)/J9*100)
F10: =IF(E10=0,"",G10/E10) | I10: =IF(H10=0,"",J10/H10) | O10: =IF(J10=0,"",(M10-J10)/J10*100)
