Workbook

Sheet 汇总
A1: 评估汇总表
A2: 评估基准日2020年6月18日
A3: 序号 | B3: 名称 | C3: 面积（平方米） | D3: 评估值（元） | E3: 评估值（万元） | F3: 备注
A4: 1 | B4: 星海花园未售房地产 | C4: =+'星海花园存货-未售'!E18 -> 317.14 | D4: =+'星海花园存货-未售'!G18 -> 623457 | E4: =+ROUND(D4/10000,2) -> 62.35
A5: 2 | B5: 香港平远国际城多层未售房地产 | C5: =+多层房产21套!E26 -> 1634.62 | D5: =+多层房产21套!G26 -> 5182617 | E5: =+ROUND(D5/10000,2) -> 518.26
A6: 3 | B6: 香港平远国际城高层在建房地产 | C6: =+高层房产389套!E393 -> 24858.71 | D6: =+高层房产389套!G393 -> 87795155 | E6: =+ROUND(D6/10000,2) -> 8779.52
A7: 合计 | C7: =SUM(C4:C6) -> 26810.47 | D7: =SUM(D4:D6) -> 93601229 | E7: =SUM(E4:E6) -> 9360.13
A8: 4 | B8: 房屋续建部分价值 | C8: 24858.71 | D8: =C8*450 -> 11186420 | E8: 1118.64
A9: 合计 | C9: =SUM(C4:C6) -> 26810.47 | D9: =SUM(D7:D8) -> 1.0478765e+08 | E9: =+ROUND(D9/10000,2) -> 10478.76

Sheet 星海花园存货-未售
A1: 星海花园未售房地产评估明细表
A2: 评估基准日2020年6月18日
A3: 序号 | B3: 类型 | C3: 楼号 | D3: 房号 | E3: 建筑面积（㎡） | F3: 单价（元/㎡）（元/个） | G3: 总价（元）
A4: 1 | B4: 住宅 | C4: 1# | D4: 1-601 | E4: 75.55 | F4: =+ROUND('[1]10月13日新给的多层'!$I$20*0.95,0) -> 2829 | G4: =+ROUND(E4*F4,0) -> 213731
A5: 2 | B5: 车库 | C5: 2#车库 | D5: 101 | E5: 28.38 | F5: =+[2]Sheet2!$F$3 -> 40300 | G5: =+F5 -> 40300
A6: 3 | B6: 车库 | C6: 2#车库 | D6: 107 | E6: 18.1 | F6: =+[2]Sheet2!$F$4 -> 36270 | G6: =+F6 -> 36270
A7: 4 | B7: 车库 | C7: 6#车库 | D7: 108 | E7: 17.73 | F7: =+[2]Sheet2!$F$5 -> 36270 | G7: =+F7 -> 36270
A8: 5 | B8: 车库 | C8: 6#车库 | D8: 109 | E8: 17.73 | F8: =+[2]Sheet2!$F$6 -> 36270 | G8: =+F8 -> 36270
A9: 6 | B9: 车库 | C9: 10#车库 | D9: 1012 | E9: 23.94 | F9: =+[2]Sheet2!$F$7 -> 38285 | G9: =+F9 -> 38285
A10: 7 | B10: 车库 | C10: 10#车库 | D10: 1016 | E10: 23.94 | F10: =+[2]Sheet2!$F$8 -> 38285 | G10: =+F10 -> 38285
A11: 8 | B11: 车库 | C11: 12#车库 | D11: 1010 | E11: 23.04 | F11: =+[2]Sheet2!$F$9 -> 38285 | G11: =+F11 -> 38285
A12: 9 | B12: 车库 | C12: 13#车库 | D12: 1013 | E12: 17.77 | F12: =+[2]Sheet2!$F$10 -> 36270 | G12: =+F12 -> 36270
A13: 10 | B13: 储藏室 | C13: 1#储藏室 | D13: 101 | E13: 12.42 | F13: =+[2]Sheet2!$F$11 -> 1543 | G13: =+ROUND(E13*F13,0) -> 19164
A14: 11 | B14: 储藏室 | C14: 1#储藏室 | D14: 102 | E14: 14.7 | F14: =+[2]Sheet2!$F$12 -> 1543 | G14: =+ROUND(E14*F14,0) -> 22682
A15: 12 | B15: 储藏室 | C15: 1#储藏室 | D15: 1012 | E15: 13.86 | F15: =+[2]Sheet2!$F$13 -> 1543 | G15: =+ROUND(E15*F15,0) -> 21386
A16: 13 | B16: 储藏室 | C16: 11#储藏室 | D16: 102 | E16: 11.17 | F16: =+[2]Sheet2!$F$14 -> 1543 | G16: =+ROUND(E16*F16,0) -> 17235
A17: 14 | B17: 储藏室 | C17: 8#储藏室 | D17: 105 | E17: 18.81 | F17: =+[2]Sheet2!$F$14 -> 1543 | G17: =+ROUND(E17*F17,0) -> 29024
B18: 合计 | E18: =SUM(E4:E17) -> 317.14 | G18: =SUM(G4:G17) -> 623457

Sheet 多层房产21套
A1: 香港平远国际城多层未售房地产评估明细表
A2: 评估基准日2020年6月18日
A3: 序号 | B3: 类型 | C3: 楼号 | D3: 房号 | E3: 建筑面积（㎡） | F3: 单价（元/㎡） | G3: 总价（元） | H3: 所在楼层/总楼层 | I3: 备注
A4: 1 | B4: 住宅 | C4: 11 | D4: 2-506 | E4: 65.95 | F4: =+'[3]10月13日新给的多层'!$K$3 -> 3104 | G4: =ROUND(F4*E4,0) -> 204709 | H4: 5/6 | I4: 基价层
A5: 2 | B5: 住宅 | C5: 18 | D5: 3-507 | E5: 64.6 | F5: =+'[3]10月13日新给的多层'!$K$8 -> 2948 | G5: =ROUND(F5*E5,0) -> 190441 | H5: 5/5
A6: 3 | B6: 住宅 | C6: 32 | D6: 4-507 | E6: 64.96 | F6: =+'[3]10月13日新给的多层'!$K$9 -> 2948 | G6: =ROUND(F6*E6,0) -> 191502 | H6: 5/5
A7: 4 | B7: 住宅 | C7: 33 | D7: 2-106 | E7: 66.22 | F7: =+'[3]10月13日新给的多层'!$K$10 -> 3644 | G7: =ROUND(F7*E7,0) -> 241306 | H7: 1/4 | I7: 一楼带院
A8: 5 | B8: 住宅 | C8: 52 | D8: 4-503 | E8: 81.41 | F8: =+'[3]10月13日新给的多层'!$K$15 -> 3104 | G8: =ROUND(F8*E8,0) -> 252697 | H8: 5/6
A9: 6 | B9: 住宅 | C9: 66 | D9: 3-607 | E9: 64.37 | F9: =+'[3]10月13日新给的多层'!$K$20 -> 2948 | G9: =ROUND(F9*E9,0) -> 189763 | H9: 6/6
A10: 7 | B10: 住宅 | C10: 51 | D10: 2-603 | E10: 88.07 | F10: =+'[3]10月13日新给的多层'!$K$23 -> 2948 | G10: =ROUND(F10*E10,0) -> 259630 | H10: 6/6
A11: 8 | B11: 住宅 | C11: 17 | D11: 2-104 | E11: 65.92 | F11: 3644 | G11: 240212 | H11: 1/4 | I11: 一楼带院
A12: 9 | B12: 住宅 | C12: 25 | D12: 5-313 | E12: 256.2 | F12: =+'[4]2021-2-26新增多层'!$K$3 -> 3166 | G12: =ROUND(F12*E12,0) -> 811129 | H12: 3/6
A13: 10 | B13: 住宅 | C13: 31 | D13: 3-609 | E13: 60.81 | F13: =+'[4]2021-2-26新增多层'!$K$4 -> 2948 | G13: =ROUND(F13*E13,0) -> 179268 | H13: 6/6
A14: 11 | B14: 住宅 | C14: 51 | D14: 2-203 | E14: 88.07 | F14: 3784 | G14: 333257 | H14: 2/6
A15: 12 | B15: 住宅 | C15: 51 | D15: 2-303 | E15: 88.07 | F15: 3821 | G15: 336515 | H15: 3/6
A16: 13 | B16: 住宅 | C16: 55 | D16: 2-604 | E16: 67.34 | F16: =+'[4]2021-2-26新增多层'!$K$8 -> 2948 | G16: =ROUND(F16*E16,0) -> 198518 | H16: 6/6
A17: 14 | B17: 住宅 | C17: 62 | D17: 2-604 | E17: 61.15 | F17: =+'[4]2021-2-26新增多层'!$K$9 -> 2948 | G17: =ROUND(F17*E17,0) -> 180270 | H17: 6/6
A18: 15 | B18: 住宅 | C18: 62 | D18: 3-609 | E18: 61.15 | F18: =+'[4]2021-2-26新增多层'!$K$10 -> 2948 | G18: =ROUND(F18*E18,0) -> 180270 | H18: 6/6
A19: 16 | B19: 住宅 | C19: 63 | D19: 1-601 | E19: 63.33 | F19: =+'[4]2021-2-26新增多层'!$K$11 -> 2948 | G19: =ROUND(F19*E19,0) -> 186697 | H19: 6/6
A20: 17 | B20: 住宅 | C20: 71 | D20: 1-503 | E20: 66.86 | F20: =+'[4]2021-2-26新增多层'!$K$12 -> 3104 | G20: =ROUND(F20*E20,0) -> 207533 | H20: 5/6
A21: 18 | B21: 住宅 | C21: 71 | D21: 1-603 | E21: 66.87 | F21: =+'[4]2021-2-26新增多层'!$K$13 -> 2948 | G21: =ROUND(F21*E21,0) -> 197133 | H21: 6/6
A22: 19 | B22: 住宅 | C22: 75 | D22: 2-404 | E22: 64.48 | F22: =+'[4]2021-2-26新增多层'!$K$14 -> 3258 | G22: =ROUND(F22*E22,0) -> 210076 | H22: 4/6
A23: 20 | B23: 住宅 | C23: 91 | D23: 4-611 | E23: 51.75 | F23: =+'[4]2021-2-26新增多层'!$K$15 -> 2948 | G23: =ROUND(F23*E23,0) -> 152559 | H23: 6/6
A24: 21 | B24: 住宅 | C24: 11 | D24: 1-501 | E24: 77.04 | F24: =+'[4]2021-2-26新增多层'!$K$16 -> 3104 | G24: =ROUND(F24*E24,0) -> 239132 | H24: 5/6
E26: =SUM(E4:E24) -> 1634.62 | G26: =SUM(G4:G24) -> 5182617

Sheet 高层房产389套
A1: 香港平远国际城高层在建房地产评估明细表
A2: 评估基准日2020年6月18日
A3: 序号 | B3: 楼号 | C3: 房号 | D3: 类型 | E3: 建筑面积（㎡） | F3: 单价（元/㎡） | G3: 总价（元） | H3: 备注
A4: 1 | B4: 3 | C4: 1501 | D4: 住宅 | E4: 70.62 | F4: 3243 | G4: 229021
A5: 2 | B5: 3 | C5: 1810 | D5: 住宅 | E5: 70.62 | F5: 3372 | G5: 238131
A6: 3 | B6: 3 | C6: 2603 | D6: 住宅 | E6: 97.99 | F6: 3844 | G6: 376674
A7: 4 | B7: 3 | C7: 2703 | D7: 住宅 | E7: 97.99 | F7: 3887 | G7: 380887
A8: 5 | B8: 3 | C8: 2706 | D8: 住宅 | E8: 97.99 | F8: 3910 | G8: 383141
A9: 6 | B9: 3 | C9: 2806 | D9: 住宅 | E9: 97.99 | F9: 3953 | G9: 387354
A10: 7 | B10: 3 | C10: 2903 | D10: 住宅 | E10: 97.99 | F10: 3973 | G10: 389314
A11: 8 | B11: 3 | C11: 2906 | D11: 住宅 | E11: 97.99 | F11: 3996 | G11: 391568
A12: 9 | B12: 3 | C12: 3003 | D12: 住宅 | E12: 97.99 | F12: 4016 | G12: 393528
A13: 10 | B13: 3 | C13: 3101 | D13: 住宅 | E13: 70.62 | F13: =+'[5]3号楼'!$D$272 -> 3931 | G13: =+ROUND(E13*F13,0) -> 277607
A14: 11 | B14: 3 | C14: 3103 | D14: 住宅 | E14: 97.99 | F14: 4059 | G14: 397741
A15: 12 | B15: 3 | C15: 3106 | D15: 住宅 | E15: 97.99 | F15: 4082 | G15: 399995
A16: 13 | B16: 3 | C16: 3206 | D16: 住宅 | E16: 97.99 | F16: 4125 | G16: 404209
A17: 14 | B17: 3 | C17: 3303 | D17: 住宅 | E17: 97.99 | F17: 4059 | G17: 397741
A18: 15 | B18: 3 | C18: 3306 | D18: 住宅 | E18: 97.99 | F18: 4082 | G18: 399995
A19: 16 | B19: 48 | C19: 1002 | D19: 住宅 | E19: 50.14 | F19: 3062 | G19: 153529
A20: 17 | B20: 48 | C20: 1010 | D20: 住宅 | E20: 70.62 | F20: 3028 | G20: 213837
A21: 18 | B21: 48 | C21: 1102 | D21: 住宅 | E21: 50.14 | F21: 3105 | G21: 155685
A22: 19 | B22: 48 | C22: 1104 | D22: 住宅 | E22: 45.03 | F22: 3199 | G22: 144051
A23: 20 | B23: 48 | C23: 1106 | D23: 住宅 | E23: 53.88 | F23: 3165 | G23: 170530
A24: 21 | B24: 48 | C24: 1206 | D24: 住宅 | E24: 53.88 | F24: 3208 | G24: 172847
A25: 22 | B25: 48 | C25: 1209 | D25: 住宅 | E25: 50.14 | F25: 3148 | G25: 157841
... A47: 44 | B47: 48 | C47: 2306 | D47: 住宅 | E47: 53.88 | F47: 3681 | G47: 198332
A48: 45 | B48: 48 | C48: 2307 | D48: 住宅 | E48: 45.03 | F48: =+'[5]48号楼'!$D$208 -> 3715 | G48: =+ROUND(E48*F48,0) -> 167286
A49: 46 | B49: 48 | C49: 2309 | D49: 住宅 | E49: 50.14 | F49: 3621 | G49: 181557
A50: 47 | B50: 48 | C50: 2310 | D50: 住宅 | E50: 70.62 | F50: 3587 | G50: 253314
A51: 48 | B51: 48 | C51: 2402 | D51: 住宅 | E51: 50.14 | F51: 3664 | G51: 183713
A52: 49 | B52: 48 | C52: 2406 | D52: 住宅 | E52: 53.88 | F52: 3724 | G52: 200649
A53: 50 | B53: 48 | C53: 2407 | D53: 住宅 | E53: 45.03 | F53: 3758 | G53: 169223
A54: 51 | B54: 48 | C54: 2409 | D54: 住宅 | E54: 50.14 | F54: 3664 | G54: 183713
A55: 52 | B55: 48 | C55: 2502 | D55: 住宅 | E55: 50.14 | F55: 3707 | G55: 185869
A56: 53 | B56: 48 | C56: 2506 | D56: 住宅 | E56: 53.88 | F56: 3767 | G56: 202966
A57: 54 | B57: 48 | C57: 2507 | D57: 住宅 | E57: 45.03 | F57: =+'[5]48号楼'!$D$228 -> 3801 | G57: =+ROUND(E57*F57,0) -> 171159
A58: 55 | B58: 48 | C58: 2509 | D58: 住宅 | E58: 50.14 | F58: 3707 | G58: 185869
A59: 56 | B59: 48 | C59: 2606 | D59: 住宅 | E59: 97.99 | F59: 3867 | G59: 378927
A60: 57 | B60: 48 | C60: 2607 | D60: 住宅 | E60: 50.14 | F60: 3773 | G60: 189178
A61: 58 | B61: 48 | C61: 2608 | D61: 住宅 | E61: 70.62 | F61: 3739 | G61: 264048
A62: 59 | B62: 48 | C62: 2704 | D62: 住宅 | E62: 53.88 | F62: 3876 | G62: 208839
A63: 60 | B63: 48 | C63: 2706 | D63: 住宅 | E63: 97.99 | F63: 3910 | G63: 383141
A64: 61 | B64: 48 | C64: 2707 | D64: 住宅 | E64: 50.14 | F64: 3816 | G64: 191334
A65: 62 | B65: 48 | C65: 2708 | D65: 住宅 | E65: 70.62 | F65: 3782 | G65: 267085
A66: 63 | B66: 48 | C66: 2802 | D66: 住宅 | E66: 50.14 | F66: 3836 | G66: 192337
A67: 64 | B67: 48 | C67: 2803 | D67: 住宅 | E67: 97.99 | F67: 3930 | G67: 385101
A68: 65 | B68: 48 | C68: 2806 | D68: 住宅 | E68: 97.99 | F68: 3953 | G68: 387354
A69: 66 | B69: 48 | C69: 2807 | D69: 住宅 | E69: 50.14 | F69: 3859 | G69: 193490
... A100: 97 | B100: 48 | C100: 3307 | D100: 住宅 | E100: 50.14 | F100: 3988 | G100: 199958
A101: 98 | B101: 48 | C101: 401 | D101: 住宅 | E101: 70.62 | F101: =+'[5]48号楼'!$D$12 -> 2770 | G101: =+ROUND(E101*F101,0) -> 195617
A102: 99 | B102: 48 | C102: 402 | D102: 住宅 | E102: 50.14 | F102: 2804 | G102: 140593
A103: 100 | B103: 48 | C103: 403 | D103: 住宅 | E103: 56.39 | F103: 2898 | G103: 163418
A104: 101 | B104: 48 | C104: 404 | D104: 住宅 | E104: 45.03 | F104: 2898 | G104: 130497
A105: 102 | B105: 48 | C105: 405 | D105: 住宅 | E105: 53.88 | F105: 2864 | G105: 154312
A106: 103 | B106: 48 | C106: 406 | D106: 住宅 | E106: 53.88 | F106: 2864 | G106: 154312
A107: 104 | B107: 48 | C107: 410 | D107: 住宅 | E107: 70.62 | F107: 2770 | G107: 195617
A108: 105 | B108: 48 | C108: 502 | D108: 住宅 | E108: 50.14 | F108: 2847 | G108: 142749
A109: 106 | B109: 48 | C109: 503 | D109: 住宅 | E109: 56.39 | F109: 2941 | G109: 165843
A110: 107 | B110: 48 | C110: 506 | D110: 住宅 | E110: 53.88 | F110: 2907 | G110: 156629
A111: 108 | B111: 48 | C111: 704 | D111: 住宅 | E111: 45.03 | F111: 3027 | G111: 136306
A112: 109 | B112: 48 | C112: 805 | D112: 住宅 | E112: 53.88 | F112: 3036 | G112: 163580
A113: 110 | B113: 48 | C113: 806 | D113: 住宅 | E113: 53.88 | F113: 3036 | G113: 163580
A114: 111 | B114: 48 | C114: 808 | D114: 住宅 | E114: 56.39 | F114: =+'[5]48号楼'!$D$59 -> 3070 | G114: =+ROUND(E114*F114,0) -> 173117
A115: 112 | B115: 48 | C115: 810 | D115: 住宅 | E115: 70.62 | F115: 2942 | G115: 207764
A116: 113 | B116: 48 | C116: 901 | D116: 住宅 | E116: 70.62 | F116: 2985 | G116: 210801
A117: 114 | B117: 48 | C117: 905 | D117: 住宅 | E117: 53.88 | F117: 3079 | G117: 165897
A118: 115 | B118: 48 | C118: 909 | D118: 住宅 | E118: 50.14 | F118: 3019 | G118: 151373
A119: 116 | B119: 48 | C119: 910 | D119: 住宅 | E119: 70.62 | F119: 2985 | G119: 210801
A120: 117 | B120: 49 | C120: 1006 | D120: 住宅 | E120: 53.99 | F120: 3122 | G120: 168557
A121: 118 | B121: 49 | C121: 1009 | D121: 住宅 | E121: 50.25 | F121: 3062 | G121: 153866
A122: 119 | B122: 49 | C122: 1010 | D122: 住宅 | E122: 70.77 | F122: =+'[5]49号楼'!$D$81 -> 3028 | G122: =+ROUND(E122*F122,0) -> 214292
A123: 120 | B123: 49 | C123: 1106 | D123: 住宅 | E123: 53.99 | F123: 3165 | G123: 170878
A124: 121 | B124: 49 | C124: 1110 | D124: 住宅 | E124: 70.77 | F124: 3071 | G124: 217335
A125: 122 | B125: 49 | C125: 1206 | D125: 住宅 | E125: 53.99 | F125: 3208 | G125: 173200
A126: 123 | B126: 49 | C126: 1210 | D126: 住宅 | E126: 70.77 | F126: 3114 | G126: 220378
A127: 124 | B127: 49 | C127: 1309 | D127: 住宅 | E127: 50.25 | F127: 3191 | G127: 160348
A128: 125 | B128: 49 | C128: 1402 | D128: 住宅 | E128: 50.25 | F128: 3234 | G128: 162509
A129: 126 | B129: 49 | C129: 1406 | D129: 住宅 | E129: 53.99 | F129: 3294 | G129: 177843
A130: 127 | B130: 49 | C130: 1409 | D130: 住宅 | E130: 50.25 | F130: 3234 | G130: 162509
A131: 128 | B131: 49 | C131: 1501 | D131: 住宅 | E131: 70.77 | F131: =+'[5]49号楼'!$D$122 -> 3243 | G131: =+ROUND(E131*F131,0) -> 229507
A132: 129 | B132: 49 | C132: 1506 | D132: 住宅 | E132: 53.99 | F132: 3337 | G132: 180165
A133: 130 | B133: 49 | C133: 1509 | D133: 住宅 | E133: 50.25 | F133: 3277 | G133: 164669
A134: 131 | B134: 49 | C134: 1609 | D134: 住宅 | E134: 50.25 | F134: 3320 | G134: 166830
A135: 132 | B135: 49 | C135: 1610 | D135: 住宅 | E135: 70.77 | F135: 3286 | G135: 232550
A136: 133 | B136: 49 | C136: 1701 | D136: 住宅 | E136: 70.77 | F136: =+'[5]49号楼'!$D$142 -> 3329 | G136: =+ROUND(E136*F136,0) -> 235593
A137: 134 | B137: 49 | C137: 1706 | D137: 住宅 | E137: 53.99 | F137: 3423 | G137: 184808
A138: 135 | B138: 49 | C138: 1710 | D138: 住宅 | E138: 70.77 | F138: 3329 | G138: 235593
A139: 136 | B139: 49 | C139: 1802 | D139: 住宅 | E139: 50.25 | F139: 3406 | G139: 171152
A140: 137 | B140: 49 | C140: 1806 | D140: 住宅 | E140: 53.99 | F140: 3466 | G140: 187129
A141: 138 | B141: 49 | C141: 1809 | D141: 住宅 | E141: 50.25 | F141: 3406 | G141: 171152
A142: 139 | B142: 49 | C142: 1810 | D142: 住宅 | E142: 70.77 | F142: 3372 | G142: 238636
A143: 140 | B143: 49 | C143: 1906 | D143: 住宅 | E143: 53.99 | F143: 3509 | G143: 189451
A144: 141 | B144: 49 | C144: 1909 | D144: 住宅 | E144: 50.25 | F144: 3449 | G144: 173312
A145: 142 | B145: 49 | C145: 1910 | D145: 住宅 | E145: 70.77 | F145: 3415 | G145: 241680
A146: 143 | B146: 49 | C146: 2009 | D146: 住宅 | E146: 50.25 | F146: 3492 | G146: 175473
A147: 144 | B147: 49 | C147: 2010 | D147: 住宅 | E147: 70.77 | F147: 3458 | G147: 244723
A148: 145 | B148: 49 | C148: 2102 | D148: 住宅 | E148: 50.25 | F148: 3535 | G148: 177634
... A165: 162 | B165: 49 | C165: 2502 | D165: 住宅 | E165: 50.25 | F165: 3707 | G165: 186277
A166: 163 | B166: 49 | C166: 2504 | D166: 住宅 | E166: 53.99 | F166: =+'[5]49号楼'!$D$221 -> 3787 | G166: =+ROUND(E166*F166,0) -> 204460
A167: 164 | B167: 49 | C167: 2506 | D167: 住宅 | E167: 98.2 | F167: 3821 | G167: 375222
...
