Workbook

Sheet 汇总
A1: 评估汇总表
A2: 评估基准日2020年6月18日
A3: 序号 | B3: 名称 | C3: 面积（平方米） | D3: 评估值（元） | E3: 评估值（万元） | F3: 备注
A4: 1 | B4: 星海花园未售房地产 | C4: =+'星海花园存货-未售'!E18 -> 317.14 | D4: =+'星海花园存货-未售'!G18 -> 623457 | E4: =+ROUND(D4/10000,2) -> 62.35
A5: 2 | B5: 香港平远国际城多层未售房地产 | C5: =+多层房产21套!E26 -> 1634.62 | D5: =+多层房产21套!G26 -> 5182617 | E5: =+ROUND(D5/10000,2) -> 518.26
A6: 3 | B6: 香港平远国际城高层在建房地产 | C6: =+高层房产389套!E393 -> 24858.71 | D6: =+高层房产389套!G393 -> 87795155 | E6: =+ROUND(D6/10000,2) -> 8779.52
A7: 合计 | C7: =SUM(C4:C6) -> 26810.47 | D7: =SUM(D4:D6) -> 93601229 | E7: =SUM(E4:E6) -> 9360.13
A8: 4 | B8: 房屋续建部分价值 | C8: 24858.71 | D8: =C8*450 -> 11186420 | E8: 1118.64
A9: 合计 | C9: =SUM(C4:C6) -> 26810.47 | D9: =SUM(D7:D8) -> 1.0478765e+08 | E9: =+ROUND(D9/10000,2) -> 10478.76

Sheet 星海花园存货-未售
A1: 星海花园未售房地产评估明细表
A2: 评估基准日2020年6月18日
A3: 序号 | B3: 类型 | C3: 楼号 | D3: 房号 | E3: 建筑面积（㎡） | F3: 单价（元/㎡）（元/个） | G3: 总价（元）
A4: 1 | B4: 住宅 | C4: 1# | D4: 1-601 | E4: 75.55 | F4: =+ROUND('[1]10月13日新给的多层'!$I$20*0.95,0) -> 2829 | G4: =+ROUND(E4*F4,0) -> 213731
A5: 2 | B5: 车库 | C5: 2#车库 | D5: 101 | E5: 28.38 | F5: =+[2]Sheet2!$F$3 -> 40300 | G5: =+F5 -> 40300
A6: 3 | B6: 车库 | C6: 2#车库 | D6: 107 | E6: 18.1 | F6: =+[2]Sheet2!$F$4 -> 36270 | G6: =+F6 -> 36270
A7: 4 | B7: 车库 | C7: 6#车库 | D7: 108 | E7: 17.73 | F7: =+[2]Sheet2!$F$5 -> 36270 | G7: =+F7 -> 36270
A8: 5 | B8: 车库 | C8: 6#车库 | D8: 109 | E8: 17.73 | F8: =+[2]Sheet2!$F$6 -> 36270 | G8: =+F8 -> 36270
A9: 6 | B9: 车库 | C9: 10#车库 | D9: 1012 | E9: 23.94 | F9: =+[2]Sheet2!$F$7 -> 38285 | G9: =+F9 -> 38285
A10: 7 | B10: 车库 | C10: 10#车库 | D10: 1016 | E10: 23.94 | F10: =+[2]Sheet2!$F$8 -> 38285 | G10: =+F10 -> 38285
A11: 8 | B11: 车库 | C11: 12#车库 | D11: 1010 | E11: 23.04 | F11: =+[2]Sheet2!$F$9 -> 38285 | G11: =+F11 -> 38285
A12: 9 | B12: 车库 | C12: 13#车库 | D12: 1013 | E12: 17.77 | F12: =+[2]Sheet2!$F$10 -> 36270 | G12: =+F12 -> 36270
A13: 10 | B13: 储藏室 | C13: 1#储藏室 | D13: 101 | E13: 12.42 | F13: =+[2]Sheet2!$F$11 -> 1543 | G13: =+ROUND(E13*F13,0) -> 19164
A14: 11 | B14: 储藏室 | C14: 1#储藏室 | D14: 102 | E14: 14.7 | F14: =+[2]Sheet2!$F$12 -> 1543 | G14: =+ROUND(E14*F14,0) -> 22682
A15: 12 | B15: 储藏室 | C15: 1#储藏室 | D15: 1012 | E15: 13.86 | F15: =+[2]Sheet2!$F$13 -> 1543 | G15: =+ROUND(E15*F15,0) -> 21386
A16: 13 | B16: 储藏室 | C16: 11#储藏室 | D16: 102 | E16: 11.17 | F16: =+[2]Sheet2!$F$14 -> 1543 | G16: =+ROUND(E16*F16,0) -> 17235
A17: 14 | B17: 储藏室 | C17: 8#储藏室 | D17: 105 | E17: 18.81 | F17: =+[2]Sheet2!$F$14 -> 1543 | G17: =+ROUND(E17*F17,0) -> 29024
B18: 合计 | E18: =SUM(E4:E17) -> 317.14 | G18: =SUM(G4:G17) -> 623457

Sheet 多层房产21套
A1: 香港平远国际城多层未售房地产评估明细表
A2: 评估基准日2020年6月18日
A3: 序号 | B3: 类型 | C3: 楼号 | D3: 房号 | E3: 建筑面积（㎡） | F3: 单价（元/㎡） | G3: 总价（元） | H3: 所在楼层/总楼层 | I3: 备注
A4: 1 | B4: 住宅 | C4: 11 | D4: 2-506 | E4: 65.95 | F4: =+'[3]10月13日新给的多层'!$K$3 -> 3104 | G4: =ROUND(F4*E4,0) -> 204709 | H4: 5/6 | I4: 基价层
A5: 2 | B5: 住宅 | C5: 18 | D5: 3-507 | E5: 64.6 | F5: =+'[3]10月13日新给的多层'!$K$8 -> 2948 | G5: =ROUND(F5*E5,0) -> 190441 | H5: 5/5
A6: 3 | B6: 住宅 | C6: 32 | D6: 4-507 | E6: 64.96 | F6: =+'[3]10月13日新给的多层'!$K$9 -> 2948 | G6: =ROUND(F6*E6,0) -> 191502 | H6: 5/5
A7: 4 | B7: 住宅 | C7: 33 | D7: 2-106 | E7: 66.22 | F7: =+'[3]10月13日新给的多层'!$K$10 -> 3644 | G7: =ROUND(F7*E7,0) -> 241306 | H7: 1/4 | I7: 一楼带院
A8: 5 | B8: 住宅 | C8: 52 | D8: 4-503 | E8: 81.41 | F8: =+'[3]10月13日新给的多层'!$K$15 -> 3104 | G8: =ROUND(F8*E8,0) -> 252697 | H8: 5/6
A9: 6 | B9: 住宅 | C9: 66 | D9: 3-607 | E9: 64.37 | F9: =+'[3]10月13日新给的多层'!$K$20 -> 2948 | G9: =ROUND(F9*E9,0) -> 189763 | H9: 6/6
A10: 7 | B10: 住宅 | C10: 51 | D10: 2-603 | E10: 88.07 | F10: =+'[3]10月13日新给的多层'!$K$23 -> 2948 | G10: =ROUND(F10*E10,0) -> 259630 | H10: 6/6
A11: 8 | B11: 住宅 | C11: 17 | D11: 2-104 | E11: 65.92 | F11: 3644 | G11: 240212 | H11: 1/4 | I11: 一楼带院
A12: 9 | B12: 住宅 | C12: 25 | D12: 5-313 | E12: 256.2 | F12: =+'[4]2021-2-26新增多层'!$K$3 -> 3166 | G12: =ROUND(F12*E12,0) -> 811129 | H12: 3/6
A13: 10 | B13: 住宅 | C13: 31 | D13: 3-609 | E13: 60.81 | F13: =+'[4]2021-2-26新增多层'!$K$4 -> 2948 | G13: =ROUND(F13*E13,0) -> 179268 | H13: 6/6
A14: 11 | B14: 住宅 | C14: 51 | D14: 2-203 | E14: 88.07 | F14: 3784 | G14: 333257 | H14: 2/6
A15: 12 | B15: 住宅 | C15: 51 | D15: 2-303 | E15: 88.07 | F15: 3821 | G15: 336515 | H15: 3/6
A16: 13 | B16: 住宅 | C16: 55 | D16: 2-604 | E16: 67.34 | F16: =+'[4]2021-2-26新增多层'!$K$8 -> 2948 | G16: =ROUND(F16*E16,0) -> 198518 | H16: 6/6
A17: 14 | B17: 住宅 | C17: 62 | D17: 2-604 | E17: 61.15 | F17: =+'[4]2021-2-26新增多层'!$K$9 -> 2948 | G17: =ROUND(F17*E17,0) -> 180270 | H17: 6/6
A18: 15 | B18: 住宅 | C18: 62 | D18: 3-609 | E18: 61.15 | F18: =+'[4]2021-2-26新增多层'!$K$10 -> 2948 | G18: =ROUND(F18*E18,0) -> 180270 | H18: 6/6
A19: 16 | B19: 住宅 | C19: 63 | D19: 1-601 | E19: 63.33 | F19: =+'[4]2021-2-26新增多层'!$K$11 -> 2948 | G19: =ROUND(F19*E19,0) -> 186697 | H19: 6/6
A20: 17 | B20: 住宅 | C20: 71 | D20: 1-503 | E20: 66.86 | F20: =+'[4]2021-2-26新增多层'!$K$12 -> 3104 | G20: =ROUND(F20*E20,0) -> 207533 | H20: 5/6
A21: 18 | B21: 住宅 | C21: 71 | D21: 1-603 | E21: 66.87 | F21: =+'[4]2021-2-26新增多层'!$K$13 -> 2948 | G21: =ROUND(F21*E21,0) -> 197133 | H21: 6/6
A22: 19 | B22: 住宅 | C22: 75 | D22: 2-404 | E22: 64.48 | F22: =+'[4]2021-2-26新增多层'!$K$14 -> 3258 | G22: =ROUND(F22*E22,0) -> 210076 | H22: 4/6
A23: 20 | B23: 住宅 | C23: 91 | D23: 4-611 | E23: 51.75 | F23: =+'[4]2021-2-26新增多层'!$K$15 -> 2948 | G23: =ROUND(F23*E23,0) -> 152559 | H23: 6/6
A24: 21 | B24: 住宅 | C24: 11 | D24: 1-501 | E24: 77.04 | F24: =+'[4]2021-2-26新增多层'!$K$16 -> 3104 | G24: =ROUND(F24*E24,0) -> 239132 | H24: 5/6
E26: =SUM(E4:E24) -> 1634.62 | G26: =SUM(G4:G24) -> 5182617

Sheet 高层房产389套
A1: 香港平远国际城高层在建房地产评估明细表
A2: 评估基准日2020年6月18日
A3: 序号 | B3: 楼号 | C3: 房号 | D3: 类型 | E3: 建筑面积（㎡） | F3: 单价（元/㎡） | G3: 总价（元） | H3: 备注
A4: 1 | B4: 3 | C4: 1501 | D4: 住宅 | E4: 70.62 | F4: 3243 | G4: 229021
A5: 2 | B5: 3 | C5: 1810 | D5: 住宅 | E5: 70.62 | F5: 3372 | G5: 238131
A6: 3 | B6: 3 | C6: 2603 | D6: 住宅 | E6: 97.99 | F6: 3844 | G6: 376674
A7: 4 | B7: 3 | C7: 2703 | D7: 住宅 | E7: 97.99 | F7: 3887 | G7: 380887
A8: 5 | B8: 3 | C8: 2706 | D8: 住宅 | E8: 97.99 | F8: 3910 | G8: 383141
A9: 6 | B9: 3 | C9: 2806 | D9: 住宅 | E9: 97.99 | F9: 3953 | G9: 387354
A10: 7 | B10: 3 | C10: 2903 | D10: 住宅 | E10: 97.99 | F10: 3973 | G10: 389314
A11: 8 | B11: 3 | C11: 2906 | D11: 住宅 | E11: 97.99 | F11: 3996 | G11: 391568
A12: 9 | B12: 3 | C12: 3003 | D12: 住宅 | E12: 97.99 | F12: 4016 | G12: 393528
A13: 10 | B13: 3 | C13: 3101 | D13: 住宅 | E13: 70.62 | F13: =+'[5]3号楼'!$D$272 -> 3931 | G13: =+ROUND(E13*F13,0) -> 277607
A14: 11 | B14: 3 | C14: 3103 | D14: 住宅 | E14: 97.99 | F14: 4059 | G14: 397741
A15: 12 | B15: 3 | C15: 3106 | D15: 住宅 | E15: 97.99 | F15: 4082 | G15: 399995
A16: 13 | B16: 3 | C16: 3206 | D16: 住宅 | E16: 97.99 | F16: 4125 | G16: 404209
A17: 14 | B17: 3 | C17: 3303 | D17: 住宅 | E17: 97.99 | F17: 4059 | G17: 397741
A18: 15 | B18: 3 | C18: 3306 | D18: 住宅 | E18: 97.99 | F18: 4082 | G18: 399995
A19: 16 | B19: 48 | C19: 1002 | D19: 住宅 | E19: 50.14 | F19: 3062 | G19: 153529
A20: 17 | B20: 48 | C20: 1010 | D20: 住宅 | E20: 70.62 | F20: 3028 | G20: 213837
A21: 18 | B21: 48 | C21: 1102 | D21: 住宅 | E21: 50.14 | F21: 3105 | G21: 155685
A22: 19 | B22: 48 | C22: 1104 | D22: 住宅 | E22: 45.03 | F22: 3199 | G22: 144051
A23: 20 | B23: 48 | C23: 1106 | D23: 住宅 | E23: 53.88 | F23: 3165 | G23: 170530
A24: 21 | B24: 48 | C24: 1206 | D24: 住宅 | E24: 53.88 | F24: 3208 | G24: 172847
A25: 22 | B25: 48 | C25: 1209 | D25: 住宅 | E25: 50.14 | F25: 3148 | G25: 157841
... A47: 44 | B47: 48 | C47: 2306 | D47: 住宅 | E47: 53.88 | F47: 3681 | G47: 198332
A48: 45 | B48: 48 | C48: 2307 | D48: 住宅 | E48: 45.03 | F48: =+'[5]48号楼'!$D$208 -> 3715 | G48: =+ROUND(E48*F48,0) -> 167286
A49: 46 | B49: 48 | C49: 2309 | D49: 住宅 | E49: 50.14 | F49: 3621 | G49: 181557
A50: 47 | B50: 48 | C50: 2310 | D50: 住宅 | E50: 70.62 | F50: 3587 | G50: 253314
A51: 48 | B51: 48 | C51: 2402 | D51: 住宅 | E51: 50.14 | F51: 3664 | G51: 183713
A52: 49 | B52: 48 | C52: 2406 | D52: 住宅 | E52: 53.88 | F52: 3724 | G52: 200649
A53: 50 | B53: 48 | C53: 2407 | D53: 住宅 | E53: 45.03 | F53: 3758 | G53: 169223
A54: 51 | B54: 48 | C54: 2409 | D54: 住宅 | E54: 50.14 | F54: 3664 | G54: 183713
A55: 52 | B55: 48 | C55: 2502 | D55: 住宅 | E55: 50.14 | F55: 3707 | G55: 185869
A56: 53 | B56: 48 | C56: 2506 | D56: 住宅 | E56: 53.88 | F56: 3767 | G56: 202966
A57: 54 | B57: 48 | C57: 2507 | D57: 住宅 | E57: 45.03 | F57: =+'[5]48号楼'!$D$228 -> 3801 | G57: =+ROUND(E57*F57,0) -> 171159
A58: 55 | B58: 48 | C58: 2509 | D58: 住宅 | E58: 50.14 | F58: 3707 | G58: 185869
A59: 56 | B59: 48 | C59: 2606 | D59: 住宅 | E59: 97.99 | F59: 3867 | G59: 378927
A60: 57 | B60: 48 | C60: 2607 | D60: 住宅 | E60: 50.14 | F60: 3773 | G60: 189178
A61: 58 | B61: 48 | C61: 2608 | D61: 住宅 | E61: 70.62 | F61: 3739 | G61: 264048
...
